BEGIN:VCALENDAR
VERSION:2.0
PRODID:-//Kingston Liberal Synagogue - ECPv6.15.17.1//NONSGML v1.0//EN
CALSCALE:GREGORIAN
METHOD:PUBLISH
X-ORIGINAL-URL:https://klsonline.org
X-WR-CALDESC:Events for Kingston Liberal Synagogue
REFRESH-INTERVAL;VALUE=DURATION:PT1H
X-Robots-Tag:noindex
X-PUBLISHED-TTL:PT1H
BEGIN:VTIMEZONE
TZID:Europe/London
BEGIN:DAYLIGHT
TZOFFSETFROM:+0000
TZOFFSETTO:+0100
TZNAME:BST
DTSTART:20140330T010000
END:DAYLIGHT
BEGIN:STANDARD
TZOFFSETFROM:+0100
TZOFFSETTO:+0000
TZNAME:GMT
DTSTART:20141026T010000
END:STANDARD
BEGIN:DAYLIGHT
TZOFFSETFROM:+0000
TZOFFSETTO:+0100
TZNAME:BST
DTSTART:20150329T010000
END:DAYLIGHT
BEGIN:STANDARD
TZOFFSETFROM:+0100
TZOFFSETTO:+0000
TZNAME:GMT
DTSTART:20151025T010000
END:STANDARD
BEGIN:DAYLIGHT
TZOFFSETFROM:+0000
TZOFFSETTO:+0100
TZNAME:BST
DTSTART:20160327T010000
END:DAYLIGHT
BEGIN:STANDARD
TZOFFSETFROM:+0100
TZOFFSETTO:+0000
TZNAME:GMT
DTSTART:20161030T010000
END:STANDARD
END:VTIMEZONE
BEGIN:VEVENT
DTSTART;TZID=Europe/London:20150703T183000
DTEND;TZID=Europe/London:20150703T203000
DTSTAMP:20260423T135640
CREATED:20140212T105725Z
LAST-MODIFIED:20150623T100642Z
UID:2736-1435948200-1435955400@klsonline.org
SUMMARY:Chavurah Supper
DESCRIPTION:Monthly 1st Friday of  the month\nFRIDAY NIGHT CHAVURA SUPPER – SUMMER CREAM TEA SPECIAL \nYou are warmly invited to the last Friday night Chavura supper before the summer break. As usual we will be sharing the stories of our week\, singing together\, destressing and sharing food in a relaxing and informal Friday night service using the LJ Youth siddur\, the last service that Student Rabbi Naomi Goldman will be leading as she ends her placement at KLS.  Naomi’s informal services have been very popular\, and we are sad that this is the last one.  But we won’t be sad on the day as we are going to celebrate the British Summer with an after-dinner tea-tasting and talk by Carolynne Farrer\, who opened a teashop last year from where she sells a mixture of vintage and retro teas from small\, local and independent suppliers.  Steve and Carolynne will also be bringing scones\, jam and clotted cream. Please bring a savoury dish to share for supper.  All welcome.  \nGuests are welcome to services @ KLS\, but please contact the office beforehand. \n 
URL:https://klsonline.org/event/shabbat-service-2015-07-03/
CATEGORIES:Regular Services
END:VEVENT
END:VCALENDAR