BEGIN:VCALENDAR
VERSION:2.0
PRODID:-//Kingston Liberal Synagogue - ECPv6.15.17.1//NONSGML v1.0//EN
CALSCALE:GREGORIAN
METHOD:PUBLISH
X-ORIGINAL-URL:https://klsonline.org
X-WR-CALDESC:Events for Kingston Liberal Synagogue
REFRESH-INTERVAL;VALUE=DURATION:PT1H
X-Robots-Tag:noindex
X-PUBLISHED-TTL:PT1H
BEGIN:VTIMEZONE
TZID:Europe/London
BEGIN:DAYLIGHT
TZOFFSETFROM:+0000
TZOFFSETTO:+0100
TZNAME:BST
DTSTART:20140330T010000
END:DAYLIGHT
BEGIN:STANDARD
TZOFFSETFROM:+0100
TZOFFSETTO:+0000
TZNAME:GMT
DTSTART:20141026T010000
END:STANDARD
BEGIN:DAYLIGHT
TZOFFSETFROM:+0000
TZOFFSETTO:+0100
TZNAME:BST
DTSTART:20150329T010000
END:DAYLIGHT
BEGIN:STANDARD
TZOFFSETFROM:+0100
TZOFFSETTO:+0000
TZNAME:GMT
DTSTART:20151025T010000
END:STANDARD
BEGIN:DAYLIGHT
TZOFFSETFROM:+0000
TZOFFSETTO:+0100
TZNAME:BST
DTSTART:20160327T010000
END:DAYLIGHT
BEGIN:STANDARD
TZOFFSETFROM:+0100
TZOFFSETTO:+0000
TZNAME:GMT
DTSTART:20161030T010000
END:STANDARD
END:VTIMEZONE
BEGIN:VEVENT
DTSTART;TZID=Europe/London:20150705T190000
DTEND;TZID=Europe/London:20150705T220000
DTSTAMP:20260423T135643
CREATED:20150526T092438Z
LAST-MODIFIED:20200303T162727Z
UID:3537-1436122800-1436133600@klsonline.org
SUMMARY:Cockney-Yiddish Music Hall with Vivi Lachs
DESCRIPTION:Vivi Lachs returns with Cockney-Yiddish Music Hall at its best with Katsha’anes at South London Liberal Synagogue – part of the Streatham Festival. \nThe show is funny\, feisty and fast with lots of multimedia songs\, sketches and audience participation! \nTickets\, £10 in advance\, available from SLLS\, or on the door.
URL:https://klsonline.org/event/cockney-yiddish-music-hall-with-vivi-lachs/
LOCATION:South London Liberal Synagogue\, 1 Prentis Road\, Streatham\, SW16 1QB\, United States
CATEGORIES:Community Events
END:VEVENT
END:VCALENDAR