BEGIN:VCALENDAR
VERSION:2.0
PRODID:-//Kingston Liberal Synagogue - ECPv6.15.17.1//NONSGML v1.0//EN
CALSCALE:GREGORIAN
METHOD:PUBLISH
X-WR-CALNAME:Kingston Liberal Synagogue
X-ORIGINAL-URL:https://klsonline.org
X-WR-CALDESC:Events for Kingston Liberal Synagogue
REFRESH-INTERVAL;VALUE=DURATION:PT1H
X-Robots-Tag:noindex
X-PUBLISHED-TTL:PT1H
BEGIN:VTIMEZONE
TZID:Europe/London
BEGIN:DAYLIGHT
TZOFFSETFROM:+0000
TZOFFSETTO:+0100
TZNAME:BST
DTSTART:20140330T010000
END:DAYLIGHT
BEGIN:STANDARD
TZOFFSETFROM:+0100
TZOFFSETTO:+0000
TZNAME:GMT
DTSTART:20141026T010000
END:STANDARD
BEGIN:DAYLIGHT
TZOFFSETFROM:+0000
TZOFFSETTO:+0100
TZNAME:BST
DTSTART:20150329T010000
END:DAYLIGHT
BEGIN:STANDARD
TZOFFSETFROM:+0100
TZOFFSETTO:+0000
TZNAME:GMT
DTSTART:20151025T010000
END:STANDARD
BEGIN:DAYLIGHT
TZOFFSETFROM:+0000
TZOFFSETTO:+0100
TZNAME:BST
DTSTART:20160327T010000
END:DAYLIGHT
BEGIN:STANDARD
TZOFFSETFROM:+0100
TZOFFSETTO:+0000
TZNAME:GMT
DTSTART:20161030T010000
END:STANDARD
END:VTIMEZONE
BEGIN:VEVENT
DTSTART;TZID=Europe/London:20150717T200000
DTEND;TZID=Europe/London:20150717T210000
DTSTAMP:20260423T135519
CREATED:20140508T121736Z
LAST-MODIFIED:20150701T141619Z
UID:2808-1437163200-1437166800@klsonline.org
SUMMARY:Shabbat Island Discs Summer Special
DESCRIPTION:Music Service led by Rabbi Charley Baginsky\, Rebekka Wedell (KLS Director of Music) and the KLS Choir\, and featuring KLS members or guests who will reveal their choice of music as part of our regular Shabbat Island Discs feature\, which takes place on the fourth Friday night of each month. \nSummer Special \nThis month instead of a guest\, members of the choir and congregation (THAT’S YOU!) are invited to bring along a favourite Jewish music track.  It can be religious or secular\, and Jewish is defined however you want!  Bring it on your ‘phone\, MP3 player\, or I-pad or old fashioned CD! \nBring something to share for kiddush afterwards! \nBoth members and guests are welcome to take a turn at being a castaway and choosing the music in the coming months . If you’d like a chance\, contact Sandra Webber or Helen In The Office. \nVisitors are welcome to join us at our services – please contact the office beforehand.
URL:https://klsonline.org/event/shabbat-island-discs-with-2014-08-22-2015-05-22-2014-12-26-2015-01-23-2015-05-22-2015-07-24/
CATEGORIES:Regular Services
END:VEVENT
END:VCALENDAR