BEGIN:VCALENDAR
VERSION:2.0
PRODID:-//Kingston Liberal Synagogue - ECPv6.15.17.1//NONSGML v1.0//EN
CALSCALE:GREGORIAN
METHOD:PUBLISH
X-ORIGINAL-URL:https://klsonline.org
X-WR-CALDESC:Events for Kingston Liberal Synagogue
REFRESH-INTERVAL;VALUE=DURATION:PT1H
X-Robots-Tag:noindex
X-PUBLISHED-TTL:PT1H
BEGIN:VTIMEZONE
TZID:Europe/London
BEGIN:DAYLIGHT
TZOFFSETFROM:+0000
TZOFFSETTO:+0100
TZNAME:BST
DTSTART:20140330T010000
END:DAYLIGHT
BEGIN:STANDARD
TZOFFSETFROM:+0100
TZOFFSETTO:+0000
TZNAME:GMT
DTSTART:20141026T010000
END:STANDARD
BEGIN:DAYLIGHT
TZOFFSETFROM:+0000
TZOFFSETTO:+0100
TZNAME:BST
DTSTART:20150329T010000
END:DAYLIGHT
BEGIN:STANDARD
TZOFFSETFROM:+0100
TZOFFSETTO:+0000
TZNAME:GMT
DTSTART:20151025T010000
END:STANDARD
BEGIN:DAYLIGHT
TZOFFSETFROM:+0000
TZOFFSETTO:+0100
TZNAME:BST
DTSTART:20160327T010000
END:DAYLIGHT
BEGIN:STANDARD
TZOFFSETFROM:+0100
TZOFFSETTO:+0000
TZNAME:GMT
DTSTART:20161030T010000
END:STANDARD
END:VTIMEZONE
BEGIN:VEVENT
DTSTART;TZID=Europe/London:20150802T030000
DTEND;TZID=Europe/London:20150802T190000
DTSTAMP:20260423T123308
CREATED:20150318T100634Z
LAST-MODIFIED:20200303T162727Z
UID:3394-1438484400-1438542000@klsonline.org
SUMMARY:Prudential RideLondon
DESCRIPTION:Sunday 2 August (central London\, SW London including Kingston upon Thames & Surrey):  \n\nPrudential RideLondon-Surrey Handcycle Classic – the world’s top handcyclists race over a 15-mile route\, starting from Kingston upon Thames and finishing on The Mall in St James’s Park.\nPrudential RideLondon-Surrey 100 – 25\,000+ amateur cyclists will take on a 100-mile cycle challenge through the closed roads of London and Surrey before finishing on The Mall.\nPrudential RideLondon-Surrey Classic – the world’s best male cyclists will compete in this world-class one-day race through London and Surrey. The race starts in central London before heading into Surrey and returning to London to finish on The Mall.\n\nFurther information on Prudential RideLondon events can be found at www.PrudentialRideLondon.co.uk \nThere will be road closures around Surrey – final routes for the 2015 events will be announced soon.
URL:https://klsonline.org/event/prudential-ridelondon/
CATEGORIES:Community Events
END:VEVENT
END:VCALENDAR