BEGIN:VCALENDAR
VERSION:2.0
PRODID:-//Kingston Liberal Synagogue - ECPv6.15.17.1//NONSGML v1.0//EN
CALSCALE:GREGORIAN
METHOD:PUBLISH
X-WR-CALNAME:Kingston Liberal Synagogue
X-ORIGINAL-URL:https://klsonline.org
X-WR-CALDESC:Events for Kingston Liberal Synagogue
REFRESH-INTERVAL;VALUE=DURATION:PT1H
X-Robots-Tag:noindex
X-PUBLISHED-TTL:PT1H
BEGIN:VTIMEZONE
TZID:Europe/London
BEGIN:DAYLIGHT
TZOFFSETFROM:+0000
TZOFFSETTO:+0100
TZNAME:BST
DTSTART:20140330T010000
END:DAYLIGHT
BEGIN:STANDARD
TZOFFSETFROM:+0100
TZOFFSETTO:+0000
TZNAME:GMT
DTSTART:20141026T010000
END:STANDARD
BEGIN:DAYLIGHT
TZOFFSETFROM:+0000
TZOFFSETTO:+0100
TZNAME:BST
DTSTART:20150329T010000
END:DAYLIGHT
BEGIN:STANDARD
TZOFFSETFROM:+0100
TZOFFSETTO:+0000
TZNAME:GMT
DTSTART:20151025T010000
END:STANDARD
BEGIN:DAYLIGHT
TZOFFSETFROM:+0000
TZOFFSETTO:+0100
TZNAME:BST
DTSTART:20160327T010000
END:DAYLIGHT
BEGIN:STANDARD
TZOFFSETFROM:+0100
TZOFFSETTO:+0000
TZNAME:GMT
DTSTART:20161030T010000
END:STANDARD
END:VTIMEZONE
BEGIN:VEVENT
DTSTART;VALUE=DATE:20150905
DTEND;VALUE=DATE:20150906
DTSTAMP:20260423T140628
CREATED:20150224T131220Z
LAST-MODIFIED:20150224T131220Z
UID:3303-1441411200-1441497599@klsonline.org
SUMMARY:Selichot
DESCRIPTION:
URL:https://klsonline.org/event/selichot-2/
CATEGORIES:Festivals
END:VEVENT
BEGIN:VEVENT
DTSTART;TZID=Europe/London:20150905T094500
DTEND;TZID=Europe/London:20150905T123000
DTSTAMP:20260423T140628
CREATED:20150706T123917Z
LAST-MODIFIED:20200303T162958Z
UID:3575-1441446300-1441456200@klsonline.org
SUMMARY:Beiteinu - Religion School
DESCRIPTION:The school uses the principles of Informal Education to teach a religious knowledge and Hebrew curriculum to over 50 pupils aged between 5-17. It also has a developing early years’ programme. \n  \nThe children have a short breaktime – bring fruit for the snack.  There is a short assembly for all children each week\, and teaching in year groups.  Music\, art and Hebrew teaching feature for children in primary school. \n  \nThe 12-13 year olds prepare for B’nei Mitzvah\, then go on to studying for a GCSE in Jewish Studies\, and then complete their Beiteinu experience in the Kabbalat Torah class.
URL:https://klsonline.org/event/beiteinu-religion-school/
CATEGORIES:Education and Classes
END:VEVENT
BEGIN:VEVENT
DTSTART;TZID=Europe/London:20150905T100000
DTEND;TZID=Europe/London:20150905T110000
DTSTAMP:20260423T140628
CREATED:20150703T112109Z
LAST-MODIFIED:20200303T163325Z
UID:3569-1441447200-1441450800@klsonline.org
SUMMARY:Bookcrashers
DESCRIPTION:We will be discussing “Eleanor Marx” by Rachel Holmes . All are welcome\, whether you have read the book or not.  \nWhy not get a copy of the book from the local independent book shop in Surbiton – Regency Bookshop?  You can order a book to be in the shop usually within 48 hours.  Order on Thursday and pick it up on the way to KLS on Saturday.
URL:https://klsonline.org/event/bookcrashers-8/
CATEGORIES:Education and Classes
END:VEVENT
BEGIN:VEVENT
DTSTART;TZID=Europe/London:20150905T113000
DTEND;TZID=Europe/London:20150905T123000
DTSTAMP:20260423T140628
CREATED:20150706T125010Z
LAST-MODIFIED:20150819T084742Z
UID:3628-1441452600-1441456200@klsonline.org
SUMMARY:Family Service
DESCRIPTION:Saturday morning at 11.30am led by Rabbi Charley Baginsky.\nThis is a chance for the whole family\, and the wider KLS family too\, to pray\, discuss the Torah reading and show off what the children have been up to at religion school. We have multi-lingual renditions of Happy Birthday for all those who have celebrated that month – so far we have sung in English\, Hebrew\, French\, German\, Welsh\, Spanish\, Italian and Russian!  There is also a group for the littlest ones\, ShabbaTots. \nFor more information about the services at KLS see Services
URL:https://klsonline.org/event/family-serivce/
CATEGORIES:Regular Services
END:VEVENT
BEGIN:VEVENT
DTSTART;TZID=Europe/London:20150905T123000
DTEND;TZID=Europe/London:20150905T130000
DTSTAMP:20260423T140628
CREATED:20150706T125835Z
LAST-MODIFIED:20200303T163325Z
UID:3641-1441456200-1441458000@klsonline.org
SUMMARY:HeBrew Café
DESCRIPTION:After the Family Service – our fundraising café selling filled bagels\, crisps\, cake\, sweets and hot and cold drinks
URL:https://klsonline.org/event/hebrew-cafe-7/
CATEGORIES:Education and Classes
END:VEVENT
BEGIN:VEVENT
DTSTART;TZID=Europe/London:20150905T130000
DTEND;TZID=Europe/London:20150905T150000
DTSTAMP:20260423T140628
CREATED:20150706T130505Z
LAST-MODIFIED:20200303T163325Z
UID:3645-1441458000-1441465200@klsonline.org
SUMMARY:Youth Club
DESCRIPTION:For children aged 7 to 16 (school years 3 to 11)\, meets monthly after the Family Service and HeBrew Café at KLS for a range of activities from craft to sports.
URL:https://klsonline.org/event/youth-club-4/
CATEGORIES:Education and Classes
END:VEVENT
BEGIN:VEVENT
DTSTART;TZID=Europe/London:20150905T190000
DTEND;TZID=Europe/London:20150905T210000
DTSTAMP:20260423T140628
CREATED:20150706T131015Z
LAST-MODIFIED:20150818T110852Z
UID:3649-1441479600-1441486800@klsonline.org
SUMMARY:Selichot Service
DESCRIPTION:Come along at 7pm to learn some of the songs that we will be singing in the services over the High Holy Days.  Our Director of Music\, Rebekka Wedell\, will talk about the songs that we sing as well as lead us in learning them. \nFollowed by the Selichot service which will be led by Rabbi Charley Baginsky and the KLS Choir. \nPlease join us at this service\, and do bring something to share for kiddush afterwards. \n  \nIf you are not a member of KLS\, please contact the synagogue office beforehand.
URL:https://klsonline.org/event/selichot-service/
CATEGORIES:Festivals
END:VEVENT
END:VCALENDAR