BEGIN:VCALENDAR
VERSION:2.0
PRODID:-//Kingston Liberal Synagogue - ECPv6.15.17.1//NONSGML v1.0//EN
CALSCALE:GREGORIAN
METHOD:PUBLISH
X-WR-CALNAME:Kingston Liberal Synagogue
X-ORIGINAL-URL:https://klsonline.org
X-WR-CALDESC:Events for Kingston Liberal Synagogue
REFRESH-INTERVAL;VALUE=DURATION:PT1H
X-Robots-Tag:noindex
X-PUBLISHED-TTL:PT1H
BEGIN:VTIMEZONE
TZID:Europe/London
BEGIN:DAYLIGHT
TZOFFSETFROM:+0000
TZOFFSETTO:+0100
TZNAME:BST
DTSTART:20140330T010000
END:DAYLIGHT
BEGIN:STANDARD
TZOFFSETFROM:+0100
TZOFFSETTO:+0000
TZNAME:GMT
DTSTART:20141026T010000
END:STANDARD
BEGIN:DAYLIGHT
TZOFFSETFROM:+0000
TZOFFSETTO:+0100
TZNAME:BST
DTSTART:20150329T010000
END:DAYLIGHT
BEGIN:STANDARD
TZOFFSETFROM:+0100
TZOFFSETTO:+0000
TZNAME:GMT
DTSTART:20151025T010000
END:STANDARD
BEGIN:DAYLIGHT
TZOFFSETFROM:+0000
TZOFFSETTO:+0100
TZNAME:BST
DTSTART:20160327T010000
END:DAYLIGHT
BEGIN:STANDARD
TZOFFSETFROM:+0100
TZOFFSETTO:+0000
TZNAME:GMT
DTSTART:20161030T010000
END:STANDARD
END:VTIMEZONE
BEGIN:VEVENT
DTSTART;TZID=Europe/London:20150906T123000
DTEND;TZID=Europe/London:20150906T170000
DTSTAMP:20260423T105431
CREATED:20150707T094616Z
LAST-MODIFIED:20200303T162727Z
UID:3668-1441542600-1441558800@klsonline.org
SUMMARY:Annual Picnic and Rabbi vs Chair Rounders - NEW VENUE!
DESCRIPTION:Come and join us for the annual picnic (from 12.30pm) and games (from 2 pm) in the park including rounders—or just sit and relax. \n\n\nDo join us even if you don’t play rounders (most people can’t play\, but still try\, and that includes the website editor!!). Remember to bring a picnic lunch and plenty of soft drinks.    Will the Chair be a dab hand at rounders\, or will he revert to his rugby training and tackle the Rabbi? \nLast year someone asked why we didn’t have this event in the park over the road from the Synagogue.  And we couldn’t think why!  Getting here is easier (for most)\, parking is easier\, we have toilets in the Synagogue\, we can make hot drinks if it’s a bit chilly\, we can have ice pops from the freezer\, and if\, horror of horrors\, it rains and rains\, we can play indoor rounders in the hall.  It’s a no-brainer\, so this year we will be in The Park Over The Road. \nIs she batting or catching?
URL:https://klsonline.org/event/annual-picnic-and-rabbi-vs-chair-rounders-new-venue/
LOCATION:Long Ditton Recreation Ground\, Ewell Road\, Long Ditton\, United Kingdom
CATEGORIES:Community Events
END:VEVENT
END:VCALENDAR