BEGIN:VCALENDAR
VERSION:2.0
PRODID:-//Kingston Liberal Synagogue - ECPv6.15.17.1//NONSGML v1.0//EN
CALSCALE:GREGORIAN
METHOD:PUBLISH
X-ORIGINAL-URL:https://klsonline.org
X-WR-CALDESC:Events for Kingston Liberal Synagogue
REFRESH-INTERVAL;VALUE=DURATION:PT1H
X-Robots-Tag:noindex
X-PUBLISHED-TTL:PT1H
BEGIN:VTIMEZONE
TZID:Europe/London
BEGIN:DAYLIGHT
TZOFFSETFROM:+0000
TZOFFSETTO:+0100
TZNAME:BST
DTSTART:20140330T010000
END:DAYLIGHT
BEGIN:STANDARD
TZOFFSETFROM:+0100
TZOFFSETTO:+0000
TZNAME:GMT
DTSTART:20141026T010000
END:STANDARD
BEGIN:DAYLIGHT
TZOFFSETFROM:+0000
TZOFFSETTO:+0100
TZNAME:BST
DTSTART:20150329T010000
END:DAYLIGHT
BEGIN:STANDARD
TZOFFSETFROM:+0100
TZOFFSETTO:+0000
TZNAME:GMT
DTSTART:20151025T010000
END:STANDARD
BEGIN:DAYLIGHT
TZOFFSETFROM:+0000
TZOFFSETTO:+0100
TZNAME:BST
DTSTART:20160327T010000
END:DAYLIGHT
BEGIN:STANDARD
TZOFFSETFROM:+0100
TZOFFSETTO:+0000
TZNAME:GMT
DTSTART:20161030T010000
END:STANDARD
END:VTIMEZONE
BEGIN:VEVENT
DTSTART;VALUE=DATE:20150913
DTEND;VALUE=DATE:20150914
DTSTAMP:20260423T105728
CREATED:20150224T131251Z
LAST-MODIFIED:20150224T131251Z
UID:3304-1442102400-1442188799@klsonline.org
SUMMARY:Erev Rosh Hashanah
DESCRIPTION:
URL:https://klsonline.org/event/erev-rosh-hashanah-2/
CATEGORIES:Festivals
END:VEVENT
BEGIN:VEVENT
DTSTART;TZID=Europe/London:20150913T200000
DTEND;TZID=Europe/London:20150913T213000
DTSTAMP:20260423T105728
CREATED:20150707T090834Z
LAST-MODIFIED:20150707T090834Z
UID:3656-1442174400-1442179800@klsonline.org
SUMMARY:Erev Rosh Hashanah Service
DESCRIPTION:Led by Rabbi Charley Baginsky. \nAdmittance by ticket only.  Non-members wishing to attend High Holyday Services @ KLS must contact the office to buy tickets in advance.  Tickets must be purchased before Erev Rosh Hashanah.
URL:https://klsonline.org/event/erev-rosh-hashanah-service-2/
CATEGORIES:Regular Services
END:VEVENT
END:VCALENDAR