BEGIN:VCALENDAR
VERSION:2.0
PRODID:-//Kingston Liberal Synagogue - ECPv6.15.17.1//NONSGML v1.0//EN
CALSCALE:GREGORIAN
METHOD:PUBLISH
X-ORIGINAL-URL:https://klsonline.org
X-WR-CALDESC:Events for Kingston Liberal Synagogue
REFRESH-INTERVAL;VALUE=DURATION:PT1H
X-Robots-Tag:noindex
X-PUBLISHED-TTL:PT1H
BEGIN:VTIMEZONE
TZID:Europe/London
BEGIN:DAYLIGHT
TZOFFSETFROM:+0000
TZOFFSETTO:+0100
TZNAME:BST
DTSTART:20140330T010000
END:DAYLIGHT
BEGIN:STANDARD
TZOFFSETFROM:+0100
TZOFFSETTO:+0000
TZNAME:GMT
DTSTART:20141026T010000
END:STANDARD
BEGIN:DAYLIGHT
TZOFFSETFROM:+0000
TZOFFSETTO:+0100
TZNAME:BST
DTSTART:20150329T010000
END:DAYLIGHT
BEGIN:STANDARD
TZOFFSETFROM:+0100
TZOFFSETTO:+0000
TZNAME:GMT
DTSTART:20151025T010000
END:STANDARD
BEGIN:DAYLIGHT
TZOFFSETFROM:+0000
TZOFFSETTO:+0100
TZNAME:BST
DTSTART:20160327T010000
END:DAYLIGHT
BEGIN:STANDARD
TZOFFSETFROM:+0100
TZOFFSETTO:+0000
TZNAME:GMT
DTSTART:20161030T010000
END:STANDARD
END:VTIMEZONE
BEGIN:VEVENT
DTSTART;VALUE=DATE:20150927
DTEND;VALUE=DATE:20150928
DTSTAMP:20260423T123353
CREATED:20150224T131437Z
LAST-MODIFIED:20150224T131437Z
UID:3308-1443312000-1443398399@klsonline.org
SUMMARY:Erev Sukkot
DESCRIPTION:
URL:https://klsonline.org/event/erev-sukkot/
CATEGORIES:Festivals
END:VEVENT
BEGIN:VEVENT
DTSTART;TZID=Europe/London:20150927T150000
DTEND;TZID=Europe/London:20150927T154500
DTSTAMP:20260423T123353
CREATED:20150707T093133Z
LAST-MODIFIED:20200303T162727Z
UID:3664-1443366000-1443368700@klsonline.org
SUMMARY:Sukkah Building and Tea
DESCRIPTION:Bring your greenery and flowers and fruit\, or homemade decorations\, and decorate the Sukkah with us.  Afterwards we will have a “bring a dish” tea\, hopefully outside under the Sukkah\, and then a family service. \nBeautiful!
URL:https://klsonline.org/event/sukkah-building-and-tea/
CATEGORIES:Community Events
END:VEVENT
BEGIN:VEVENT
DTSTART;TZID=Europe/London:20150927T154500
DTEND;TZID=Europe/London:20150927T163000
DTSTAMP:20260423T123353
CREATED:20150707T093239Z
LAST-MODIFIED:20150707T093239Z
UID:3665-1443368700-1443371400@klsonline.org
SUMMARY:Erev Sukkot Family Service
DESCRIPTION:Led by Rabbi Charley Baginsky\, a short family service.
URL:https://klsonline.org/event/erev-sukkot-family-service/
CATEGORIES:Regular Services
END:VEVENT
END:VCALENDAR