BEGIN:VCALENDAR
VERSION:2.0
PRODID:-//Kingston Liberal Synagogue - ECPv6.15.17.1//NONSGML v1.0//EN
CALSCALE:GREGORIAN
METHOD:PUBLISH
X-ORIGINAL-URL:https://klsonline.org
X-WR-CALDESC:Events for Kingston Liberal Synagogue
REFRESH-INTERVAL;VALUE=DURATION:PT1H
X-Robots-Tag:noindex
X-PUBLISHED-TTL:PT1H
BEGIN:VTIMEZONE
TZID:Europe/London
BEGIN:DAYLIGHT
TZOFFSETFROM:+0000
TZOFFSETTO:+0100
TZNAME:BST
DTSTART:20140330T010000
END:DAYLIGHT
BEGIN:STANDARD
TZOFFSETFROM:+0100
TZOFFSETTO:+0000
TZNAME:GMT
DTSTART:20141026T010000
END:STANDARD
BEGIN:DAYLIGHT
TZOFFSETFROM:+0000
TZOFFSETTO:+0100
TZNAME:BST
DTSTART:20150329T010000
END:DAYLIGHT
BEGIN:STANDARD
TZOFFSETFROM:+0100
TZOFFSETTO:+0000
TZNAME:GMT
DTSTART:20151025T010000
END:STANDARD
BEGIN:DAYLIGHT
TZOFFSETFROM:+0000
TZOFFSETTO:+0100
TZNAME:BST
DTSTART:20160327T010000
END:DAYLIGHT
BEGIN:STANDARD
TZOFFSETFROM:+0100
TZOFFSETTO:+0000
TZNAME:GMT
DTSTART:20161030T010000
END:STANDARD
END:VTIMEZONE
BEGIN:VEVENT
DTSTART;VALUE=DATE:20151004
DTEND;VALUE=DATE:20151005
DTSTAMP:20260423T105610
CREATED:20150224T131536Z
LAST-MODIFIED:20150224T131536Z
UID:3310-1443916800-1444003199@klsonline.org
SUMMARY:Erev Simchat Torah
DESCRIPTION:
URL:https://klsonline.org/event/erev-simchat-torah-2/
CATEGORIES:Festivals
END:VEVENT
BEGIN:VEVENT
DTSTART;TZID=Europe/London:20151004T160000
DTEND;TZID=Europe/London:20151004T173000
DTSTAMP:20260423T105610
CREATED:20150707T101138Z
LAST-MODIFIED:20150707T101138Z
UID:3669-1443974400-1443979800@klsonline.org
SUMMARY:Erev Simchat Torah Family Service
DESCRIPTION:Family service led by Rabbi Charley Baginsky\, followed by a sweet kiddush – please bring something sweet.
URL:https://klsonline.org/event/erev-simchat-torah-family-service/
CATEGORIES:Regular Services
END:VEVENT
END:VCALENDAR