BEGIN:VCALENDAR
VERSION:2.0
PRODID:-//Kingston Liberal Synagogue - ECPv6.15.17.1//NONSGML v1.0//EN
CALSCALE:GREGORIAN
METHOD:PUBLISH
X-ORIGINAL-URL:https://klsonline.org
X-WR-CALDESC:Events for Kingston Liberal Synagogue
REFRESH-INTERVAL;VALUE=DURATION:PT1H
X-Robots-Tag:noindex
X-PUBLISHED-TTL:PT1H
BEGIN:VTIMEZONE
TZID:Europe/London
BEGIN:DAYLIGHT
TZOFFSETFROM:+0000
TZOFFSETTO:+0100
TZNAME:BST
DTSTART:20140330T010000
END:DAYLIGHT
BEGIN:STANDARD
TZOFFSETFROM:+0100
TZOFFSETTO:+0000
TZNAME:GMT
DTSTART:20141026T010000
END:STANDARD
BEGIN:DAYLIGHT
TZOFFSETFROM:+0000
TZOFFSETTO:+0100
TZNAME:BST
DTSTART:20150329T010000
END:DAYLIGHT
BEGIN:STANDARD
TZOFFSETFROM:+0100
TZOFFSETTO:+0000
TZNAME:GMT
DTSTART:20151025T010000
END:STANDARD
BEGIN:DAYLIGHT
TZOFFSETFROM:+0000
TZOFFSETTO:+0100
TZNAME:BST
DTSTART:20160327T010000
END:DAYLIGHT
BEGIN:STANDARD
TZOFFSETFROM:+0100
TZOFFSETTO:+0000
TZNAME:GMT
DTSTART:20161030T010000
END:STANDARD
END:VTIMEZONE
BEGIN:VEVENT
DTSTART;TZID=Europe/London:20151020T100000
DTEND;TZID=Europe/London:20151020T160000
DTSTAMP:20260423T075059
CREATED:20150826T081653Z
LAST-MODIFIED:20200303T162726Z
UID:3736-1445335200-1445356800@klsonline.org
SUMMARY:Doroteinu visit to Brooklands Museum
DESCRIPTION:We will meet at KLS at 10am and go by car returning at about 4pm.  The museum covers quite a large area but there is a café if anyone does not want to visit the whole site.   Peter Watling\, who gave us the talk in May\, will be our guide. \nThere is also “The Concorde experience”.  You go on board a decommissioned plane and have a “virtual flight”.  This needs to be booked in advance so we need to know numbers. \nMuseum entry is £9.00 for seniors plus £5.00 for Concorde. \nPlease let Nick Osorio or the KLS Office know if you are interested in this outing and whether you could offer to drive.  We already have several drivers available so getting there should be no problem.  Some of you may live nearer the museum than KLS so we could meet some people there.   When we know who is coming we can sort out drivers and passengers.
URL:https://klsonline.org/event/doroteinu-visit-to-brooklands-museum/
CATEGORIES:Community Events
END:VEVENT
BEGIN:VEVENT
DTSTART;TZID=Europe/London:20151020T200000
DTEND;TZID=Europe/London:20151020T220000
DTSTAMP:20260423T075059
CREATED:20150325T121603Z
LAST-MODIFIED:20200303T163324Z
UID:3417-1445371200-1445378400@klsonline.org
SUMMARY:Choir Rehearsal
DESCRIPTION:Usually once or twice monthly on Tuesdays @ 8pm \nThe KLS Choir rehearses once or twice a month (and enjoy tea\, cake and chat!)\, and sings at the monthly music service on the 4th Friday of the month and at other services.  You don’t have to read music\, you don’t have to read Hebrew.  Come and try it!  Singing is a great way to meet people\, blow away life’s cobwebs\, contribute to KLS\, learn about our prayers and about Jewish music.  Interested?  Contact Sandra Webber via the KLS office.
URL:https://klsonline.org/event/choir-rehearsal-14/
CATEGORIES:Education and Classes
END:VEVENT
END:VCALENDAR