BEGIN:VCALENDAR
VERSION:2.0
PRODID:-//Kingston Liberal Synagogue - ECPv6.15.17.1//NONSGML v1.0//EN
CALSCALE:GREGORIAN
METHOD:PUBLISH
X-ORIGINAL-URL:https://klsonline.org
X-WR-CALDESC:Events for Kingston Liberal Synagogue
REFRESH-INTERVAL;VALUE=DURATION:PT1H
X-Robots-Tag:noindex
X-PUBLISHED-TTL:PT1H
BEGIN:VTIMEZONE
TZID:Europe/London
BEGIN:DAYLIGHT
TZOFFSETFROM:+0000
TZOFFSETTO:+0100
TZNAME:BST
DTSTART:20140330T010000
END:DAYLIGHT
BEGIN:STANDARD
TZOFFSETFROM:+0100
TZOFFSETTO:+0000
TZNAME:GMT
DTSTART:20141026T010000
END:STANDARD
BEGIN:DAYLIGHT
TZOFFSETFROM:+0000
TZOFFSETTO:+0100
TZNAME:BST
DTSTART:20150329T010000
END:DAYLIGHT
BEGIN:STANDARD
TZOFFSETFROM:+0100
TZOFFSETTO:+0000
TZNAME:GMT
DTSTART:20151025T010000
END:STANDARD
BEGIN:DAYLIGHT
TZOFFSETFROM:+0000
TZOFFSETTO:+0100
TZNAME:BST
DTSTART:20160327T010000
END:DAYLIGHT
BEGIN:STANDARD
TZOFFSETFROM:+0100
TZOFFSETTO:+0000
TZNAME:GMT
DTSTART:20161030T010000
END:STANDARD
END:VTIMEZONE
BEGIN:VEVENT
DTSTART;TZID=Europe/London:20151023T180000
DTEND;TZID=Europe/London:20151025T150000
DTSTAMP:20260423T075101
CREATED:20150825T102938Z
LAST-MODIFIED:20150825T102938Z
UID:3715-1445623200-1445785200@klsonline.org
SUMMARY:APOW!
DESCRIPTION:LJY Netzer activity weekend for children in school years 3 to 6.  Venue tbc.
URL:https://klsonline.org/event/apow/
END:VEVENT
BEGIN:VEVENT
DTSTART;TZID=Europe/London:20151023T180000
DTEND;TZID=Europe/London:20151025T150000
DTSTAMP:20260423T075101
CREATED:20150825T103034Z
LAST-MODIFIED:20150825T103034Z
UID:3716-1445623200-1445785200@klsonline.org
SUMMARY:NOW!
DESCRIPTION:LJY Netzer activity weekend for children in school years 7 to 8.  Venue tbc.
URL:https://klsonline.org/event/now/
END:VEVENT
BEGIN:VEVENT
DTSTART;TZID=Europe/London:20151023T200000
DTEND;TZID=Europe/London:20151023T210000
DTSTAMP:20260423T075101
CREATED:20140508T121736Z
LAST-MODIFIED:20151007T134711Z
UID:3073-1445630400-1445634000@klsonline.org
SUMMARY:Shabbat Island Discs with.....
DESCRIPTION:Music Service led by Rabbi Charley Baginsky and the KLS Choir\, and featuring KLS members or guests who will reveal their choice of music as part of our regular Shabbat Island Discs feature\, which takes place on the fourth Friday night of each month.  As usual in these services the “guests” will be interviewed\, and this is a great opportunity to find out more about your fellow congregants.  This month we are delighted to welcome Rabbi Dr Deborah Kahn-Harris\, Principal of Leo Baeck College.  In the words of our Rabbi\, Rabbi Dr Deborah Kahn-Harris is a lively\, dynamic\, fascinating lady.  Expect an interesting and wide-ranging choice of music. Rabbi Dr Deborah Kahn-Harris has an extensive CV\, including a PhD in the Torah\, and somehow manages to fit in being the mother to two school age children.  Do join us for a rewarding evening. \nBring something to share for kiddush afterwards! \nBoth members and guests can take a turn at choosing the music. If you’d like a chance\, contact Sandra Webber.
URL:https://klsonline.org/event/shabbat-island-discs-with-2014-08-22-2015-05-22-2014-12-26-2015-01-23-2015-05-22-2015-10-23/
CATEGORIES:Regular Services
END:VEVENT
END:VCALENDAR