BEGIN:VCALENDAR
VERSION:2.0
PRODID:-//Kingston Liberal Synagogue - ECPv6.15.17.1//NONSGML v1.0//EN
CALSCALE:GREGORIAN
METHOD:PUBLISH
X-WR-CALNAME:Kingston Liberal Synagogue
X-ORIGINAL-URL:https://klsonline.org
X-WR-CALDESC:Events for Kingston Liberal Synagogue
REFRESH-INTERVAL;VALUE=DURATION:PT1H
X-Robots-Tag:noindex
X-PUBLISHED-TTL:PT1H
BEGIN:VTIMEZONE
TZID:Europe/London
BEGIN:DAYLIGHT
TZOFFSETFROM:+0000
TZOFFSETTO:+0100
TZNAME:BST
DTSTART:20140330T010000
END:DAYLIGHT
BEGIN:STANDARD
TZOFFSETFROM:+0100
TZOFFSETTO:+0000
TZNAME:GMT
DTSTART:20141026T010000
END:STANDARD
BEGIN:DAYLIGHT
TZOFFSETFROM:+0000
TZOFFSETTO:+0100
TZNAME:BST
DTSTART:20150329T010000
END:DAYLIGHT
BEGIN:STANDARD
TZOFFSETFROM:+0100
TZOFFSETTO:+0000
TZNAME:GMT
DTSTART:20151025T010000
END:STANDARD
BEGIN:DAYLIGHT
TZOFFSETFROM:+0000
TZOFFSETTO:+0100
TZNAME:BST
DTSTART:20160327T010000
END:DAYLIGHT
BEGIN:STANDARD
TZOFFSETFROM:+0100
TZOFFSETTO:+0000
TZNAME:GMT
DTSTART:20161030T010000
END:STANDARD
END:VTIMEZONE
BEGIN:VEVENT
DTSTART;TZID=Europe/London:20151107T080000
DTEND;TZID=Europe/London:20151107T170000
DTSTAMP:20260423T055320
CREATED:20150825T103401Z
LAST-MODIFIED:20150825T103401Z
UID:3718-1446883200-1446915600@klsonline.org
SUMMARY:Kayitz Netzer Taster
DESCRIPTION:Taster event about the tour of Jewish Europe in August 2016\, for children in year 12.  Venue and time tbc.
URL:https://klsonline.org/event/kayitz-netzer-taster/
END:VEVENT
BEGIN:VEVENT
DTSTART;TZID=Europe/London:20151107T100000
DTEND;TZID=Europe/London:20151107T110000
DTSTAMP:20260423T055320
CREATED:20150703T112412Z
LAST-MODIFIED:20200303T163324Z
UID:3571-1446890400-1446894000@klsonline.org
SUMMARY:Bookcrashers
DESCRIPTION:Book choice for November is “A woman of Berlin” by Anon.  All are welcome\, whether you have read the book or not.  \nWhy not get a copy of the book from the local independent book shop in Surbiton – Regency Bookshop?  You can order a book to be in the shop usually within 48 hours.  Order on Thursday and pick it up on the way to KLS on Saturday.
URL:https://klsonline.org/event/bookcrashers-10/
CATEGORIES:Education and Classes
END:VEVENT
BEGIN:VEVENT
DTSTART;TZID=Europe/London:20151107T113000
DTEND;TZID=Europe/London:20151107T124500
DTSTAMP:20260423T055320
CREATED:20150706T125319Z
LAST-MODIFIED:20151028T144030Z
UID:3638-1446895800-1446900300@klsonline.org
SUMMARY:Family Service
DESCRIPTION:Saturday morning at 11.30am led by Gabriel Webber.\nThis is a chance for the whole family\, and the wider KLS family too\, to pray\, discuss the Torah reading and show off what the children have been up to at religion school. We have multi-lingual renditions of Happy Birthday for all those who have celebrated that month – so far we have sung in English\, Hebrew\, French\, German\, Welsh\, Spanish\, Italian and Russian!  There is also a group for the littlest ones\, ShabbaTots. \nFor more information about the services at KLS see Services
URL:https://klsonline.org/event/family-service-2/
CATEGORIES:Regular Services
END:VEVENT
BEGIN:VEVENT
DTSTART;TZID=Europe/London:20151107T123000
DTEND;TZID=Europe/London:20151107T130000
DTSTAMP:20260423T055320
CREATED:20150706T130147Z
LAST-MODIFIED:20200303T163324Z
UID:3643-1446899400-1446901200@klsonline.org
SUMMARY:HeBrew Café
DESCRIPTION:After the Family Service – our fundraising café selling filled bagels\, crisps\, cake\, sweets and hot and cold drinks
URL:https://klsonline.org/event/hebrew-cafe-9/
CATEGORIES:Education and Classes
END:VEVENT
BEGIN:VEVENT
DTSTART;TZID=Europe/London:20151107T130000
DTEND;TZID=Europe/London:20151107T150000
DTSTAMP:20260423T055321
CREATED:20150706T130737Z
LAST-MODIFIED:20200303T163324Z
UID:3647-1446901200-1446908400@klsonline.org
SUMMARY:Youth Club
DESCRIPTION:For children aged 7 to 16 (school years 3 to 11)\, meets monthly after the Family Service and HeBrew Café at KLS for a range of activities from craft to sports.
URL:https://klsonline.org/event/youth-club-6/
CATEGORIES:Education and Classes
END:VEVENT
END:VCALENDAR