BEGIN:VCALENDAR
VERSION:2.0
PRODID:-//Kingston Liberal Synagogue - ECPv6.15.17.1//NONSGML v1.0//EN
CALSCALE:GREGORIAN
METHOD:PUBLISH
X-WR-CALNAME:Kingston Liberal Synagogue
X-ORIGINAL-URL:https://klsonline.org
X-WR-CALDESC:Events for Kingston Liberal Synagogue
REFRESH-INTERVAL;VALUE=DURATION:PT1H
X-Robots-Tag:noindex
X-PUBLISHED-TTL:PT1H
BEGIN:VTIMEZONE
TZID:Europe/London
BEGIN:DAYLIGHT
TZOFFSETFROM:+0000
TZOFFSETTO:+0100
TZNAME:BST
DTSTART:20140330T010000
END:DAYLIGHT
BEGIN:STANDARD
TZOFFSETFROM:+0100
TZOFFSETTO:+0000
TZNAME:GMT
DTSTART:20141026T010000
END:STANDARD
BEGIN:DAYLIGHT
TZOFFSETFROM:+0000
TZOFFSETTO:+0100
TZNAME:BST
DTSTART:20150329T010000
END:DAYLIGHT
BEGIN:STANDARD
TZOFFSETFROM:+0100
TZOFFSETTO:+0000
TZNAME:GMT
DTSTART:20151025T010000
END:STANDARD
BEGIN:DAYLIGHT
TZOFFSETFROM:+0000
TZOFFSETTO:+0100
TZNAME:BST
DTSTART:20160327T010000
END:DAYLIGHT
BEGIN:STANDARD
TZOFFSETFROM:+0100
TZOFFSETTO:+0000
TZNAME:GMT
DTSTART:20161030T010000
END:STANDARD
END:VTIMEZONE
BEGIN:VEVENT
DTSTART;VALUE=DATE:20151115
DTEND;VALUE=DATE:20151123
DTSTAMP:20260420T115051
CREATED:20141208T102358Z
LAST-MODIFIED:20200303T162726Z
UID:3129-1447545600-1448236799@klsonline.org
SUMMARY:Interfaith Week 2015
DESCRIPTION:
URL:https://klsonline.org/event/interfaith-week-2015/
CATEGORIES:Community Events
END:VEVENT
BEGIN:VEVENT
DTSTART;TZID=Europe/London:20151121T111500
DTEND;TZID=Europe/London:20151121T123000
DTSTAMP:20260420T115051
CREATED:20150707T101835Z
LAST-MODIFIED:20151028T144354Z
UID:3671-1448104500-1448109000@klsonline.org
SUMMARY:Shabbat Service
DESCRIPTION:Service held from 11.15am to 12.30pm.  Followed by kiddush.   The service will be led by Gabriel Webber.  See Services for more information on the type of services that we hold at KLS. \n\n\nGuests are welcome to KLS\, but please contact the office beforehand.
URL:https://klsonline.org/event/shabbat-service-15-2015-11-21/
CATEGORIES:Regular Services
END:VEVENT
END:VCALENDAR