BEGIN:VCALENDAR
VERSION:2.0
PRODID:-//Kingston Liberal Synagogue - ECPv6.15.17.1//NONSGML v1.0//EN
CALSCALE:GREGORIAN
METHOD:PUBLISH
X-WR-CALNAME:Kingston Liberal Synagogue
X-ORIGINAL-URL:https://klsonline.org
X-WR-CALDESC:Events for Kingston Liberal Synagogue
REFRESH-INTERVAL;VALUE=DURATION:PT1H
X-Robots-Tag:noindex
X-PUBLISHED-TTL:PT1H
BEGIN:VTIMEZONE
TZID:Europe/London
BEGIN:DAYLIGHT
TZOFFSETFROM:+0000
TZOFFSETTO:+0100
TZNAME:BST
DTSTART:20140330T010000
END:DAYLIGHT
BEGIN:STANDARD
TZOFFSETFROM:+0100
TZOFFSETTO:+0000
TZNAME:GMT
DTSTART:20141026T010000
END:STANDARD
BEGIN:DAYLIGHT
TZOFFSETFROM:+0000
TZOFFSETTO:+0100
TZNAME:BST
DTSTART:20150329T010000
END:DAYLIGHT
BEGIN:STANDARD
TZOFFSETFROM:+0100
TZOFFSETTO:+0000
TZNAME:GMT
DTSTART:20151025T010000
END:STANDARD
BEGIN:DAYLIGHT
TZOFFSETFROM:+0000
TZOFFSETTO:+0100
TZNAME:BST
DTSTART:20160327T010000
END:DAYLIGHT
BEGIN:STANDARD
TZOFFSETFROM:+0100
TZOFFSETTO:+0000
TZNAME:GMT
DTSTART:20161030T010000
END:STANDARD
END:VTIMEZONE
BEGIN:VEVENT
DTSTART;TZID=Europe/London:20151127T200000
DTEND;TZID=Europe/London:20151127T210000
DTSTAMP:20260423T055305
CREATED:20140508T121736Z
LAST-MODIFIED:20151113T132736Z
UID:3120-1448654400-1448658000@klsonline.org
SUMMARY:Shabbat Island Discs with.....
DESCRIPTION:Music Service led by Rabbi Pete Tobias and the KLS Choir\, and featuring KLS member Vince Daly who will reveal his choice of music as part of our regular Shabbat Island Discs feature\, which takes place on the fourth Friday night of each month.  As usual in these services the “guests” will be interviewed\, and this is a great opportunity to find out more about your fellow congregants. \nBring something to share for kiddush afterwards! \nBoth members and guests can take a turn at choosing the music. If you’d like a chance\, contact Sandra Webber.
URL:https://klsonline.org/event/shabbat-island-discs-with-2014-08-22-2015-05-22-2014-12-26-2015-01-23-2015-05-22-2015-11-27/
CATEGORIES:Regular Services
END:VEVENT
END:VCALENDAR