BEGIN:VCALENDAR
VERSION:2.0
PRODID:-//Kingston Liberal Synagogue - ECPv6.15.17.1//NONSGML v1.0//EN
CALSCALE:GREGORIAN
METHOD:PUBLISH
X-WR-CALNAME:Kingston Liberal Synagogue
X-ORIGINAL-URL:https://klsonline.org
X-WR-CALDESC:Events for Kingston Liberal Synagogue
REFRESH-INTERVAL;VALUE=DURATION:PT1H
X-Robots-Tag:noindex
X-PUBLISHED-TTL:PT1H
BEGIN:VTIMEZONE
TZID:Europe/London
BEGIN:DAYLIGHT
TZOFFSETFROM:+0000
TZOFFSETTO:+0100
TZNAME:BST
DTSTART:20140330T010000
END:DAYLIGHT
BEGIN:STANDARD
TZOFFSETFROM:+0100
TZOFFSETTO:+0000
TZNAME:GMT
DTSTART:20141026T010000
END:STANDARD
BEGIN:DAYLIGHT
TZOFFSETFROM:+0000
TZOFFSETTO:+0100
TZNAME:BST
DTSTART:20150329T010000
END:DAYLIGHT
BEGIN:STANDARD
TZOFFSETFROM:+0100
TZOFFSETTO:+0000
TZNAME:GMT
DTSTART:20151025T010000
END:STANDARD
BEGIN:DAYLIGHT
TZOFFSETFROM:+0000
TZOFFSETTO:+0100
TZNAME:BST
DTSTART:20160327T010000
END:DAYLIGHT
BEGIN:STANDARD
TZOFFSETFROM:+0100
TZOFFSETTO:+0000
TZNAME:GMT
DTSTART:20161030T010000
END:STANDARD
END:VTIMEZONE
BEGIN:VEVENT
DTSTART;VALUE=DATE:20151206
DTEND;VALUE=DATE:20151207
DTSTAMP:20260418T181539
CREATED:20150224T131707Z
LAST-MODIFIED:20150224T131707Z
UID:3312-1449360000-1449446399@klsonline.org
SUMMARY:Chanukkah
DESCRIPTION:
URL:https://klsonline.org/event/chanukkah/
CATEGORIES:Festivals
END:VEVENT
BEGIN:VEVENT
DTSTART;TZID=Europe/London:20151206T160000
DTEND;TZID=Europe/London:20151206T180000
DTSTAMP:20260418T181539
CREATED:20150707T102531Z
LAST-MODIFIED:20151202T124940Z
UID:3675-1449417600-1449424800@klsonline.org
SUMMARY:Chanukah Family Service
DESCRIPTION:Family service for all ages led by Rabbi Charley Baginsky.  Bring your Chanukiah and 2 candles to join in with the Big Light Up.  We have a wonderful traditional Chanukah kiddush afterwards – please bring something to share. \n  \nGuests are welcome to join us\, but please contact the Synagogue Office beforehand to ensure that we can give you a warm welcome.
URL:https://klsonline.org/event/chanukah-family-service/
CATEGORIES:Regular Services
END:VEVENT
END:VCALENDAR