BEGIN:VCALENDAR
VERSION:2.0
PRODID:-//Kingston Liberal Synagogue - ECPv6.15.17.1//NONSGML v1.0//EN
CALSCALE:GREGORIAN
METHOD:PUBLISH
X-WR-CALNAME:Kingston Liberal Synagogue
X-ORIGINAL-URL:https://klsonline.org
X-WR-CALDESC:Events for Kingston Liberal Synagogue
REFRESH-INTERVAL;VALUE=DURATION:PT1H
X-Robots-Tag:noindex
X-PUBLISHED-TTL:PT1H
BEGIN:VTIMEZONE
TZID:Europe/London
BEGIN:DAYLIGHT
TZOFFSETFROM:+0000
TZOFFSETTO:+0100
TZNAME:BST
DTSTART:20140330T010000
END:DAYLIGHT
BEGIN:STANDARD
TZOFFSETFROM:+0100
TZOFFSETTO:+0000
TZNAME:GMT
DTSTART:20141026T010000
END:STANDARD
BEGIN:DAYLIGHT
TZOFFSETFROM:+0000
TZOFFSETTO:+0100
TZNAME:BST
DTSTART:20150329T010000
END:DAYLIGHT
BEGIN:STANDARD
TZOFFSETFROM:+0100
TZOFFSETTO:+0000
TZNAME:GMT
DTSTART:20151025T010000
END:STANDARD
BEGIN:DAYLIGHT
TZOFFSETFROM:+0000
TZOFFSETTO:+0100
TZNAME:BST
DTSTART:20160327T010000
END:DAYLIGHT
BEGIN:STANDARD
TZOFFSETFROM:+0100
TZOFFSETTO:+0000
TZNAME:GMT
DTSTART:20161030T010000
END:STANDARD
END:VTIMEZONE
BEGIN:VEVENT
DTSTART;TZID=Europe/London:20151211T180000
DTEND;TZID=Europe/London:20151213T150000
DTSTAMP:20260418T161903
CREATED:20150825T103655Z
LAST-MODIFIED:20150825T103655Z
UID:3720-1449856800-1450018800@klsonline.org
SUMMARY:Kinus
DESCRIPTION:A democratic decision-making event for children in years 7 to 10.  Venue tbc.
URL:https://klsonline.org/event/kinus/
END:VEVENT
BEGIN:VEVENT
DTSTART;TZID=Europe/London:20151212T100000
DTEND;TZID=Europe/London:20151212T110000
DTSTAMP:20260418T161903
CREATED:20150703T112616Z
LAST-MODIFIED:20200303T163323Z
UID:3572-1449914400-1449918000@klsonline.org
SUMMARY:Bookcrashers
DESCRIPTION:No specified book this month\, just come and share with the group books that you have enjoyed.   All are welcome\, whether you have read the book or not.  \nWhy not get a copy of the book from the local independent book shop in Surbiton – Regency Bookshop?  You can order a book to be in the shop usually within 48 hours.  Order on Thursday and pick it up on the way to KLS on Saturday.
URL:https://klsonline.org/event/bookcrashers-11/
CATEGORIES:Education and Classes
END:VEVENT
BEGIN:VEVENT
DTSTART;TZID=Europe/London:20151212T113000
DTEND;TZID=Europe/London:20151212T124500
DTSTAMP:20260418T161903
CREATED:20150706T125431Z
LAST-MODIFIED:20151209T095801Z
UID:3640-1449919800-1449924300@klsonline.org
SUMMARY:Chanukah Family Service
DESCRIPTION:Saturday morning at 11.30am led by Rabbi Charley Baginsky.\nThis is a chance for the whole family\, and the wider KLS family too\, to pray\, discuss the Torah reading and show off what the children have been up to at religion school. We have multi-lingual renditions of Happy Birthday for all those who have celebrated that month – so far we have sung in English\, Hebrew\, French\, German\, Welsh\, Spanish\, Italian and Russian!   \nFor more information about the services at KLS see Services
URL:https://klsonline.org/event/family-service-3/
CATEGORIES:Regular Services
END:VEVENT
BEGIN:VEVENT
DTSTART;TZID=Europe/London:20151212T123000
DTEND;TZID=Europe/London:20151212T130000
DTSTAMP:20260418T161903
CREATED:20150706T130256Z
LAST-MODIFIED:20200303T163323Z
UID:3644-1449923400-1449925200@klsonline.org
SUMMARY:HeBrew Café - this month only\, the Falafel Bar!
DESCRIPTION:After the Family Service – our fundraising café.  For Chanukah we are doing something different – we’re having a Falafel Bar!  In the spirit of Ben Yehudah Street in Jerusalem\, falafel will be served in pitta bread with salad\, accompanied by delicious sauces.  We will also have that Chanuakah tradition – latkes.  Falafels will cost £3 and latkes £1.50. \nIf you yearn for our normal filled bagels (smoked salmon with or without cream cheese\, egg mayo or tuna mayo – at a cost of £2 to £2.50)\, these will be available by pre-order only by the end of Wednesday 9 December. \nCakes\, sweets and hot and cold drinks also on sale.
URL:https://klsonline.org/event/hebrew-cafe-10/
CATEGORIES:Education and Classes
END:VEVENT
BEGIN:VEVENT
DTSTART;TZID=Europe/London:20151212T131500
DTEND;TZID=Europe/London:20151212T150000
DTSTAMP:20260418T161903
CREATED:20150706T130831Z
LAST-MODIFIED:20200303T163323Z
UID:3648-1449926100-1449932400@klsonline.org
SUMMARY:Chanukah Party
DESCRIPTION:Celebrate Chanukah with us.  Games (active and less active)\, crafts\, doughnuts\, drinks\, candles.  Everyone\, whatever your age is welcome.  Small donation of £1 to cover costs.  Please let the office know if you are hoping to join us – we don’t want to have too few doughnuts!
URL:https://klsonline.org/event/youth-club-7/
CATEGORIES:Community Events,Education and Classes
END:VEVENT
END:VCALENDAR