BEGIN:VCALENDAR
VERSION:2.0
PRODID:-//Kingston Liberal Synagogue - ECPv6.15.17.1//NONSGML v1.0//EN
CALSCALE:GREGORIAN
METHOD:PUBLISH
X-WR-CALNAME:Kingston Liberal Synagogue
X-ORIGINAL-URL:https://klsonline.org
X-WR-CALDESC:Events for Kingston Liberal Synagogue
REFRESH-INTERVAL;VALUE=DURATION:PT1H
X-Robots-Tag:noindex
X-PUBLISHED-TTL:PT1H
BEGIN:VTIMEZONE
TZID:Europe/London
BEGIN:DAYLIGHT
TZOFFSETFROM:+0000
TZOFFSETTO:+0100
TZNAME:BST
DTSTART:20150329T010000
END:DAYLIGHT
BEGIN:STANDARD
TZOFFSETFROM:+0100
TZOFFSETTO:+0000
TZNAME:GMT
DTSTART:20151025T010000
END:STANDARD
BEGIN:DAYLIGHT
TZOFFSETFROM:+0000
TZOFFSETTO:+0100
TZNAME:BST
DTSTART:20160327T010000
END:DAYLIGHT
BEGIN:STANDARD
TZOFFSETFROM:+0100
TZOFFSETTO:+0000
TZNAME:GMT
DTSTART:20161030T010000
END:STANDARD
BEGIN:DAYLIGHT
TZOFFSETFROM:+0000
TZOFFSETTO:+0100
TZNAME:BST
DTSTART:20170326T010000
END:DAYLIGHT
BEGIN:STANDARD
TZOFFSETFROM:+0100
TZOFFSETTO:+0000
TZNAME:GMT
DTSTART:20171029T010000
END:STANDARD
END:VTIMEZONE
BEGIN:VEVENT
DTSTART;TZID=Europe/London:20160108T190000
DTEND;TZID=Europe/London:20160108T210000
DTSTAMP:20260418T021322
CREATED:20151209T100715Z
LAST-MODIFIED:20151209T100715Z
UID:3829-1452279600-1452286800@klsonline.org
SUMMARY:Chavurah Supper
DESCRIPTION:Monthly 1st (or 2nd!) Friday of  the month\n\n\nYou are warmly invited to this year’s Chavurah Suppers\, a great way to relax\, let go of the week and welcome in Shabbat with other KLS members. Using the LJ Youth Siddur\, we will be singing together\, sharing our stories from the week that has gone\, de-stressing\, and most importantly sharing food\, in an informal Friday night service and shared supper\, with Gabriel Webber.  Please bring a plated vegetarian or fish supper and\, if possible\,  a favourite dish to share.  All ages welcome. \nAt the earlier-than-usual time of 7pm to make it easier for families to join us\, come along to spend the winter evening with friends welcoming in Shabbat!  Bring a vegetarian or fish dish to share. \nGuests are welcome to services @ KLS\, but please contact the office beforehand.
URL:https://klsonline.org/event/chavurah-supper/
CATEGORIES:Regular Services
END:VEVENT
END:VCALENDAR