BEGIN:VCALENDAR
VERSION:2.0
PRODID:-//Kingston Liberal Synagogue - ECPv6.15.17.1//NONSGML v1.0//EN
CALSCALE:GREGORIAN
METHOD:PUBLISH
X-ORIGINAL-URL:https://klsonline.org
X-WR-CALDESC:Events for Kingston Liberal Synagogue
REFRESH-INTERVAL;VALUE=DURATION:PT1H
X-Robots-Tag:noindex
X-PUBLISHED-TTL:PT1H
BEGIN:VTIMEZONE
TZID:Europe/London
BEGIN:DAYLIGHT
TZOFFSETFROM:+0000
TZOFFSETTO:+0100
TZNAME:BST
DTSTART:20150329T010000
END:DAYLIGHT
BEGIN:STANDARD
TZOFFSETFROM:+0100
TZOFFSETTO:+0000
TZNAME:GMT
DTSTART:20151025T010000
END:STANDARD
BEGIN:DAYLIGHT
TZOFFSETFROM:+0000
TZOFFSETTO:+0100
TZNAME:BST
DTSTART:20160327T010000
END:DAYLIGHT
BEGIN:STANDARD
TZOFFSETFROM:+0100
TZOFFSETTO:+0000
TZNAME:GMT
DTSTART:20161030T010000
END:STANDARD
BEGIN:DAYLIGHT
TZOFFSETFROM:+0000
TZOFFSETTO:+0100
TZNAME:BST
DTSTART:20170326T010000
END:DAYLIGHT
BEGIN:STANDARD
TZOFFSETFROM:+0100
TZOFFSETTO:+0000
TZNAME:GMT
DTSTART:20171029T010000
END:STANDARD
END:VTIMEZONE
BEGIN:VEVENT
DTSTART;TZID=Europe/London:20160115T200000
DTEND;TZID=Europe/London:20160115T210000
DTSTAMP:20260423T055439
CREATED:20140508T120052Z
LAST-MODIFIED:20160108T145440Z
UID:3216-1452888000-1452891600@klsonline.org
SUMMARY:Shabbat Service
DESCRIPTION:The weather may be cold\, but the service will be hot. Join Rabbi Janet for a Friday night service based on Craig Taubman’s Friday Night Live\, the Los Angeles service which started a revolution in synagogue music. Special guest Dereck Rose will join Vince in providing some great music to welcome Shabbat. Please bring something to share for Kiddush.
URL:https://klsonline.org/event/shabbat-service-3-2015-11-20-2016-01-15/
CATEGORIES:Regular Services
END:VEVENT
END:VCALENDAR