BEGIN:VCALENDAR
VERSION:2.0
PRODID:-//Kingston Liberal Synagogue - ECPv6.15.17.1//NONSGML v1.0//EN
CALSCALE:GREGORIAN
METHOD:PUBLISH
X-WR-CALNAME:Kingston Liberal Synagogue
X-ORIGINAL-URL:https://klsonline.org
X-WR-CALDESC:Events for Kingston Liberal Synagogue
REFRESH-INTERVAL;VALUE=DURATION:PT1H
X-Robots-Tag:noindex
X-PUBLISHED-TTL:PT1H
BEGIN:VTIMEZONE
TZID:Europe/London
BEGIN:DAYLIGHT
TZOFFSETFROM:+0000
TZOFFSETTO:+0100
TZNAME:BST
DTSTART:20150329T010000
END:DAYLIGHT
BEGIN:STANDARD
TZOFFSETFROM:+0100
TZOFFSETTO:+0000
TZNAME:GMT
DTSTART:20151025T010000
END:STANDARD
BEGIN:DAYLIGHT
TZOFFSETFROM:+0000
TZOFFSETTO:+0100
TZNAME:BST
DTSTART:20160327T010000
END:DAYLIGHT
BEGIN:STANDARD
TZOFFSETFROM:+0100
TZOFFSETTO:+0000
TZNAME:GMT
DTSTART:20161030T010000
END:STANDARD
BEGIN:DAYLIGHT
TZOFFSETFROM:+0000
TZOFFSETTO:+0100
TZNAME:BST
DTSTART:20170326T010000
END:DAYLIGHT
BEGIN:STANDARD
TZOFFSETFROM:+0100
TZOFFSETTO:+0000
TZNAME:GMT
DTSTART:20171029T010000
END:STANDARD
END:VTIMEZONE
BEGIN:VEVENT
DTSTART;TZID=Europe/London:20160131T140000
DTEND;TZID=Europe/London:20160131T160000
DTSTAMP:20260423T023249
CREATED:20150723T114530Z
LAST-MODIFIED:20200303T162726Z
UID:3696-1454248800-1454256000@klsonline.org
SUMMARY:Holocaust Memorial Day commemoration
DESCRIPTION:What is Holocaust Memorial Day?\n\n\n\nEach year\, communities across Britain come together to remember the millions of people killed in the Holocaust\, Nazi Persecution and in subsequent genocides in Cambodia\, Rwanda\, Bosnia\, Darfur and other parts of the world. The Nazi persecution alone led to the death of some six million Jews. \nThe initiative is supported by the Holocaust Memorial Day Trust who have set the theme for Holocaust Memorial Day in 2016: Don’t stand by. \nThe Royal Borough of Kingston’s Holocaust Memorial Day will be held on Sunday 31 January 2016 in Kingston Guildhall. It is being organised by the Kingston Inter Faith Forum in conjunction with Kingston University. \n  \nThe event is open to all. No booking is required. It will be followed by refreshments.
URL:https://klsonline.org/event/holocaust-memorial-day-commemoration-2/
CATEGORIES:Community Events
END:VEVENT
END:VCALENDAR