BEGIN:VCALENDAR
VERSION:2.0
PRODID:-//Kingston Liberal Synagogue - ECPv6.15.17.1//NONSGML v1.0//EN
CALSCALE:GREGORIAN
METHOD:PUBLISH
X-WR-CALNAME:Kingston Liberal Synagogue
X-ORIGINAL-URL:https://klsonline.org
X-WR-CALDESC:Events for Kingston Liberal Synagogue
REFRESH-INTERVAL;VALUE=DURATION:PT1H
X-Robots-Tag:noindex
X-PUBLISHED-TTL:PT1H
BEGIN:VTIMEZONE
TZID:Europe/London
BEGIN:DAYLIGHT
TZOFFSETFROM:+0000
TZOFFSETTO:+0100
TZNAME:BST
DTSTART:20150329T010000
END:DAYLIGHT
BEGIN:STANDARD
TZOFFSETFROM:+0100
TZOFFSETTO:+0000
TZNAME:GMT
DTSTART:20151025T010000
END:STANDARD
BEGIN:DAYLIGHT
TZOFFSETFROM:+0000
TZOFFSETTO:+0100
TZNAME:BST
DTSTART:20160327T010000
END:DAYLIGHT
BEGIN:STANDARD
TZOFFSETFROM:+0100
TZOFFSETTO:+0000
TZNAME:GMT
DTSTART:20161030T010000
END:STANDARD
BEGIN:DAYLIGHT
TZOFFSETFROM:+0000
TZOFFSETTO:+0100
TZNAME:BST
DTSTART:20170326T010000
END:DAYLIGHT
BEGIN:STANDARD
TZOFFSETFROM:+0100
TZOFFSETTO:+0000
TZNAME:GMT
DTSTART:20171029T010000
END:STANDARD
END:VTIMEZONE
BEGIN:VEVENT
DTSTART;TZID=Europe/London:20160319T094500
DTEND;TZID=Europe/London:20160319T123000
DTSTAMP:20260423T003938
CREATED:20150706T123917Z
LAST-MODIFIED:20200303T162958Z
UID:3613-1458380700-1458390600@klsonline.org
SUMMARY:Beiteinu - Religion School - Purim fun this week!
DESCRIPTION:The school uses the principles of Informal Education to teach a religious knowledge and Hebrew curriculum to over 50 pupils aged between 5-17. It also has a developing early years’ programme. \n  \nThe children have a short breaktime – bring fruit for the snack.  There is a short assembly for all children each week\, and teaching in year groups.  Music\, art and Hebrew teaching feature for children in primary school. \n  \nThe 12-13 year olds prepare for B’nei Mitzvah\, then go on to studying for a GCSE in Jewish Studies\, and then complete their Beiteinu experience in the Kabbalat Torah class. \n  \nThis week we are celebrating the festival of Purim.  Come dressed up as your favourite historical\, fantasy\, biblical\, movie\, theatre\, book character.  Bring traditional food for the competition – savoury or sweet Hamantaschen\, or anything special you normally cook for Purim.  Bring a food donation for the mishloach manot (literally ‘sending of portions’ of food to family\, friends\, community) to be donated to the Kingston Food Bank.  Everyone will join together for the Family Service\, and then after Kiddush\, we will be having a Purim-themed HeBrew Cafe and party. \n  \n  \n 
URL:https://klsonline.org/event/beiteinu-religion-school-2016-03-19/
CATEGORIES:Education and Classes
END:VEVENT
BEGIN:VEVENT
DTSTART;TZID=Europe/London:20160319T113000
DTEND;TZID=Europe/London:20160319T123000
DTSTAMP:20260423T003938
CREATED:20150707T101835Z
LAST-MODIFIED:20160307T124532Z
UID:3878-1458387000-1458390600@klsonline.org
SUMMARY:Purim Shabbat Family Service
DESCRIPTION:This week we are celebrating the festival of Purim.  Come dressed up as your favourite historical\, fantasy\, biblical\, movie\, theatre\, book character.  Bring traditional food for the competition – savoury or sweet Hamantaschen\, or anything special you normally cook for Purim.  Bring a food donation for the mishloach manot (literally ‘sending of portions’ of food to family\, friends\, community) to be donated to the Kingston Food Bank.  Everyone will join together for the Family Service\, led by Rabbi Charley Baginsky and Tammy Rich\, and then after Kiddush\, we will be having a Purim-themed HeBrew Cafe and party. \nLook at Services for more information on the type of services that we hold at KLS. \n\n\nGuests are welcome to KLS\, but please contact the office beforehand.
URL:https://klsonline.org/event/shabbat-service-15-2015-11-28-2016-03-19/
CATEGORIES:Regular Services
END:VEVENT
BEGIN:VEVENT
DTSTART;TZID=Europe/London:20160319T123000
DTEND;TZID=Europe/London:20160319T130000
DTSTAMP:20260423T003938
CREATED:20160307T124145Z
LAST-MODIFIED:20200303T162726Z
UID:4056-1458390600-1458392400@klsonline.org
SUMMARY:Purim HeBrew Cafe
DESCRIPTION:This week we are celebrating the festival of Purim.  Come dressed up as your favourite historical\, fantasy\, biblical\, movie\, theatre\, book character.  Bring traditional food for the competition – savoury or sweet Hamantaschen\, or anything special you normally cook for Purim.  Bring a food donation for the mishloach manot (literally ‘sending of portions’ of food to family\, friends\, community) to be donated to the Kingston Food Bank.  Everyone will join together for the Family Service\, and then after Kiddush\, we will be having a Purim-themed HeBrew Cafe and party.
URL:https://klsonline.org/event/purim-hebrew-cafe/
CATEGORIES:Community Events
END:VEVENT
END:VCALENDAR