BEGIN:VCALENDAR
VERSION:2.0
PRODID:-//Kingston Liberal Synagogue - ECPv6.15.17.1//NONSGML v1.0//EN
CALSCALE:GREGORIAN
METHOD:PUBLISH
X-ORIGINAL-URL:https://klsonline.org
X-WR-CALDESC:Events for Kingston Liberal Synagogue
REFRESH-INTERVAL;VALUE=DURATION:PT1H
X-Robots-Tag:noindex
X-PUBLISHED-TTL:PT1H
BEGIN:VTIMEZONE
TZID:Europe/London
BEGIN:DAYLIGHT
TZOFFSETFROM:+0000
TZOFFSETTO:+0100
TZNAME:BST
DTSTART:20150329T010000
END:DAYLIGHT
BEGIN:STANDARD
TZOFFSETFROM:+0100
TZOFFSETTO:+0000
TZNAME:GMT
DTSTART:20151025T010000
END:STANDARD
BEGIN:DAYLIGHT
TZOFFSETFROM:+0000
TZOFFSETTO:+0100
TZNAME:BST
DTSTART:20160327T010000
END:DAYLIGHT
BEGIN:STANDARD
TZOFFSETFROM:+0100
TZOFFSETTO:+0000
TZNAME:GMT
DTSTART:20161030T010000
END:STANDARD
BEGIN:DAYLIGHT
TZOFFSETFROM:+0000
TZOFFSETTO:+0100
TZNAME:BST
DTSTART:20170326T010000
END:DAYLIGHT
BEGIN:STANDARD
TZOFFSETFROM:+0100
TZOFFSETTO:+0000
TZNAME:GMT
DTSTART:20171029T010000
END:STANDARD
END:VTIMEZONE
BEGIN:VEVENT
DTSTART;TZID=Europe/London:20160430T113000
DTEND;TZID=Europe/London:20160430T123000
DTSTAMP:20260423T004249
CREATED:20150707T101835Z
LAST-MODIFIED:20160215T135419Z
UID:3884-1462015800-1462019400@klsonline.org
SUMMARY:Family Service - Farewell to Rabbi Charley Baginsky
DESCRIPTION:Family service held from 11.30am to 12.30pm.  The service will be led by Rabbis Charley Baginsky and Danny Rich\, with Tammy Rich\, Rebekkah Wedell\, the KLS Choir\, and Beiteinu singers\, making our farewell to Rabbi Charley. \nThere will be a valedictory kiddush.   See Services for more information on the type of services that we hold at KLS. \n\n\nGuests are welcome to KLS\, but please contact the office beforehand.
URL:https://klsonline.org/event/shabbat-service-15-2015-11-28-2016-04-30/
CATEGORIES:Regular Services
END:VEVENT
END:VCALENDAR