BEGIN:VCALENDAR
VERSION:2.0
PRODID:-//Kingston Liberal Synagogue - ECPv6.15.17.1//NONSGML v1.0//EN
CALSCALE:GREGORIAN
METHOD:PUBLISH
X-WR-CALNAME:Kingston Liberal Synagogue
X-ORIGINAL-URL:https://klsonline.org
X-WR-CALDESC:Events for Kingston Liberal Synagogue
REFRESH-INTERVAL;VALUE=DURATION:PT1H
X-Robots-Tag:noindex
X-PUBLISHED-TTL:PT1H
BEGIN:VTIMEZONE
TZID:Europe/London
BEGIN:DAYLIGHT
TZOFFSETFROM:+0000
TZOFFSETTO:+0100
TZNAME:BST
DTSTART:20150329T010000
END:DAYLIGHT
BEGIN:STANDARD
TZOFFSETFROM:+0100
TZOFFSETTO:+0000
TZNAME:GMT
DTSTART:20151025T010000
END:STANDARD
BEGIN:DAYLIGHT
TZOFFSETFROM:+0000
TZOFFSETTO:+0100
TZNAME:BST
DTSTART:20160327T010000
END:DAYLIGHT
BEGIN:STANDARD
TZOFFSETFROM:+0100
TZOFFSETTO:+0000
TZNAME:GMT
DTSTART:20161030T010000
END:STANDARD
BEGIN:DAYLIGHT
TZOFFSETFROM:+0000
TZOFFSETTO:+0100
TZNAME:BST
DTSTART:20170326T010000
END:DAYLIGHT
BEGIN:STANDARD
TZOFFSETFROM:+0100
TZOFFSETTO:+0000
TZNAME:GMT
DTSTART:20171029T010000
END:STANDARD
END:VTIMEZONE
BEGIN:VEVENT
DTSTART;VALUE=DATE:20160710
DTEND;VALUE=DATE:20160804
DTSTAMP:20260422T150130
CREATED:20150825T104507Z
LAST-MODIFIED:20150825T104507Z
UID:3728-1468108800-1470268799@klsonline.org
SUMMARY:Israel Tour
DESCRIPTION:For children in school year 11.  Dates tbc.
URL:https://klsonline.org/event/israel-tour/
END:VEVENT
BEGIN:VEVENT
DTSTART;TZID=Europe/London:20160722T200000
DTEND;TZID=Europe/London:20160722T213000
DTSTAMP:20260422T150130
CREATED:20160210T152428Z
LAST-MODIFIED:20160628T130700Z
UID:4008-1469217600-1469223000@klsonline.org
SUMMARY:Shabbat Music Service
DESCRIPTION:Music Service led by Rabbi Janet Darley with the KLS Choir\, and music this month on the theme of summer\, which takes place on the fourth Friday night of each month. \nBring something to share for kiddush afterwards!
URL:https://klsonline.org/event/shabbat-island-discs-with-2-2016-07-22/
CATEGORIES:Regular Services
END:VEVENT
END:VCALENDAR