BEGIN:VCALENDAR
VERSION:2.0
PRODID:-//Kingston Liberal Synagogue - ECPv6.15.17.1//NONSGML v1.0//EN
CALSCALE:GREGORIAN
METHOD:PUBLISH
X-WR-CALNAME:Kingston Liberal Synagogue
X-ORIGINAL-URL:https://klsonline.org
X-WR-CALDESC:Events for Kingston Liberal Synagogue
REFRESH-INTERVAL;VALUE=DURATION:PT1H
X-Robots-Tag:noindex
X-PUBLISHED-TTL:PT1H
BEGIN:VTIMEZONE
TZID:Europe/London
BEGIN:DAYLIGHT
TZOFFSETFROM:+0000
TZOFFSETTO:+0100
TZNAME:BST
DTSTART:20160327T010000
END:DAYLIGHT
BEGIN:STANDARD
TZOFFSETFROM:+0100
TZOFFSETTO:+0000
TZNAME:GMT
DTSTART:20161030T010000
END:STANDARD
BEGIN:DAYLIGHT
TZOFFSETFROM:+0000
TZOFFSETTO:+0100
TZNAME:BST
DTSTART:20170326T010000
END:DAYLIGHT
BEGIN:STANDARD
TZOFFSETFROM:+0100
TZOFFSETTO:+0000
TZNAME:GMT
DTSTART:20171029T010000
END:STANDARD
BEGIN:DAYLIGHT
TZOFFSETFROM:+0000
TZOFFSETTO:+0100
TZNAME:BST
DTSTART:20180325T010000
END:DAYLIGHT
BEGIN:STANDARD
TZOFFSETFROM:+0100
TZOFFSETTO:+0000
TZNAME:GMT
DTSTART:20181028T010000
END:STANDARD
END:VTIMEZONE
BEGIN:VEVENT
DTSTART;TZID=Europe/London:20170225T080000
DTEND;TZID=Europe/London:20170225T170000
DTSTAMP:20260421T192351
CREATED:20170124T204154Z
LAST-MODIFIED:20170124T204154Z
UID:4340-1488009600-1488042000@klsonline.org
SUMMARY:Family Service
DESCRIPTION:Family Services held from 11.30am to 12.30pm. Followed by Kiddush. \nSee services for more information on the type of services we hold at KLS. \nGuests are welcome to KLS but please contact the office beforehand.
URL:https://klsonline.org/event/family-service-6/
CATEGORIES:Regular Services
END:VEVENT
BEGIN:VEVENT
DTSTART;TZID=Europe/London:20170225T094500
DTEND;TZID=Europe/London:20170225T113000
DTSTAMP:20260421T192351
CREATED:20170124T205524Z
LAST-MODIFIED:20200303T162957Z
UID:4348-1488015900-1488022200@klsonline.org
SUMMARY:Beiteinu and Shabbatots
DESCRIPTION:
URL:https://klsonline.org/event/beiteinu-and-shabbatots-2/
CATEGORIES:Education and Classes
END:VEVENT
BEGIN:VEVENT
DTSTART;TZID=Europe/London:20170225T100000
DTEND;TZID=Europe/London:20170225T113000
DTSTAMP:20260421T192351
CREATED:20170124T205559Z
LAST-MODIFIED:20200303T163321Z
UID:4349-1488016800-1488022200@klsonline.org
SUMMARY:Bookcrashers
DESCRIPTION:
URL:https://klsonline.org/event/bookcrashers-17/
CATEGORIES:Education and Classes
END:VEVENT
BEGIN:VEVENT
DTSTART;TZID=Europe/London:20170225T123000
DTEND;TZID=Europe/London:20170225T133000
DTSTAMP:20260421T192351
CREATED:20170124T205646Z
LAST-MODIFIED:20200303T163320Z
UID:4350-1488025800-1488029400@klsonline.org
SUMMARY:HeBrew Cafe
DESCRIPTION:
URL:https://klsonline.org/event/hebrew-cafe-15/
CATEGORIES:Education and Classes
END:VEVENT
END:VCALENDAR