BEGIN:VCALENDAR
VERSION:2.0
PRODID:-//Kingston Liberal Synagogue - ECPv6.15.17.1//NONSGML v1.0//EN
CALSCALE:GREGORIAN
METHOD:PUBLISH
X-WR-CALNAME:Kingston Liberal Synagogue
X-ORIGINAL-URL:https://klsonline.org
X-WR-CALDESC:Events for Kingston Liberal Synagogue
REFRESH-INTERVAL;VALUE=DURATION:PT1H
X-Robots-Tag:noindex
X-PUBLISHED-TTL:PT1H
BEGIN:VTIMEZONE
TZID:Europe/London
BEGIN:DAYLIGHT
TZOFFSETFROM:+0000
TZOFFSETTO:+0100
TZNAME:BST
DTSTART:20160327T010000
END:DAYLIGHT
BEGIN:STANDARD
TZOFFSETFROM:+0100
TZOFFSETTO:+0000
TZNAME:GMT
DTSTART:20161030T010000
END:STANDARD
BEGIN:DAYLIGHT
TZOFFSETFROM:+0000
TZOFFSETTO:+0100
TZNAME:BST
DTSTART:20170326T010000
END:DAYLIGHT
BEGIN:STANDARD
TZOFFSETFROM:+0100
TZOFFSETTO:+0000
TZNAME:GMT
DTSTART:20171029T010000
END:STANDARD
BEGIN:DAYLIGHT
TZOFFSETFROM:+0000
TZOFFSETTO:+0100
TZNAME:BST
DTSTART:20180325T010000
END:DAYLIGHT
BEGIN:STANDARD
TZOFFSETFROM:+0100
TZOFFSETTO:+0000
TZNAME:GMT
DTSTART:20181028T010000
END:STANDARD
END:VTIMEZONE
BEGIN:VEVENT
DTSTART;TZID=Europe/London:20170506T094500
DTEND;TZID=Europe/London:20170506T110000
DTSTAMP:20260419T190319
CREATED:20170420T154126Z
LAST-MODIFIED:20200303T162957Z
UID:4413-1494063900-1494068400@klsonline.org
SUMMARY:Beiteinu
DESCRIPTION:Beiteinu
URL:https://klsonline.org/event/beiteinu-7/
CATEGORIES:Education and Classes
END:VEVENT
BEGIN:VEVENT
DTSTART;TZID=Europe/London:20170506T100000
DTEND;TZID=Europe/London:20170506T111500
DTSTAMP:20260419T190319
CREATED:20170420T154355Z
LAST-MODIFIED:20200303T163320Z
UID:4415-1494064800-1494069300@klsonline.org
SUMMARY:Bookcrashers
DESCRIPTION:Bookcrashers at 10am – Shulem Deen’s All Who Go Do Not Return
URL:https://klsonline.org/event/bookcrashers-20/
CATEGORIES:Education and Classes
END:VEVENT
BEGIN:VEVENT
DTSTART;TZID=Europe/London:20170506T111500
DTEND;TZID=Europe/London:20170506T123000
DTSTAMP:20260419T190319
CREATED:20170420T154225Z
LAST-MODIFIED:20170420T154225Z
UID:4414-1494069300-1494073800@klsonline.org
SUMMARY:Service
DESCRIPTION:Services held from 11.15am to 12.30pm. Followed by Kiddush. \nSee Services for more information on the type of services held at KLS. \nGuests are welcome to KLS but please contact the office beforehand.
URL:https://klsonline.org/event/service-4/
CATEGORIES:Regular Services
END:VEVENT
END:VCALENDAR