BEGIN:VCALENDAR
VERSION:2.0
PRODID:-//Kingston Liberal Synagogue - ECPv6.15.17.1//NONSGML v1.0//EN
CALSCALE:GREGORIAN
METHOD:PUBLISH
X-ORIGINAL-URL:https://klsonline.org
X-WR-CALDESC:Events for Kingston Liberal Synagogue
REFRESH-INTERVAL;VALUE=DURATION:PT1H
X-Robots-Tag:noindex
X-PUBLISHED-TTL:PT1H
BEGIN:VTIMEZONE
TZID:Europe/London
BEGIN:DAYLIGHT
TZOFFSETFROM:+0000
TZOFFSETTO:+0100
TZNAME:BST
DTSTART:20160327T010000
END:DAYLIGHT
BEGIN:STANDARD
TZOFFSETFROM:+0100
TZOFFSETTO:+0000
TZNAME:GMT
DTSTART:20161030T010000
END:STANDARD
BEGIN:DAYLIGHT
TZOFFSETFROM:+0000
TZOFFSETTO:+0100
TZNAME:BST
DTSTART:20170326T010000
END:DAYLIGHT
BEGIN:STANDARD
TZOFFSETFROM:+0100
TZOFFSETTO:+0000
TZNAME:GMT
DTSTART:20171029T010000
END:STANDARD
BEGIN:DAYLIGHT
TZOFFSETFROM:+0000
TZOFFSETTO:+0100
TZNAME:BST
DTSTART:20180325T010000
END:DAYLIGHT
BEGIN:STANDARD
TZOFFSETFROM:+0100
TZOFFSETTO:+0000
TZNAME:GMT
DTSTART:20181028T010000
END:STANDARD
END:VTIMEZONE
BEGIN:VEVENT
DTSTART;TZID=Europe/London:20170624T094500
DTEND;TZID=Europe/London:20170624T110000
DTSTAMP:20260421T133524
CREATED:20170420T161333Z
LAST-MODIFIED:20200303T162957Z
UID:4431-1498297500-1498302000@klsonline.org
SUMMARY:Beiteinu
DESCRIPTION:Beiteinu
URL:https://klsonline.org/event/beiteinu-12/
CATEGORIES:Education and Classes
END:VEVENT
BEGIN:VEVENT
DTSTART;TZID=Europe/London:20170624T100000
DTEND;TZID=Europe/London:20170624T110000
DTSTAMP:20260421T133524
CREATED:20170420T161454Z
LAST-MODIFIED:20200303T163320Z
UID:4432-1498298400-1498302000@klsonline.org
SUMMARY:Journeys to KLS
DESCRIPTION:Michael Brandon’s Journey to KLS: Lech Lecha\, Behaalotheca and Hot Chocolate: The Full Michael
URL:https://klsonline.org/event/journeys-to-kls-2/
CATEGORIES:Education and Classes
END:VEVENT
BEGIN:VEVENT
DTSTART;TZID=Europe/London:20170624T111500
DTEND;TZID=Europe/London:20170624T123000
DTSTAMP:20260421T133524
CREATED:20170420T161541Z
LAST-MODIFIED:20170420T161541Z
UID:4433-1498302900-1498307400@klsonline.org
SUMMARY:Service & Bat Mitzvah
DESCRIPTION:Services held from 11.15am to 12.30pm. Followed by Kiddush. \nSee Services for more information on the type of services held at KLS. \nGuests are welcome to KLS but please contact the office beforehand.
URL:https://klsonline.org/event/service-bat-mitzvah/
CATEGORIES:Regular Services
END:VEVENT
END:VCALENDAR