BEGIN:VCALENDAR
VERSION:2.0
PRODID:-//Kingston Liberal Synagogue - ECPv6.15.17.1//NONSGML v1.0//EN
CALSCALE:GREGORIAN
METHOD:PUBLISH
X-ORIGINAL-URL:https://klsonline.org
X-WR-CALDESC:Events for Kingston Liberal Synagogue
REFRESH-INTERVAL;VALUE=DURATION:PT1H
X-Robots-Tag:noindex
X-PUBLISHED-TTL:PT1H
BEGIN:VTIMEZONE
TZID:Europe/London
BEGIN:DAYLIGHT
TZOFFSETFROM:+0000
TZOFFSETTO:+0100
TZNAME:BST
DTSTART:20160327T010000
END:DAYLIGHT
BEGIN:STANDARD
TZOFFSETFROM:+0100
TZOFFSETTO:+0000
TZNAME:GMT
DTSTART:20161030T010000
END:STANDARD
BEGIN:DAYLIGHT
TZOFFSETFROM:+0000
TZOFFSETTO:+0100
TZNAME:BST
DTSTART:20170326T010000
END:DAYLIGHT
BEGIN:STANDARD
TZOFFSETFROM:+0100
TZOFFSETTO:+0000
TZNAME:GMT
DTSTART:20171029T010000
END:STANDARD
BEGIN:DAYLIGHT
TZOFFSETFROM:+0000
TZOFFSETTO:+0100
TZNAME:BST
DTSTART:20180325T010000
END:DAYLIGHT
BEGIN:STANDARD
TZOFFSETFROM:+0100
TZOFFSETTO:+0000
TZNAME:GMT
DTSTART:20181028T010000
END:STANDARD
END:VTIMEZONE
BEGIN:VEVENT
DTSTART;TZID=Europe/London:20171216T160000
DTEND;TZID=Europe/London:20171217T183000
DTSTAMP:20260421T025609
CREATED:20170313T164007Z
LAST-MODIFIED:20200303T162725Z
UID:4393-1513440000-1513535400@klsonline.org
SUMMARY:Chanukah Candle Lighting
DESCRIPTION:
URL:https://klsonline.org/event/chanukah-candle-lighting-and-party/
CATEGORIES:Community Events,Festivals
END:VEVENT
BEGIN:VEVENT
DTSTART;TZID=Europe/London:20171217T160000
DTEND;TZID=Europe/London:20171217T183000
DTSTAMP:20260421T025609
CREATED:20171115T145143Z
LAST-MODIFIED:20171115T145143Z
UID:4536-1513526400-1513535400@klsonline.org
SUMMARY:Chanukah@home - Candle Lighting
DESCRIPTION:Chanukah at home – Candle Lighting – Day Six @ 4pm
URL:https://klsonline.org/event/chanukahhome-candle-lighting/
CATEGORIES:Festivals
END:VEVENT
END:VCALENDAR