BEGIN:VCALENDAR
VERSION:2.0
PRODID:-//Kingston Liberal Synagogue - ECPv6.15.17.1//NONSGML v1.0//EN
CALSCALE:GREGORIAN
METHOD:PUBLISH
X-ORIGINAL-URL:https://klsonline.org
X-WR-CALDESC:Events for Kingston Liberal Synagogue
REFRESH-INTERVAL;VALUE=DURATION:PT1H
X-Robots-Tag:noindex
X-PUBLISHED-TTL:PT1H
BEGIN:VTIMEZONE
TZID:Europe/London
BEGIN:DAYLIGHT
TZOFFSETFROM:+0000
TZOFFSETTO:+0100
TZNAME:BST
DTSTART:20170326T010000
END:DAYLIGHT
BEGIN:STANDARD
TZOFFSETFROM:+0100
TZOFFSETTO:+0000
TZNAME:GMT
DTSTART:20171029T010000
END:STANDARD
BEGIN:DAYLIGHT
TZOFFSETFROM:+0000
TZOFFSETTO:+0100
TZNAME:BST
DTSTART:20180325T010000
END:DAYLIGHT
BEGIN:STANDARD
TZOFFSETFROM:+0100
TZOFFSETTO:+0000
TZNAME:GMT
DTSTART:20181028T010000
END:STANDARD
BEGIN:DAYLIGHT
TZOFFSETFROM:+0000
TZOFFSETTO:+0100
TZNAME:BST
DTSTART:20190331T010000
END:DAYLIGHT
BEGIN:STANDARD
TZOFFSETFROM:+0100
TZOFFSETTO:+0000
TZNAME:GMT
DTSTART:20191027T010000
END:STANDARD
END:VTIMEZONE
BEGIN:VEVENT
DTSTART;TZID=Europe/London:20180331T183000
DTEND;TZID=Europe/London:20180331T220000
DTSTAMP:20260420T011217
CREATED:20180219T172524Z
LAST-MODIFIED:20180219T172524Z
UID:4725-1522521000-1522533600@klsonline.org
SUMMARY:Communal Seder
DESCRIPTION:Join us for the hugely popular Communal Seder on the 2nd night of Pesach. \nOn Pesach we should feel as though we ourselves have escaped from Egypt. Please join us for the journey. Steve Farrer and  his team are working hard to bring you a night to remember.  There will be plagues: fiery hail\, locusts\, buzzing flies\, and frogs – so be prepared! \nPlease book your place NOW by completing the booking form: download here – a lot of work goes into organising this event\, and it can only be a success if we know numbers in advance!  Thank you.  Prices remain the same as last year. \nIf you do not have the LJ Haggadah\, please make your order on the booking form. We do not have any stock left and will order them from LJ in the middle of March\, so please let us know if you wish to order any by then. (We have a handful of Haggadot which we lend to guests at the Communal Seder). \n\n\n MENU  \n***\nSoup\n***\nTrout Fillet with Lemon and Sumac\nMinted baby potatoes\nSelection of Salads\n***\nVegetarian Option – Sfongo\n(A Traditional Pesach Turkish Spinach & Potato Pie)\n***\nDessert Table\n\n\nADVANCE BOOKING ONLY!  Please contact the KLS office for details.
URL:https://klsonline.org/event/communal-seder-4/
CATEGORIES:Festivals
END:VEVENT
END:VCALENDAR