BEGIN:VCALENDAR
VERSION:2.0
PRODID:-//Kingston Liberal Synagogue - ECPv6.15.17.1//NONSGML v1.0//EN
CALSCALE:GREGORIAN
METHOD:PUBLISH
X-ORIGINAL-URL:https://klsonline.org
X-WR-CALDESC:Events for Kingston Liberal Synagogue
REFRESH-INTERVAL;VALUE=DURATION:PT1H
X-Robots-Tag:noindex
X-PUBLISHED-TTL:PT1H
BEGIN:VTIMEZONE
TZID:Europe/London
BEGIN:DAYLIGHT
TZOFFSETFROM:+0000
TZOFFSETTO:+0100
TZNAME:BST
DTSTART:20170326T010000
END:DAYLIGHT
BEGIN:STANDARD
TZOFFSETFROM:+0100
TZOFFSETTO:+0000
TZNAME:GMT
DTSTART:20171029T010000
END:STANDARD
BEGIN:DAYLIGHT
TZOFFSETFROM:+0000
TZOFFSETTO:+0100
TZNAME:BST
DTSTART:20180325T010000
END:DAYLIGHT
BEGIN:STANDARD
TZOFFSETFROM:+0100
TZOFFSETTO:+0000
TZNAME:GMT
DTSTART:20181028T010000
END:STANDARD
BEGIN:DAYLIGHT
TZOFFSETFROM:+0000
TZOFFSETTO:+0100
TZNAME:BST
DTSTART:20190331T010000
END:DAYLIGHT
BEGIN:STANDARD
TZOFFSETFROM:+0100
TZOFFSETTO:+0000
TZNAME:GMT
DTSTART:20191027T010000
END:STANDARD
END:VTIMEZONE
BEGIN:VEVENT
DTSTART;TZID=Europe/London:20180411T123000
DTEND;TZID=Europe/London:20180411T140000
DTSTAMP:20260420T203348
CREATED:20180403T114124Z
LAST-MODIFIED:20200303T162725Z
UID:4777-1523449800-1523455200@klsonline.org
SUMMARY:Meet & Eat
DESCRIPTION:Meet & Eat – 12:30pm \nMeet & Eat with Mike Barnato\, KLS President and a previous Chair. He is an interesting speaker who has had a diverse career – mentor\, facilitator\, story teller to name but three – and he will also be talking about how he became so involved in our community and learnt to do a handstand! \nSo come along and join us for a light lunch and an enjoyable and relaxing afternoon with fellow KLS members. Please let the office (020 8398 7400) know if you would like to come along. \nDonation £3.
URL:https://klsonline.org/event/meet-eat/
CATEGORIES:Community Events
END:VEVENT
BEGIN:VEVENT
DTSTART;TZID=Europe/London:20180411T200000
DTEND;TZID=Europe/London:20180411T213000
DTSTAMP:20260420T203348
CREATED:20180403T114253Z
LAST-MODIFIED:20180403T114253Z
UID:4778-1523476800-1523482200@klsonline.org
SUMMARY:Yom Ha Shoah Service
DESCRIPTION:8pm Yom HaShoah service – a special choral service for Holocaust Remembrance Day
URL:https://klsonline.org/event/yom-ha-shoah-service/
END:VEVENT
END:VCALENDAR