BEGIN:VCALENDAR
VERSION:2.0
PRODID:-//Kingston Liberal Synagogue - ECPv6.15.17.1//NONSGML v1.0//EN
CALSCALE:GREGORIAN
METHOD:PUBLISH
X-WR-CALNAME:Kingston Liberal Synagogue
X-ORIGINAL-URL:https://klsonline.org
X-WR-CALDESC:Events for Kingston Liberal Synagogue
REFRESH-INTERVAL;VALUE=DURATION:PT1H
X-Robots-Tag:noindex
X-PUBLISHED-TTL:PT1H
BEGIN:VTIMEZONE
TZID:Europe/London
BEGIN:DAYLIGHT
TZOFFSETFROM:+0000
TZOFFSETTO:+0100
TZNAME:BST
DTSTART:20170326T010000
END:DAYLIGHT
BEGIN:STANDARD
TZOFFSETFROM:+0100
TZOFFSETTO:+0000
TZNAME:GMT
DTSTART:20171029T010000
END:STANDARD
BEGIN:DAYLIGHT
TZOFFSETFROM:+0000
TZOFFSETTO:+0100
TZNAME:BST
DTSTART:20180325T010000
END:DAYLIGHT
BEGIN:STANDARD
TZOFFSETFROM:+0100
TZOFFSETTO:+0000
TZNAME:GMT
DTSTART:20181028T010000
END:STANDARD
BEGIN:DAYLIGHT
TZOFFSETFROM:+0000
TZOFFSETTO:+0100
TZNAME:BST
DTSTART:20190331T010000
END:DAYLIGHT
BEGIN:STANDARD
TZOFFSETFROM:+0100
TZOFFSETTO:+0000
TZNAME:GMT
DTSTART:20191027T010000
END:STANDARD
END:VTIMEZONE
BEGIN:VEVENT
DTSTART;TZID=Europe/London:20181117T100000
DTEND;TZID=Europe/London:20181117T110000
DTSTAMP:20260420T092730
CREATED:20181004T075140Z
LAST-MODIFIED:20200303T162724Z
UID:5048-1542448800-1542452400@klsonline.org
SUMMARY:EGM
DESCRIPTION:Council’s plans and budget for 2019\nChange in KLS’s status to a Charitable Incorporated Organisation\nInformation will be sent to all members in advance of these meetings
URL:https://klsonline.org/event/egm/
CATEGORIES:Community Events
END:VEVENT
BEGIN:VEVENT
DTSTART;TZID=Europe/London:20181117T193000
DTEND;TZID=Europe/London:20181117T230000
DTSTAMP:20260420T092730
CREATED:20180820T102039Z
LAST-MODIFIED:20200303T162724Z
UID:4985-1542483000-1542495600@klsonline.org
SUMMARY:Supper Quiz
DESCRIPTION:Please join us for this ever-popular event!  (Time to be confirmed) \nTickets must be purchased in advance so please let us know via email if you are making up your own table of 8 or if you would like to join a table. \nA great opportunity for new members to get to know the KLS family and for everyone to bring all those ‘clever’ friends and relatives just waiting to show off their knowledge!
URL:https://klsonline.org/event/supper-quiz-2/
CATEGORIES:Community Events
END:VEVENT
END:VCALENDAR