BEGIN:VCALENDAR
VERSION:2.0
PRODID:-//Kingston Liberal Synagogue - ECPv6.15.17.1//NONSGML v1.0//EN
CALSCALE:GREGORIAN
METHOD:PUBLISH
X-WR-CALNAME:Kingston Liberal Synagogue
X-ORIGINAL-URL:https://klsonline.org
X-WR-CALDESC:Events for Kingston Liberal Synagogue
REFRESH-INTERVAL;VALUE=DURATION:PT1H
X-Robots-Tag:noindex
X-PUBLISHED-TTL:PT1H
BEGIN:VTIMEZONE
TZID:Europe/London
BEGIN:DAYLIGHT
TZOFFSETFROM:+0000
TZOFFSETTO:+0100
TZNAME:BST
DTSTART:20170326T010000
END:DAYLIGHT
BEGIN:STANDARD
TZOFFSETFROM:+0100
TZOFFSETTO:+0000
TZNAME:GMT
DTSTART:20171029T010000
END:STANDARD
BEGIN:DAYLIGHT
TZOFFSETFROM:+0000
TZOFFSETTO:+0100
TZNAME:BST
DTSTART:20180325T010000
END:DAYLIGHT
BEGIN:STANDARD
TZOFFSETFROM:+0100
TZOFFSETTO:+0000
TZNAME:GMT
DTSTART:20181028T010000
END:STANDARD
BEGIN:DAYLIGHT
TZOFFSETFROM:+0000
TZOFFSETTO:+0100
TZNAME:BST
DTSTART:20190331T010000
END:DAYLIGHT
BEGIN:STANDARD
TZOFFSETFROM:+0100
TZOFFSETTO:+0000
TZNAME:GMT
DTSTART:20191027T010000
END:STANDARD
END:VTIMEZONE
BEGIN:VEVENT
DTSTART;TZID=Europe/London:20181201T111500
DTEND;TZID=Europe/London:20181201T123000
DTSTAMP:20260420T075150
CREATED:20180820T110528Z
LAST-MODIFIED:20180828T112614Z
UID:4989-1543662900-1543667400@klsonline.org
SUMMARY:Family Service & Kitah Aleph
DESCRIPTION:Family service held from 11.15am to 12.30pm.  The service will be led by Rabbi René and is relevant for all ages.  The children attending Beiteinu\, Kitah Aleph and their families\, join in with the service\, \n\n\n\n\n\nalong with the rest of the KLS family.  The service is followed by kiddush.\n\nSee Services for more information on the type of services that we hold at KLS.
URL:https://klsonline.org/event/family-service-kitah-aleph-2/
CATEGORIES:Regular Services
END:VEVENT
END:VCALENDAR