BEGIN:VCALENDAR
VERSION:2.0
PRODID:-//Kingston Liberal Synagogue - ECPv6.15.17.1//NONSGML v1.0//EN
CALSCALE:GREGORIAN
METHOD:PUBLISH
X-ORIGINAL-URL:https://klsonline.org
X-WR-CALDESC:Events for Kingston Liberal Synagogue
REFRESH-INTERVAL;VALUE=DURATION:PT1H
X-Robots-Tag:noindex
X-PUBLISHED-TTL:PT1H
BEGIN:VTIMEZONE
TZID:Europe/London
BEGIN:DAYLIGHT
TZOFFSETFROM:+0000
TZOFFSETTO:+0100
TZNAME:BST
DTSTART:20180325T010000
END:DAYLIGHT
BEGIN:STANDARD
TZOFFSETFROM:+0100
TZOFFSETTO:+0000
TZNAME:GMT
DTSTART:20181028T010000
END:STANDARD
BEGIN:DAYLIGHT
TZOFFSETFROM:+0000
TZOFFSETTO:+0100
TZNAME:BST
DTSTART:20190331T010000
END:DAYLIGHT
BEGIN:STANDARD
TZOFFSETFROM:+0100
TZOFFSETTO:+0000
TZNAME:GMT
DTSTART:20191027T010000
END:STANDARD
BEGIN:DAYLIGHT
TZOFFSETFROM:+0000
TZOFFSETTO:+0100
TZNAME:BST
DTSTART:20200329T010000
END:DAYLIGHT
BEGIN:STANDARD
TZOFFSETFROM:+0100
TZOFFSETTO:+0000
TZNAME:GMT
DTSTART:20201025T010000
END:STANDARD
END:VTIMEZONE
BEGIN:VEVENT
DTSTART;TZID=Europe/London:20190515T193000
DTEND;TZID=Europe/London:20190515T213000
DTSTAMP:20260419T231108
CREATED:20190413T075936Z
LAST-MODIFIED:20190413T075936Z
UID:5710-1557948600-1557955800@klsonline.org
SUMMARY:Author Talk: Tamar Hodes\, The Water and the Wine
DESCRIPTION:£5 DONATION at the door. ENTRY BY TICKET ONLY.\n\nSet on the Greek island of Hydra in the sixties\, the book is a fictionalised account\, based on research\, of the lives of the artists and writers who lived there. The main focus is on Leonard Cohen – his poetry\, his music\, his love for Marianne and his Judaism. Tamar and her family also lived on Hydra at that time. \nTamar will be happy to sign copies of her book. \n\nLight refreshments will be served.\n\nTickets available: \nhttps://www.eventbrite.co.uk/e/author-talk-tamar-hodes-tickets-60302917650?aff=ebdssbdestsearch
URL:https://klsonline.org/event/author-talk-tamar-hodes-the-water-and-the-wine/
END:VEVENT
END:VCALENDAR