BEGIN:VCALENDAR
VERSION:2.0
PRODID:-//Kingston Liberal Synagogue - ECPv6.15.17.1//NONSGML v1.0//EN
CALSCALE:GREGORIAN
METHOD:PUBLISH
X-WR-CALNAME:Kingston Liberal Synagogue
X-ORIGINAL-URL:https://klsonline.org
X-WR-CALDESC:Events for Kingston Liberal Synagogue
REFRESH-INTERVAL;VALUE=DURATION:PT1H
X-Robots-Tag:noindex
X-PUBLISHED-TTL:PT1H
BEGIN:VTIMEZONE
TZID:Europe/London
BEGIN:DAYLIGHT
TZOFFSETFROM:+0000
TZOFFSETTO:+0100
TZNAME:BST
DTSTART:20130331T010000
END:DAYLIGHT
BEGIN:STANDARD
TZOFFSETFROM:+0100
TZOFFSETTO:+0000
TZNAME:GMT
DTSTART:20131027T010000
END:STANDARD
BEGIN:DAYLIGHT
TZOFFSETFROM:+0000
TZOFFSETTO:+0100
TZNAME:BST
DTSTART:20140330T010000
END:DAYLIGHT
BEGIN:STANDARD
TZOFFSETFROM:+0100
TZOFFSETTO:+0000
TZNAME:GMT
DTSTART:20141026T010000
END:STANDARD
BEGIN:DAYLIGHT
TZOFFSETFROM:+0000
TZOFFSETTO:+0100
TZNAME:BST
DTSTART:20150329T010000
END:DAYLIGHT
BEGIN:STANDARD
TZOFFSETFROM:+0100
TZOFFSETTO:+0000
TZNAME:GMT
DTSTART:20151025T010000
END:STANDARD
END:VTIMEZONE
BEGIN:VEVENT
DTSTART;TZID=Europe/London:20140205T193000
DTEND;TZID=Europe/London:20140205T210000
DTSTAMP:20260422T234539
CREATED:20140210T210532Z
LAST-MODIFIED:20200303T162729Z
UID:108-1391628600-1391634000@klsonline.org
SUMMARY:Evening Institute: Hidden Gems of the Siddur
DESCRIPTION:An introduction to Jewish prayer\n\n\n\nEven more than the Chumash (Torah)\, the Siddur is the most ubiquitous of Jewish Books. Everywhere Jews have gone they have taken their prayers\, liturgies and Siddurim with them. Unlike the Bible\, Jews everywhere and everywhen have been able to add their own materials to Siddur. Unlike the Talmud and law codes\, which were for the intellectual elite\, the Liturgy and Siddur were writen for and by many different Jews and were open to all. \nWriten and complied over many hundreds of years\, the Siddur is full of poetry and prose\, theology and history\, as well as comfort and challenge. \nAnd yet despite all that\, until recently the Siddur and Liturgy in general were not given the credit they are due. In these sessions we will look at the structure of liturgy\, its history\, spending some time looking at some of the hidden gems of the daily and Shabbat services. We will also devote a session to looking at the contribution of progressive Judaism to the Siddur. \nThere will be 5 sessions from 5 February to 5 March\, each lasting 11⁄2 hours.
URL:https://klsonline.org/event/evening-institute-hidden-gems-of-the-siddur/
CATEGORIES:Community Events
END:VEVENT
BEGIN:VEVENT
DTSTART;VALUE=DATE:20140116
DTEND;VALUE=DATE:20140117
DTSTAMP:20260422T234539
CREATED:20140206T125446Z
LAST-MODIFIED:20140206T125929Z
UID:72-1389830400-1389916799@klsonline.org
SUMMARY:Tu B'Shevat
DESCRIPTION:טו בשבט\nTu B’Shevat\, the 15th of Shevat on the Jewish calendar\, is the day that marks the beginning of a “new year” for trees.
URL:https://klsonline.org/event/tu-bshevat/
CATEGORIES:Festivals
END:VEVENT
END:VCALENDAR