BEGIN:VCALENDAR
VERSION:2.0
PRODID:-//Kingston Liberal Synagogue - ECPv6.15.17.1//NONSGML v1.0//EN
CALSCALE:GREGORIAN
METHOD:PUBLISH
X-WR-CALNAME:Kingston Liberal Synagogue
X-ORIGINAL-URL:https://klsonline.org
X-WR-CALDESC:Events for Kingston Liberal Synagogue
REFRESH-INTERVAL;VALUE=DURATION:PT1H
X-Robots-Tag:noindex
X-PUBLISHED-TTL:PT1H
BEGIN:VTIMEZONE
TZID:Europe/London
BEGIN:DAYLIGHT
TZOFFSETFROM:+0000
TZOFFSETTO:+0100
TZNAME:BST
DTSTART:20150329T010000
END:DAYLIGHT
BEGIN:STANDARD
TZOFFSETFROM:+0100
TZOFFSETTO:+0000
TZNAME:GMT
DTSTART:20151025T010000
END:STANDARD
BEGIN:DAYLIGHT
TZOFFSETFROM:+0000
TZOFFSETTO:+0100
TZNAME:BST
DTSTART:20160327T010000
END:DAYLIGHT
BEGIN:STANDARD
TZOFFSETFROM:+0100
TZOFFSETTO:+0000
TZNAME:GMT
DTSTART:20161030T010000
END:STANDARD
BEGIN:DAYLIGHT
TZOFFSETFROM:+0000
TZOFFSETTO:+0100
TZNAME:BST
DTSTART:20170326T010000
END:DAYLIGHT
BEGIN:STANDARD
TZOFFSETFROM:+0100
TZOFFSETTO:+0000
TZNAME:GMT
DTSTART:20171029T010000
END:STANDARD
END:VTIMEZONE
BEGIN:VEVENT
DTSTART;TZID=Europe/London:20160206T130000
DTEND;TZID=Europe/London:20160206T140000
DTSTAMP:20260423T004032
CREATED:20160127T104700Z
LAST-MODIFIED:20200303T163323Z
UID:3951-1454763600-1454767200@klsonline.org
SUMMARY:Bookcrashers - different time this month!!!!
DESCRIPTION:Our next bookcrashers’ book is “A woman on the edge of time” by Jeremy Gavron.  One of our crashers knew Hannah Gavron and will be adding her personal insights to our discussions.  Please note that we are meeting at 1pm this month.  All are welcome\, whether you have read the book or not. \nMarch’s book will be “The House by the Lake” by Thomas Harding. \nWhy not get a copy of the book from the local independent book shop in Surbiton – Regency Bookshop?  You can order a book to be in the shop usually within 48 hours.  Order on Thursday and pick it up on the way to KLS on Saturday.
URL:https://klsonline.org/event/bookcrashers-different-time-this-month/
CATEGORIES:Education and Classes
END:VEVENT
BEGIN:VEVENT
DTSTART;TZID=Europe/London:20160212T180000
DTEND;TZID=Europe/London:20160214T150000
DTSTAMP:20260423T004032
CREATED:20150825T103925Z
LAST-MODIFIED:20150825T103925Z
UID:3722-1455300000-1455462000@klsonline.org
SUMMARY:APAW!
DESCRIPTION:Activity weekend for children in school years 3-4.  Venue tbc.
URL:https://klsonline.org/event/apaw/
END:VEVENT
BEGIN:VEVENT
DTSTART;TZID=Europe/London:20160212T180000
DTEND;TZID=Europe/London:20160214T150000
DTSTAMP:20260423T004032
CREATED:20150825T104019Z
LAST-MODIFIED:20150825T104019Z
UID:3723-1455300000-1455462000@klsonline.org
SUMMARY:NAW!
DESCRIPTION:Activity weekend for children in school years 7-8.  Venue tbc.
URL:https://klsonline.org/event/naw/
END:VEVENT
BEGIN:VEVENT
DTSTART;TZID=Europe/London:20160212T200000
DTEND;TZID=Europe/London:20160212T213000
DTSTAMP:20260423T004032
CREATED:20140508T115556Z
LAST-MODIFIED:20160210T141908Z
UID:3270-1455307200-1455312600@klsonline.org
SUMMARY:Shabbat @ Home
DESCRIPTION:On the second Friday of each month a member invites us to welcome Shabbat at home with them. The service is informal and friendly\, from our siddur\, but please feel free to bring a reading or a topic for discussion.  Please bring something to share for the Kiddush. \nThe venue for this month is in Surbiton.  Please contact the office for the address and to let us know you intend to come (but you won’t be turned away if you don’t).  The service leader this month is Rabbi Adam Frankenberg. \nHosts needed:  If you would like to host one of these services in future months\, please contact the Synagogue Office. \n 
URL:https://klsonline.org/event/shabbat-home-2014-10-10-2015-04-10-2016-02-12/
CATEGORIES:Regular Services
END:VEVENT
BEGIN:VEVENT
DTSTART;TZID=Europe/London:20160215T100000
DTEND;TZID=Europe/London:20160215T180000
DTSTAMP:20260423T004032
CREATED:20150825T104104Z
LAST-MODIFIED:20160202T092148Z
UID:3724-1455530400-1455559200@klsonline.org
SUMMARY:YAW!
DESCRIPTION:Hiking day for children in school years 9-10.  This year it’s going to be at KLS!
URL:https://klsonline.org/event/yaw/
END:VEVENT
BEGIN:VEVENT
DTSTART;TZID=Europe/London:20160223T200000
DTEND;TZID=Europe/London:20160223T220000
DTSTAMP:20260423T004032
CREATED:20160210T145417Z
LAST-MODIFIED:20200303T163322Z
UID:3964-1456257600-1456264800@klsonline.org
SUMMARY:Choir Rehearsal
DESCRIPTION:Usually once or twice monthly on Tuesdays @ 8pm \nThe KLS Choir rehearses once or twice a month (and enjoy tea\, cake and chat!)\, and sings at the monthly music service on the 4th Friday of the month and at other services.  You don’t have to read music\, you don’t have to read Hebrew.  Come and try it!  Singing is a great way to meet people\, blow away life’s cobwebs\, contribute to KLS\, learn about our prayers and about Jewish music.  Interested?  Contact Sandra Webber via the KLS office.
URL:https://klsonline.org/event/choir-rehearsal-16/
CATEGORIES:Education and Classes
END:VEVENT
BEGIN:VEVENT
DTSTART;TZID=Europe/London:20160224T140000
DTEND;TZID=Europe/London:20160224T180000
DTSTAMP:20260423T004032
CREATED:20160210T151131Z
LAST-MODIFIED:20200303T163322Z
UID:4002-1456322400-1456336800@klsonline.org
SUMMARY:Doroteinu
DESCRIPTION:A talk by Dr Mark Woolfe about food fraud.  Mark has spoken about this before but ever new ways turn up of fooling us poor consumers. This is a new presentation not a repeat of the previous one he gave to Doroteinu so do come and hear about the latest dubious practices. \nIf you are planning to come by car we often need drivers to pick up the less mobile. Please contact the committee if you can help.  If you need transport please contact the committee or a local friend who you think might be going. \nDoroteinu means all ages\, so do come and join us – you don’t have to be retired.  Don’t forget anyone is welcome\, KLS member or not\, whether 18 or 95.  And the cakes are really nice. \nGuests are welcome to join us\, but please do let us know in advance so that we can give you a warm welcome. \n 
URL:https://klsonline.org/event/doroteinu-8/
CATEGORIES:Education and Classes
END:VEVENT
BEGIN:VEVENT
DTSTART;TZID=Europe/London:20160226T200000
DTEND;TZID=Europe/London:20160226T213000
DTSTAMP:20260423T004032
CREATED:20160210T152428Z
LAST-MODIFIED:20160210T153249Z
UID:4003-1456516800-1456522200@klsonline.org
SUMMARY:Shabbat Island Discs with......
DESCRIPTION:Music Service led by Vince Daly and the KLS Choir\, and featuring KLS members Maya and David Aviram who will reveal their choice of music as part of our regular Shabbat Island Discs feature\, which takes place on the fourth Friday night of each month.  As usual in these services the guests will be interviewed\, and this is a great opportunity to find out more about your fellow congregants. \nBring something to share for kiddush afterwards! \nBoth members and guests can take a turn at choosing the music. If you’d like a chance\, contact Sandra Webber.
URL:https://klsonline.org/event/shabbat-island-discs-with-2/
CATEGORIES:Regular Services
END:VEVENT
END:VCALENDAR