BEGIN:VCALENDAR
VERSION:2.0
PRODID:-//Kingston Liberal Synagogue - ECPv6.15.17.1//NONSGML v1.0//EN
CALSCALE:GREGORIAN
METHOD:PUBLISH
X-ORIGINAL-URL:https://klsonline.org
X-WR-CALDESC:Events for Kingston Liberal Synagogue
REFRESH-INTERVAL;VALUE=DURATION:PT1H
X-Robots-Tag:noindex
X-PUBLISHED-TTL:PT1H
BEGIN:VTIMEZONE
TZID:Europe/London
BEGIN:DAYLIGHT
TZOFFSETFROM:+0000
TZOFFSETTO:+0100
TZNAME:BST
DTSTART:20150329T010000
END:DAYLIGHT
BEGIN:STANDARD
TZOFFSETFROM:+0100
TZOFFSETTO:+0000
TZNAME:GMT
DTSTART:20151025T010000
END:STANDARD
BEGIN:DAYLIGHT
TZOFFSETFROM:+0000
TZOFFSETTO:+0100
TZNAME:BST
DTSTART:20160327T010000
END:DAYLIGHT
BEGIN:STANDARD
TZOFFSETFROM:+0100
TZOFFSETTO:+0000
TZNAME:GMT
DTSTART:20161030T010000
END:STANDARD
BEGIN:DAYLIGHT
TZOFFSETFROM:+0000
TZOFFSETTO:+0100
TZNAME:BST
DTSTART:20170326T010000
END:DAYLIGHT
BEGIN:STANDARD
TZOFFSETFROM:+0100
TZOFFSETTO:+0000
TZNAME:GMT
DTSTART:20171029T010000
END:STANDARD
END:VTIMEZONE
BEGIN:VEVENT
DTSTART;TZID=Europe/London:20160607T200000
DTEND;TZID=Europe/London:20160607T220000
DTSTAMP:20260422T150436
CREATED:20150303T105831Z
LAST-MODIFIED:20200303T163321Z
UID:4047-1465329600-1465336800@klsonline.org
SUMMARY:Council Meeting
DESCRIPTION:
URL:https://klsonline.org/event/council-meeting-2016-04-05-2016-06-21/
CATEGORIES:Education and Classes
END:VEVENT
BEGIN:VEVENT
DTSTART;TZID=Europe/London:20160610T200000
DTEND;TZID=Europe/London:20160610T213000
DTSTAMP:20260422T150436
CREATED:20140508T115556Z
LAST-MODIFIED:20160309T130955Z
UID:3552-1465588800-1465594200@klsonline.org
SUMMARY:Shabbat @ Home
DESCRIPTION:On the second Friday of each month a member invites us to welcome Shabbat at home with them. The service is informal and friendly\, from our siddur\, but please feel free to bring a reading or a topic for discussion.  Please bring something to share for the Kiddush. \nThe venue for this month is in North Kingston\, and will be led by Seymour Kelly.  Please contact the office for the address and to let us know you intend to come (but you won’t be turned away if you don’t). \nHosts needed:  If you would like to host one of these services in future months\, please contact the Synagogue Office. \n 
URL:https://klsonline.org/event/shabbat-home-2014-10-10-2015-08-14-2016-06-10/
CATEGORIES:Regular Services
END:VEVENT
BEGIN:VEVENT
DTSTART;VALUE=DATE:20160611
DTEND;VALUE=DATE:20160612
DTSTAMP:20260422T150436
CREATED:20160509T133629Z
LAST-MODIFIED:20160509T133629Z
UID:4150-1465603200-1465689599@klsonline.org
SUMMARY:Erev Shavuot
DESCRIPTION:
URL:https://klsonline.org/event/erev-shavuot-2/
CATEGORIES:Festivals
END:VEVENT
BEGIN:VEVENT
DTSTART;TZID=Europe/London:20160611T111500
DTEND;TZID=Europe/London:20160611T123000
DTSTAMP:20260422T150436
CREATED:20150707T101835Z
LAST-MODIFIED:20160608T094259Z
UID:3890-1465643700-1465648200@klsonline.org
SUMMARY:Shabbat Service
DESCRIPTION:Service held from 11.15am to 12.30pm\, led by Craig Simmons.  Followed by kiddush.   See Services for more information on the type of services that we hold at KLS. \n\n\nGuests are welcome to KLS\, but please contact the office beforehand.
URL:https://klsonline.org/event/shabbat-service-15-2015-11-28-2016-06-11/
CATEGORIES:Regular Services
END:VEVENT
BEGIN:VEVENT
DTSTART;VALUE=DATE:20160612
DTEND;VALUE=DATE:20160613
DTSTAMP:20260422T150436
CREATED:20160509T133702Z
LAST-MODIFIED:20160509T133702Z
UID:4151-1465689600-1465775999@klsonline.org
SUMMARY:Shavuot
DESCRIPTION:
URL:https://klsonline.org/event/shavuot-3/
CATEGORIES:Festivals
END:VEVENT
BEGIN:VEVENT
DTSTART;TZID=Europe/London:20160612T180000
DTEND;TZID=Europe/London:20160612T200000
DTSTAMP:20260422T150436
CREATED:20160309T131455Z
LAST-MODIFIED:20200303T162726Z
UID:4071-1465754400-1465761600@klsonline.org
SUMMARY:Shavuot Seder
DESCRIPTION:A new venture for KLS!  Shavuot Seder led by Rabbi Janet Darley.  In the context of a seder\, we will use Tanach and Rabbinic Literature to deepen our understanding of the history and teachings of Shavuot.  We will eat some symbolic food items and perhaps discover some things hidden\, as well as consider other symbols of the festival. For example\, what is the relationship between cheese and the “mountain of peaks” where we are told Torah was given? \nPlease bring some appropriate food to share for Kiddush following the seder. \n  \nVisitors are welcome to Kingston Liberal Synagogue\, but please contact the office in advance.
URL:https://klsonline.org/event/shavuot-seder/
CATEGORIES:Community Events
END:VEVENT
BEGIN:VEVENT
DTSTART;TZID=Europe/London:20160617T200000
DTEND;TZID=Europe/London:20160617T210000
DTSTAMP:20260422T150436
CREATED:20140508T120052Z
LAST-MODIFIED:20160309T131721Z
UID:3558-1466193600-1466197200@klsonline.org
SUMMARY:Shabbat Service
DESCRIPTION:Shabbat Service led by the Hymans.  Please bring something to share for Kiddush.
URL:https://klsonline.org/event/shabbat-service-3-2015-11-20-2016-06-17/
CATEGORIES:Regular Services
END:VEVENT
BEGIN:VEVENT
DTSTART;TZID=Europe/London:20160618T113000
DTEND;TZID=Europe/London:20160618T123000
DTSTAMP:20260422T150436
CREATED:20150707T101835Z
LAST-MODIFIED:20160606T130008Z
UID:3891-1466249400-1466253000@klsonline.org
SUMMARY:Family Service
DESCRIPTION:Family service held from 11.30am to 12.30pm led by Rabbi Rene Pfertzel.  Followed by kiddush.   See Services for more information on the type of services that we hold at KLS. \n\n\nGuests are welcome to KLS\, but please contact the office beforehand.
URL:https://klsonline.org/event/shabbat-service-15-2015-11-28-2016-06-18/
CATEGORIES:Regular Services
END:VEVENT
BEGIN:VEVENT
DTSTART;TZID=Europe/London:20160618T124500
DTEND;TZID=Europe/London:20160618T131500
DTSTAMP:20260422T150436
CREATED:20160309T134313Z
LAST-MODIFIED:20200303T163321Z
UID:4074-1466253900-1466255700@klsonline.org
SUMMARY:HeBrew Cafe
DESCRIPTION:After the Family Service – our fundraising café selling filled bagels\, crisps\, cake\, sweets and hot and cold drinks
URL:https://klsonline.org/event/hebrew-cafe-12/
CATEGORIES:Education and Classes
END:VEVENT
BEGIN:VEVENT
DTSTART;TZID=Europe/London:20160621T200000
DTEND;TZID=Europe/London:20160621T220000
DTSTAMP:20260422T150436
CREATED:20160210T145417Z
LAST-MODIFIED:20200303T163321Z
UID:3975-1466539200-1466546400@klsonline.org
SUMMARY:Choir Rehearsal
DESCRIPTION:Usually once or twice monthly on Tuesdays @ 8pm \nThe KLS Choir rehearses once or twice a month (and enjoy tea\, cake and chat!)\, and sings at the monthly music service on the 4th Friday of the month and at other services.  You don’t have to read music\, you don’t have to read Hebrew.  Come and try it!  Singing is a great way to meet people\, blow away life’s cobwebs\, contribute to KLS\, learn about our prayers and about Jewish music.  Interested?  Contact Sandra Webber via the KLS office.
URL:https://klsonline.org/event/choir-rehearsal-16-2016-06-28/
CATEGORIES:Education and Classes
END:VEVENT
BEGIN:VEVENT
DTSTART;TZID=Europe/London:20160624T200000
DTEND;TZID=Europe/London:20160624T213000
DTSTAMP:20260422T150436
CREATED:20160210T152428Z
LAST-MODIFIED:20160309T132328Z
UID:4007-1466798400-1466803800@klsonline.org
SUMMARY:Shabbat Island Discs with......
DESCRIPTION:Music Service led by Sandra Webber and the KLS Choir\, and featuring guests who will reveal their choice of music as part of our regular Shabbat Island Discs feature\, which takes place on the fourth Friday night of each month.  As usual in these services the guests will be interviewed\, and this is a great opportunity to find out more about your fellow congregants. \nBring something to share for kiddush afterwards! \nBoth members and guests can take a turn at choosing the music. If you’d like a chance\, contact Sandra Webber.
URL:https://klsonline.org/event/shabbat-island-discs-with-2-2016-06-24/
CATEGORIES:Regular Services
END:VEVENT
BEGIN:VEVENT
DTSTART;TZID=Europe/London:20160625T111500
DTEND;TZID=Europe/London:20160625T123000
DTSTAMP:20260422T150436
CREATED:20150707T101835Z
LAST-MODIFIED:20160308T141038Z
UID:3892-1466853300-1466857800@klsonline.org
SUMMARY:Shabbat Service
DESCRIPTION:Bar Mitzvah Service led by Rabbi Danny Rich held from 11.15am to 12.30pm.  Followed by kiddush.   See Services for more information on the type of services that we hold at KLS. \n\n\nGuests are welcome to KLS\, but please contact the office beforehand.
URL:https://klsonline.org/event/shabbat-service-15-2015-11-28-2016-06-25/
CATEGORIES:Regular Services
END:VEVENT
BEGIN:VEVENT
DTSTART;TZID=Europe/London:20160629T140000
DTEND;TZID=Europe/London:20160629T160000
DTSTAMP:20260422T150436
CREATED:20160628T131302Z
LAST-MODIFIED:20200303T163321Z
UID:4215-1467208800-1467216000@klsonline.org
SUMMARY:Doroteinu
DESCRIPTION:A talk by Helen Setright on Kingston’s Roundheads and Cavaliers. \nIf you are planning to come by car we often need drivers to pick up the less mobile. Please contact the committee if you can help.  If you need transport please contact the committee or a local friend who you think might be going. \n\n\nDoroteinu means all ages\, so do come and join us – you don’t have to be retired.  Don’t forget anyone is welcome\, KLS member or not\, whether 18 or 95.  And the cakes are really nice.  £2 to cover cost of refreshments. \nGuests are welcome to join us\, but please do let us know in advance so that we can give you a warm welcome.
URL:https://klsonline.org/event/doroteinu-10/
CATEGORIES:Education and Classes
END:VEVENT
END:VCALENDAR