BEGIN:VCALENDAR
VERSION:2.0
PRODID:-//Kingston Liberal Synagogue - ECPv6.15.17.1//NONSGML v1.0//EN
CALSCALE:GREGORIAN
METHOD:PUBLISH
X-ORIGINAL-URL:https://klsonline.org
X-WR-CALDESC:Events for Kingston Liberal Synagogue
REFRESH-INTERVAL;VALUE=DURATION:PT1H
X-Robots-Tag:noindex
X-PUBLISHED-TTL:PT1H
BEGIN:VTIMEZONE
TZID:Europe/London
BEGIN:DAYLIGHT
TZOFFSETFROM:+0000
TZOFFSETTO:+0100
TZNAME:BST
DTSTART:20150329T010000
END:DAYLIGHT
BEGIN:STANDARD
TZOFFSETFROM:+0100
TZOFFSETTO:+0000
TZNAME:GMT
DTSTART:20151025T010000
END:STANDARD
BEGIN:DAYLIGHT
TZOFFSETFROM:+0000
TZOFFSETTO:+0100
TZNAME:BST
DTSTART:20160327T010000
END:DAYLIGHT
BEGIN:STANDARD
TZOFFSETFROM:+0100
TZOFFSETTO:+0000
TZNAME:GMT
DTSTART:20161030T010000
END:STANDARD
BEGIN:DAYLIGHT
TZOFFSETFROM:+0000
TZOFFSETTO:+0100
TZNAME:BST
DTSTART:20170326T010000
END:DAYLIGHT
BEGIN:STANDARD
TZOFFSETFROM:+0100
TZOFFSETTO:+0000
TZNAME:GMT
DTSTART:20171029T010000
END:STANDARD
END:VTIMEZONE
BEGIN:VEVENT
DTSTART;TZID=Europe/London:20160904T123000
DTEND;TZID=Europe/London:20160904T160000
DTSTAMP:20260422T044928
CREATED:20160628T125612Z
LAST-MODIFIED:20200303T162726Z
UID:4211-1472992200-1473004800@klsonline.org
SUMMARY:Annual Rounders match and team games
DESCRIPTION:We may have to rent-a-rabbi for the Rabbi’s team\, but the show will go on… \nThe return of our much-loved family and friends picnic in the park opposite KLS\, with fun games for all ages and a giant rounders match. Bring a blanket\, food\, drink\, any outdoor games and trainers or a chair if you prefer!!   Other friends and extended family welcome!
URL:https://klsonline.org/event/annual-rounders-match-and-team-games/
CATEGORIES:Community Events
END:VEVENT
BEGIN:VEVENT
DTSTART;TZID=Europe/London:20160905T200000
DTEND;TZID=Europe/London:20160905T220000
DTSTAMP:20260422T044928
CREATED:20160210T145417Z
LAST-MODIFIED:20200303T163321Z
UID:3980-1473105600-1473112800@klsonline.org
SUMMARY:Choir Rehearsal
DESCRIPTION:Mondays in September \nThe KLS Choir rehearses once or twice a month (and enjoy tea\, cake and chat!)\, and sings at the monthly music service on the 4th Friday of the month and at other services.  You don’t have to read music\, you don’t have to read Hebrew.  Come and try it!  Singing is a great way to meet people\, blow away life’s cobwebs\, contribute to KLS\, learn about our prayers and about Jewish music.  Interested?  Contact Sandra Webber via the KLS office.
URL:https://klsonline.org/event/choir-rehearsal-16-2016-09-06/
CATEGORIES:Education and Classes
END:VEVENT
BEGIN:VEVENT
DTSTART;TZID=Europe/London:20160910T130000
DTEND;TZID=Europe/London:20160910T160000
DTSTAMP:20260422T044928
CREATED:20160628T125901Z
LAST-MODIFIED:20200303T162726Z
UID:4212-1473512400-1473523200@klsonline.org
SUMMARY:Treasure Trail from KLS\, Table Tennis Tournament and Lunch
DESCRIPTION:Straight after Kiddush\, the new Beiteinu year will continue with a treasure trail via hidden local spots and terrain you never knew existed. The walk is approx. 1 mile long\, some of which is hilly woodland.  Follow the clues\, take photos along the way to prove you were there (prize for the most imaginative group photo) and meet for lunch and table tennis tournament at the nearby home of members afterwards. All ages welcome.
URL:https://klsonline.org/event/treasure-trail-from-kls-table-tennis-tournament-and-lunch/
CATEGORIES:Community Events
END:VEVENT
BEGIN:VEVENT
DTSTART;TZID=Europe/London:20160917T190000
DTEND;TZID=Europe/London:20160917T223000
DTSTAMP:20260422T044928
CREATED:20160628T130031Z
LAST-MODIFIED:20200303T162726Z
UID:4213-1474138800-1474151400@klsonline.org
SUMMARY:Wine and Cheese Tasting and KLS Art Exhibition
DESCRIPTION:Come and taste some international wine and cheese and be inspired by the beautiful pieces our members and local artists\, both young and old are showing. You can buy your tickets here (£12/head). We look forward to seeing you on Saturday!!
URL:https://klsonline.org/event/wine-and-cheese-tasting-and-kls-art-exhibition/
CATEGORIES:Community Events
END:VEVENT
BEGIN:VEVENT
DTSTART;TZID=Europe/London:20160923T200000
DTEND;TZID=Europe/London:20160923T211500
DTSTAMP:20260422T044928
CREATED:20160905T072541Z
LAST-MODIFIED:20160905T072541Z
UID:4249-1474660800-1474665300@klsonline.org
SUMMARY:Shabbat Service
DESCRIPTION:
URL:https://klsonline.org/event/shabbat-service-16/
CATEGORIES:Regular Services
END:VEVENT
BEGIN:VEVENT
DTSTART;TZID=Europe/London:20160924T200000
DTEND;TZID=Europe/London:20160924T213000
DTSTAMP:20260422T044928
CREATED:20160630T130515Z
LAST-MODIFIED:20160630T130515Z
UID:4219-1474747200-1474752600@klsonline.org
SUMMARY:Selichot Service
DESCRIPTION:Selichot service with the KLS Choir. \nPlease join us at this service\, and do bring something to share for kiddush afterwards. \nIf you are not a member of KLS\, please contact the synagogue office beforehand.
URL:https://klsonline.org/event/selichot-service-2/
CATEGORIES:Festivals
END:VEVENT
END:VCALENDAR