BEGIN:VCALENDAR
VERSION:2.0
PRODID:-//Kingston Liberal Synagogue - ECPv6.15.17.1//NONSGML v1.0//EN
CALSCALE:GREGORIAN
METHOD:PUBLISH
X-WR-CALNAME:Kingston Liberal Synagogue
X-ORIGINAL-URL:https://klsonline.org
X-WR-CALDESC:Events for Kingston Liberal Synagogue
REFRESH-INTERVAL;VALUE=DURATION:PT1H
X-Robots-Tag:noindex
X-PUBLISHED-TTL:PT1H
BEGIN:VTIMEZONE
TZID:Europe/London
BEGIN:DAYLIGHT
TZOFFSETFROM:+0000
TZOFFSETTO:+0100
TZNAME:BST
DTSTART:20150329T010000
END:DAYLIGHT
BEGIN:STANDARD
TZOFFSETFROM:+0100
TZOFFSETTO:+0000
TZNAME:GMT
DTSTART:20151025T010000
END:STANDARD
BEGIN:DAYLIGHT
TZOFFSETFROM:+0000
TZOFFSETTO:+0100
TZNAME:BST
DTSTART:20160327T010000
END:DAYLIGHT
BEGIN:STANDARD
TZOFFSETFROM:+0100
TZOFFSETTO:+0000
TZNAME:GMT
DTSTART:20161030T010000
END:STANDARD
BEGIN:DAYLIGHT
TZOFFSETFROM:+0000
TZOFFSETTO:+0100
TZNAME:BST
DTSTART:20170326T010000
END:DAYLIGHT
BEGIN:STANDARD
TZOFFSETFROM:+0100
TZOFFSETTO:+0000
TZNAME:GMT
DTSTART:20171029T010000
END:STANDARD
END:VTIMEZONE
BEGIN:VEVENT
DTSTART;VALUE=DATE:20161002
DTEND;VALUE=DATE:20161003
DTSTAMP:20260422T025948
CREATED:20160509T133824Z
LAST-MODIFIED:20160509T133824Z
UID:4152-1475366400-1475452799@klsonline.org
SUMMARY:Erev Rosh Hashanah
DESCRIPTION:
URL:https://klsonline.org/event/erev-rosh-hashanah-3/
CATEGORIES:Festivals
END:VEVENT
BEGIN:VEVENT
DTSTART;VALUE=DATE:20161003
DTEND;VALUE=DATE:20161004
DTSTAMP:20260422T025948
CREATED:20160509T133848Z
LAST-MODIFIED:20160509T133848Z
UID:4153-1475452800-1475539199@klsonline.org
SUMMARY:Rosh Hashanah
DESCRIPTION:
URL:https://klsonline.org/event/rosh-hashanah-3/
CATEGORIES:Festivals
END:VEVENT
BEGIN:VEVENT
DTSTART;VALUE=DATE:20161011
DTEND;VALUE=DATE:20161012
DTSTAMP:20260422T025948
CREATED:20160509T133923Z
LAST-MODIFIED:20160509T133923Z
UID:4154-1476144000-1476230399@klsonline.org
SUMMARY:Kol Nidre
DESCRIPTION:
URL:https://klsonline.org/event/kol-nidre-3/
CATEGORIES:Festivals
END:VEVENT
BEGIN:VEVENT
DTSTART;VALUE=DATE:20161012
DTEND;VALUE=DATE:20161013
DTSTAMP:20260422T025948
CREATED:20160509T133944Z
LAST-MODIFIED:20160509T133944Z
UID:4155-1476230400-1476316799@klsonline.org
SUMMARY:Yom Kippur
DESCRIPTION:
URL:https://klsonline.org/event/yom-kippur-3/
CATEGORIES:Festivals
END:VEVENT
BEGIN:VEVENT
DTSTART;TZID=Europe/London:20161016T140000
DTEND;TZID=Europe/London:20161016T160000
DTSTAMP:20260422T025948
CREATED:20160905T072907Z
LAST-MODIFIED:20200303T162726Z
UID:4250-1476626400-1476633600@klsonline.org
SUMMARY:Sukkah Quiz
DESCRIPTION:
URL:https://klsonline.org/event/sukkah-quiz/
CATEGORIES:Community Events
END:VEVENT
BEGIN:VEVENT
DTSTART;TZID=Europe/London:20161016T160000
DTEND;TZID=Europe/London:20161016T173000
DTSTAMP:20260422T025948
CREATED:20160905T073015Z
LAST-MODIFIED:20160905T073015Z
UID:4251-1476633600-1476639000@klsonline.org
SUMMARY:Erev Sukkot Service
DESCRIPTION:
URL:https://klsonline.org/event/erev-sukkot-service-2/
CATEGORIES:Regular Services
END:VEVENT
BEGIN:VEVENT
DTSTART;TZID=Europe/London:20161018T200000
DTEND;TZID=Europe/London:20161018T220000
DTSTAMP:20260422T025948
CREATED:20160210T150404Z
LAST-MODIFIED:20200303T163321Z
UID:3991-1476820800-1476828000@klsonline.org
SUMMARY:Choir Rehearsal
DESCRIPTION:Usually once or twice monthly on Tuesdays @ 8pm \nThe KLS Choir rehearses once or twice a month (and enjoy tea\, cake and chat!)\, and sings at the monthly music service on the 4th Friday of the month and at other services.  You don’t have to read music\, you don’t have to read Hebrew.  Come and try it!  Singing is a great way to meet people\, blow away life’s cobwebs\, contribute to KLS\, learn about our prayers and about Jewish music.  Interested?  Contact Sandra Webber via the KLS office.
URL:https://klsonline.org/event/choir-rehearsal-18/
CATEGORIES:Education and Classes
END:VEVENT
BEGIN:VEVENT
DTSTART;TZID=Europe/London:20161023T160000
DTEND;TZID=Europe/London:20161023T173000
DTSTAMP:20260422T025948
CREATED:20160905T073149Z
LAST-MODIFIED:20160905T073149Z
UID:4252-1477238400-1477243800@klsonline.org
SUMMARY:Erev Simchat Torah Service
DESCRIPTION:
URL:https://klsonline.org/event/erev-simchat-torah-service/
CATEGORIES:Festivals
END:VEVENT
BEGIN:VEVENT
DTSTART;TZID=Europe/London:20161028T200000
DTEND;TZID=Europe/London:20161028T213000
DTSTAMP:20260422T025948
CREATED:20160905T073704Z
LAST-MODIFIED:20160905T073704Z
UID:4254-1477684800-1477690200@klsonline.org
SUMMARY:Choral Service - Shabbat Island Discs
DESCRIPTION:
URL:https://klsonline.org/event/choral-service-shabbat-island-discs/
CATEGORIES:Regular Services
END:VEVENT
END:VCALENDAR