BEGIN:VCALENDAR
VERSION:2.0
PRODID:-//Kingston Liberal Synagogue - ECPv6.15.17.1//NONSGML v1.0//EN
CALSCALE:GREGORIAN
METHOD:PUBLISH
X-ORIGINAL-URL:https://klsonline.org
X-WR-CALDESC:Events for Kingston Liberal Synagogue
REFRESH-INTERVAL;VALUE=DURATION:PT1H
X-Robots-Tag:noindex
X-PUBLISHED-TTL:PT1H
BEGIN:VTIMEZONE
TZID:Europe/London
BEGIN:DAYLIGHT
TZOFFSETFROM:+0000
TZOFFSETTO:+0100
TZNAME:BST
DTSTART:20150329T010000
END:DAYLIGHT
BEGIN:STANDARD
TZOFFSETFROM:+0100
TZOFFSETTO:+0000
TZNAME:GMT
DTSTART:20151025T010000
END:STANDARD
BEGIN:DAYLIGHT
TZOFFSETFROM:+0000
TZOFFSETTO:+0100
TZNAME:BST
DTSTART:20160327T010000
END:DAYLIGHT
BEGIN:STANDARD
TZOFFSETFROM:+0100
TZOFFSETTO:+0000
TZNAME:GMT
DTSTART:20161030T010000
END:STANDARD
BEGIN:DAYLIGHT
TZOFFSETFROM:+0000
TZOFFSETTO:+0100
TZNAME:BST
DTSTART:20170326T010000
END:DAYLIGHT
BEGIN:STANDARD
TZOFFSETFROM:+0100
TZOFFSETTO:+0000
TZNAME:GMT
DTSTART:20171029T010000
END:STANDARD
END:VTIMEZONE
BEGIN:VEVENT
DTSTART;TZID=Europe/London:20161109T194500
DTEND;TZID=Europe/London:20161109T220000
DTSTAMP:20260418T190255
CREATED:20161010T081750Z
LAST-MODIFIED:20200303T162726Z
UID:4286-1478720700-1478728800@klsonline.org
SUMMARY:Israeli Film Night
DESCRIPTION:
URL:https://klsonline.org/event/israeli-film-night/
CATEGORIES:Community Events
END:VEVENT
BEGIN:VEVENT
DTSTART;TZID=Europe/London:20161112T190000
DTEND;TZID=Europe/London:20161112T223000
DTSTAMP:20260418T190255
CREATED:20160628T130139Z
LAST-MODIFIED:20200303T162726Z
UID:4214-1478977200-1478989800@klsonline.org
SUMMARY:Supper Quiz
DESCRIPTION:Save the date!  Details to be confirmed nearer the time.
URL:https://klsonline.org/event/supper-quiz/
CATEGORIES:Community Events
END:VEVENT
BEGIN:VEVENT
DTSTART;TZID=Europe/London:20161125T200000
DTEND;TZID=Europe/London:20161125T213000
DTSTAMP:20260418T190255
CREATED:20160905T074100Z
LAST-MODIFIED:20160905T074100Z
UID:4255-1480104000-1480109400@klsonline.org
SUMMARY:Music Service
DESCRIPTION:
URL:https://klsonline.org/event/music-service/
CATEGORIES:Regular Services
END:VEVENT
BEGIN:VEVENT
DTSTART;TZID=Europe/London:20161127T080000
DTEND;TZID=Europe/London:20161127T170000
DTSTAMP:20260418T190255
CREATED:20160905T074240Z
LAST-MODIFIED:20200303T162726Z
UID:4256-1480233600-1480266000@klsonline.org
SUMMARY:Mitzvah Day
DESCRIPTION:
URL:https://klsonline.org/event/mitzvah-day/
CATEGORIES:Community Events
END:VEVENT
END:VCALENDAR