BEGIN:VCALENDAR
VERSION:2.0
PRODID:-//Kingston Liberal Synagogue - ECPv6.15.17.1//NONSGML v1.0//EN
CALSCALE:GREGORIAN
METHOD:PUBLISH
X-ORIGINAL-URL:https://klsonline.org
X-WR-CALDESC:Events for Kingston Liberal Synagogue
REFRESH-INTERVAL;VALUE=DURATION:PT1H
X-Robots-Tag:noindex
X-PUBLISHED-TTL:PT1H
BEGIN:VTIMEZONE
TZID:Europe/London
BEGIN:DAYLIGHT
TZOFFSETFROM:+0000
TZOFFSETTO:+0100
TZNAME:BST
DTSTART:20150329T010000
END:DAYLIGHT
BEGIN:STANDARD
TZOFFSETFROM:+0100
TZOFFSETTO:+0000
TZNAME:GMT
DTSTART:20151025T010000
END:STANDARD
BEGIN:DAYLIGHT
TZOFFSETFROM:+0000
TZOFFSETTO:+0100
TZNAME:BST
DTSTART:20160327T010000
END:DAYLIGHT
BEGIN:STANDARD
TZOFFSETFROM:+0100
TZOFFSETTO:+0000
TZNAME:GMT
DTSTART:20161030T010000
END:STANDARD
BEGIN:DAYLIGHT
TZOFFSETFROM:+0000
TZOFFSETTO:+0100
TZNAME:BST
DTSTART:20170326T010000
END:DAYLIGHT
BEGIN:STANDARD
TZOFFSETFROM:+0100
TZOFFSETTO:+0000
TZNAME:GMT
DTSTART:20171029T010000
END:STANDARD
END:VTIMEZONE
BEGIN:VEVENT
DTSTART;TZID=Europe/London:20161214T194500
DTEND;TZID=Europe/London:20161214T220000
DTSTAMP:20260421T233530
CREATED:20161010T082003Z
LAST-MODIFIED:20200303T162726Z
UID:4287-1481744700-1481752800@klsonline.org
SUMMARY:Israeli Film Night
DESCRIPTION:
URL:https://klsonline.org/event/israeli-film-night-2/
CATEGORIES:Community Events
END:VEVENT
BEGIN:VEVENT
DTSTART;TZID=Europe/London:20161223T200000
DTEND;TZID=Europe/London:20161223T213000
DTSTAMP:20260421T233530
CREATED:20160905T074734Z
LAST-MODIFIED:20160905T074734Z
UID:4257-1482523200-1482528600@klsonline.org
SUMMARY:Service
DESCRIPTION:
URL:https://klsonline.org/event/service-2/
CATEGORIES:Regular Services
END:VEVENT
BEGIN:VEVENT
DTSTART;TZID=Europe/London:20161224T180000
DTEND;TZID=Europe/London:20161224T193000
DTSTAMP:20260421T233530
CREATED:20160905T075246Z
LAST-MODIFIED:20160905T075246Z
UID:4258-1482602400-1482607800@klsonline.org
SUMMARY:Erev Chanukah Service
DESCRIPTION:
URL:https://klsonline.org/event/erev-chanukah-service/
CATEGORIES:Regular Services
END:VEVENT
END:VCALENDAR