BEGIN:VCALENDAR
VERSION:2.0
PRODID:-//Kingston Liberal Synagogue - ECPv6.15.17.1//NONSGML v1.0//EN
CALSCALE:GREGORIAN
METHOD:PUBLISH
X-ORIGINAL-URL:https://klsonline.org
X-WR-CALDESC:Events for Kingston Liberal Synagogue
REFRESH-INTERVAL;VALUE=DURATION:PT1H
X-Robots-Tag:noindex
X-PUBLISHED-TTL:PT1H
BEGIN:VTIMEZONE
TZID:Europe/London
BEGIN:DAYLIGHT
TZOFFSETFROM:+0000
TZOFFSETTO:+0100
TZNAME:BST
DTSTART:20160327T010000
END:DAYLIGHT
BEGIN:STANDARD
TZOFFSETFROM:+0100
TZOFFSETTO:+0000
TZNAME:GMT
DTSTART:20161030T010000
END:STANDARD
BEGIN:DAYLIGHT
TZOFFSETFROM:+0000
TZOFFSETTO:+0100
TZNAME:BST
DTSTART:20170326T010000
END:DAYLIGHT
BEGIN:STANDARD
TZOFFSETFROM:+0100
TZOFFSETTO:+0000
TZNAME:GMT
DTSTART:20171029T010000
END:STANDARD
BEGIN:DAYLIGHT
TZOFFSETFROM:+0000
TZOFFSETTO:+0100
TZNAME:BST
DTSTART:20180325T010000
END:DAYLIGHT
BEGIN:STANDARD
TZOFFSETFROM:+0100
TZOFFSETTO:+0000
TZNAME:GMT
DTSTART:20181028T010000
END:STANDARD
END:VTIMEZONE
BEGIN:VEVENT
DTSTART;TZID=Europe/London:20170111T074500
DTEND;TZID=Europe/London:20170111T220000
DTSTAMP:20260421T221251
CREATED:20161010T082103Z
LAST-MODIFIED:20200303T162725Z
UID:4288-1484120700-1484172000@klsonline.org
SUMMARY:Israeli Film Night
DESCRIPTION:
URL:https://klsonline.org/event/israeli-film-night-3/
CATEGORIES:Community Events
END:VEVENT
BEGIN:VEVENT
DTSTART;TZID=Europe/London:20170127T080000
DTEND;TZID=Europe/London:20170127T220000
DTSTAMP:20260421T221251
CREATED:20170126T151753Z
LAST-MODIFIED:20170126T151753Z
UID:4368-1485504000-1485554400@klsonline.org
SUMMARY:Music Service with the Choir
DESCRIPTION:Rabbi Miri Lawrence will talk about her current researching for a PhD examining Judaism in the suburban home and including exploring the changes involved in the move from the East End into the suburbs. \nGuests welcome to KLS.
URL:https://klsonline.org/event/music-service-with-the-choir/
CATEGORIES:Regular Services
END:VEVENT
BEGIN:VEVENT
DTSTART;TZID=Europe/London:20170128T080000
DTEND;TZID=Europe/London:20170128T170000
DTSTAMP:20260421T221251
CREATED:20170124T203614Z
LAST-MODIFIED:20170124T203614Z
UID:4337-1485590400-1485622800@klsonline.org
SUMMARY:Shabbat Service
DESCRIPTION:Services held from 11.15am to 12.30pm. Followed by Kiddush. \nSee Services for more information on the type of services held at KLS. \nGuests are welcome to KLS but please contact the office beforehand.
URL:https://klsonline.org/event/shabbat-service/
CATEGORIES:Regular Services
END:VEVENT
BEGIN:VEVENT
DTSTART;TZID=Europe/London:20170128T094500
DTEND;TZID=Europe/London:20170128T111500
DTSTAMP:20260421T221251
CREATED:20170124T205112Z
LAST-MODIFIED:20200303T162958Z
UID:4344-1485596700-1485602100@klsonline.org
SUMMARY:Beiteinu
DESCRIPTION:
URL:https://klsonline.org/event/beiteinu-3/
CATEGORIES:Education and Classes
END:VEVENT
END:VCALENDAR