BEGIN:VCALENDAR
VERSION:2.0
PRODID:-//Kingston Liberal Synagogue - ECPv6.15.17.1//NONSGML v1.0//EN
CALSCALE:GREGORIAN
METHOD:PUBLISH
X-ORIGINAL-URL:https://klsonline.org
X-WR-CALDESC:Events for Kingston Liberal Synagogue
REFRESH-INTERVAL;VALUE=DURATION:PT1H
X-Robots-Tag:noindex
X-PUBLISHED-TTL:PT1H
BEGIN:VTIMEZONE
TZID:Europe/London
BEGIN:DAYLIGHT
TZOFFSETFROM:+0000
TZOFFSETTO:+0100
TZNAME:BST
DTSTART:20160327T010000
END:DAYLIGHT
BEGIN:STANDARD
TZOFFSETFROM:+0100
TZOFFSETTO:+0000
TZNAME:GMT
DTSTART:20161030T010000
END:STANDARD
BEGIN:DAYLIGHT
TZOFFSETFROM:+0000
TZOFFSETTO:+0100
TZNAME:BST
DTSTART:20170326T010000
END:DAYLIGHT
BEGIN:STANDARD
TZOFFSETFROM:+0100
TZOFFSETTO:+0000
TZNAME:GMT
DTSTART:20171029T010000
END:STANDARD
BEGIN:DAYLIGHT
TZOFFSETFROM:+0000
TZOFFSETTO:+0100
TZNAME:BST
DTSTART:20180325T010000
END:DAYLIGHT
BEGIN:STANDARD
TZOFFSETFROM:+0100
TZOFFSETTO:+0000
TZNAME:GMT
DTSTART:20181028T010000
END:STANDARD
END:VTIMEZONE
BEGIN:VEVENT
DTSTART;TZID=Europe/London:20170908T200000
DTEND;TZID=Europe/London:20170908T213000
DTSTAMP:20260421T073314
CREATED:20140508T115556Z
LAST-MODIFIED:20170902T102431Z
UID:4260-1504900800-1504906200@klsonline.org
SUMMARY:Shabbat Service
DESCRIPTION:Shabbat Service.\nIt is exactly 50 years today since the very first KLS service. \n Please bring something to share for Kiddush.\n 
URL:https://klsonline.org/event/shabbat-home-2014-10-10-2015-04-10-2015-10-09-2017-09-08/
CATEGORIES:Regular Services
END:VEVENT
BEGIN:VEVENT
DTSTART;TZID=Europe/London:20170915T200000
DTEND;TZID=Europe/London:20170915T210000
DTSTAMP:20260421T073314
CREATED:20140508T120052Z
LAST-MODIFIED:20170902T102512Z
UID:4268-1505505600-1505509200@klsonline.org
SUMMARY:Shabbat@home
DESCRIPTION:On the second Friday of each month a member invites us to welcome Shabbat at home with them. The service is informal and friendly\, from our siddur\, but please feel free to bring a reading or a topic for discussion.  Please bring something to share for the Kiddush. \nThe venue for this month is to be confirmed.  Please contact the office for the address and to let us know you intend to come (but you won’t be turned away if you don’t). \nHosts needed:  If you would like to host one of these services in future months\, please contact the Synagogue Office.
URL:https://klsonline.org/event/shabbat-service-3-2015-11-20-2017-09-15/
CATEGORIES:Regular Services
END:VEVENT
BEGIN:VEVENT
DTSTART;TZID=Europe/London:20170916T200000
DTEND;TZID=Europe/London:20170916T220000
DTSTAMP:20260421T073314
CREATED:20170814T152303Z
LAST-MODIFIED:20170814T152303Z
UID:4478-1505592000-1505599200@klsonline.org
SUMMARY:Selichot
DESCRIPTION:Choral Service
URL:https://klsonline.org/event/selichot-3/
CATEGORIES:Festivals
END:VEVENT
BEGIN:VEVENT
DTSTART;TZID=Europe/London:20170920T200000
DTEND;TZID=Europe/London:20170920T220000
DTSTAMP:20260421T073314
CREATED:20170814T152424Z
LAST-MODIFIED:20170814T152424Z
UID:4479-1505937600-1505944800@klsonline.org
SUMMARY:Erev Rosh Hashanah Service
DESCRIPTION:
URL:https://klsonline.org/event/erev-rosh-hashanah-service-3/
END:VEVENT
BEGIN:VEVENT
DTSTART;TZID=Europe/London:20170921T103000
DTEND;TZID=Europe/London:20170921T113000
DTSTAMP:20260421T073314
CREATED:20170814T152506Z
LAST-MODIFIED:20170814T152506Z
UID:4480-1505989800-1505993400@klsonline.org
SUMMARY:Rosh Hashanah Service
DESCRIPTION:
URL:https://klsonline.org/event/rosh-hashanah-service-3/
END:VEVENT
BEGIN:VEVENT
DTSTART;TZID=Europe/London:20170929T200000
DTEND;TZID=Europe/London:20170929T220000
DTSTAMP:20260421T073314
CREATED:20170814T152619Z
LAST-MODIFIED:20170814T152619Z
UID:4482-1506715200-1506722400@klsonline.org
SUMMARY:Kol Nidre Service
DESCRIPTION:
URL:https://klsonline.org/event/kol-nidre-service-3/
CATEGORIES:Festivals
END:VEVENT
BEGIN:VEVENT
DTSTART;TZID=Europe/London:20170930T110000
DTEND;TZID=Europe/London:20170930T120000
DTSTAMP:20260421T073314
CREATED:20170814T152700Z
LAST-MODIFIED:20170814T152700Z
UID:4483-1506769200-1506772800@klsonline.org
SUMMARY:Yom Kippur Service
DESCRIPTION:
URL:https://klsonline.org/event/yom-kippur-service-3/
CATEGORIES:Festivals
END:VEVENT
BEGIN:VEVENT
DTSTART;TZID=Europe/London:20170930T113000
DTEND;TZID=Europe/London:20170930T130000
DTSTAMP:20260421T073314
CREATED:20170814T152742Z
LAST-MODIFIED:20170814T152742Z
UID:4484-1506771000-1506776400@klsonline.org
SUMMARY:Yom Kippur Family Service
DESCRIPTION:
URL:https://klsonline.org/event/yom-kippur-family-service-3/
CATEGORIES:Festivals
END:VEVENT
BEGIN:VEVENT
DTSTART;TZID=Europe/London:20170930T131500
DTEND;TZID=Europe/London:20170930T150000
DTSTAMP:20260421T073314
CREATED:20170814T152827Z
LAST-MODIFIED:20170814T152827Z
UID:4485-1506777300-1506783600@klsonline.org
SUMMARY:Yom Kippur Additional Service
DESCRIPTION:
URL:https://klsonline.org/event/yom-kippur-additional-service-3/
CATEGORIES:Festivals
END:VEVENT
BEGIN:VEVENT
DTSTART;TZID=Europe/London:20170930T161500
DTEND;TZID=Europe/London:20170930T183000
DTSTAMP:20260421T073314
CREATED:20170814T152929Z
LAST-MODIFIED:20170927T223255Z
UID:4486-1506788100-1506796200@klsonline.org
SUMMARY:Yom Kippur Afternoon Service
DESCRIPTION:Concluding Service and Havdalah
URL:https://klsonline.org/event/yom-kippur-afternoon-service/
CATEGORIES:Festivals
END:VEVENT
END:VCALENDAR