BEGIN:VCALENDAR
VERSION:2.0
PRODID:-//Kingston Liberal Synagogue - ECPv6.15.17.1//NONSGML v1.0//EN
CALSCALE:GREGORIAN
METHOD:PUBLISH
X-WR-CALNAME:Kingston Liberal Synagogue
X-ORIGINAL-URL:https://klsonline.org
X-WR-CALDESC:Events for Kingston Liberal Synagogue
REFRESH-INTERVAL;VALUE=DURATION:PT1H
X-Robots-Tag:noindex
X-PUBLISHED-TTL:PT1H
BEGIN:VTIMEZONE
TZID:Europe/London
BEGIN:DAYLIGHT
TZOFFSETFROM:+0000
TZOFFSETTO:+0100
TZNAME:BST
DTSTART:20160327T010000
END:DAYLIGHT
BEGIN:STANDARD
TZOFFSETFROM:+0100
TZOFFSETTO:+0000
TZNAME:GMT
DTSTART:20161030T010000
END:STANDARD
BEGIN:DAYLIGHT
TZOFFSETFROM:+0000
TZOFFSETTO:+0100
TZNAME:BST
DTSTART:20170326T010000
END:DAYLIGHT
BEGIN:STANDARD
TZOFFSETFROM:+0100
TZOFFSETTO:+0000
TZNAME:GMT
DTSTART:20171029T010000
END:STANDARD
BEGIN:DAYLIGHT
TZOFFSETFROM:+0000
TZOFFSETTO:+0100
TZNAME:BST
DTSTART:20180325T010000
END:DAYLIGHT
BEGIN:STANDARD
TZOFFSETFROM:+0100
TZOFFSETTO:+0000
TZNAME:GMT
DTSTART:20181028T010000
END:STANDARD
END:VTIMEZONE
BEGIN:VEVENT
DTSTART;TZID=Europe/London:20171111T190000
DTEND;TZID=Europe/London:20171111T220000
DTSTAMP:20260421T025454
CREATED:20170313T163852Z
LAST-MODIFIED:20200303T162725Z
UID:4392-1510426800-1510437600@klsonline.org
SUMMARY:KLS Talent Show
DESCRIPTION:
URL:https://klsonline.org/event/kls-talent-show/
CATEGORIES:Community Events
END:VEVENT
BEGIN:VEVENT
DTSTART;TZID=Europe/London:20171114T200000
DTEND;TZID=Europe/London:20171114T220000
DTSTAMP:20260421T025454
CREATED:20140508T105910Z
LAST-MODIFIED:20200303T163320Z
UID:4307-1510689600-1510696800@klsonline.org
SUMMARY:Table Tennis Club
DESCRIPTION:Please be advised that Table Tennis this week has been cancelled. It will resume again on 21st November 2017 \nPlease contact the Synagogue Office if you would like to join us \nThe new table tennis table is “christened”!!!\n. \n 
URL:https://klsonline.org/event/table-tennis-club-2017-11-14/
LOCATION:NFJ Hall
CATEGORIES:Education and Classes
END:VEVENT
BEGIN:VEVENT
DTSTART;TZID=Europe/London:20171118T094500
DTEND;TZID=Europe/London:20171118T110000
DTSTAMP:20260421T025454
CREATED:20171115T143426Z
LAST-MODIFIED:20200303T162957Z
UID:4527-1510998300-1511002800@klsonline.org
SUMMARY:Beiteinu
DESCRIPTION:Beitienu
URL:https://klsonline.org/event/beiteinu-13/
CATEGORIES:Education and Classes
END:VEVENT
BEGIN:VEVENT
DTSTART;TZID=Europe/London:20171118T111500
DTEND;TZID=Europe/London:20171118T123000
DTSTAMP:20260421T025454
CREATED:20171115T142758Z
LAST-MODIFIED:20171115T142758Z
UID:4521-1511003700-1511008200@klsonline.org
SUMMARY:Service
DESCRIPTION:Services held from 11.15am to 12.30pm. Followed by Kiddush. \nSee Services for more information on the type of services held at KLS. \nGuests are welcome to KLS but please contact the office beforehand.
URL:https://klsonline.org/event/service-9/
CATEGORIES:Regular Services
END:VEVENT
BEGIN:VEVENT
DTSTART;TZID=Europe/London:20171124T200000
DTEND;TZID=Europe/London:20171124T213000
DTSTAMP:20260421T025454
CREATED:20171115T142919Z
LAST-MODIFIED:20171115T143309Z
UID:4523-1511553600-1511559000@klsonline.org
SUMMARY:Choral Service - 8pm
DESCRIPTION:
URL:https://klsonline.org/event/choral-service-8pm/
CATEGORIES:Regular Services
END:VEVENT
BEGIN:VEVENT
DTSTART;TZID=Europe/London:20171125T094500
DTEND;TZID=Europe/London:20171125T110000
DTSTAMP:20260421T025454
CREATED:20171115T143512Z
LAST-MODIFIED:20200303T162957Z
UID:4528-1511603100-1511607600@klsonline.org
SUMMARY:Beiteinu
DESCRIPTION:Beiteinu
URL:https://klsonline.org/event/beiteinu-14/
CATEGORIES:Education and Classes
END:VEVENT
BEGIN:VEVENT
DTSTART;TZID=Europe/London:20171125T100000
DTEND;TZID=Europe/London:20171125T110000
DTSTAMP:20260421T025454
CREATED:20171115T143628Z
LAST-MODIFIED:20200303T163320Z
UID:4529-1511604000-1511607600@klsonline.org
SUMMARY:Bookcrashers
DESCRIPTION:Bookcrashers at 10am
URL:https://klsonline.org/event/bookcrashers-19/
CATEGORIES:Education and Classes
END:VEVENT
BEGIN:VEVENT
DTSTART;TZID=Europe/London:20171125T111500
DTEND;TZID=Europe/London:20171125T123000
DTSTAMP:20260421T025454
CREATED:20171115T143011Z
LAST-MODIFIED:20171115T143011Z
UID:4524-1511608500-1511613000@klsonline.org
SUMMARY:Service
DESCRIPTION:Services held from 11.15am to 12.30pm. Followed by Kiddush. \nSee Services for more information on the type of services held at KLS. \nGuests are welcome to KLS but please contact the office beforehand.
URL:https://klsonline.org/event/service-10/
CATEGORIES:Regular Services
END:VEVENT
END:VCALENDAR