BEGIN:VCALENDAR
VERSION:2.0
PRODID:-//Kingston Liberal Synagogue - ECPv6.15.17.1//NONSGML v1.0//EN
CALSCALE:GREGORIAN
METHOD:PUBLISH
X-ORIGINAL-URL:https://klsonline.org
X-WR-CALDESC:Events for Kingston Liberal Synagogue
REFRESH-INTERVAL;VALUE=DURATION:PT1H
X-Robots-Tag:noindex
X-PUBLISHED-TTL:PT1H
BEGIN:VTIMEZONE
TZID:Europe/London
BEGIN:DAYLIGHT
TZOFFSETFROM:+0000
TZOFFSETTO:+0100
TZNAME:BST
DTSTART:20170326T010000
END:DAYLIGHT
BEGIN:STANDARD
TZOFFSETFROM:+0100
TZOFFSETTO:+0000
TZNAME:GMT
DTSTART:20171029T010000
END:STANDARD
BEGIN:DAYLIGHT
TZOFFSETFROM:+0000
TZOFFSETTO:+0100
TZNAME:BST
DTSTART:20180325T010000
END:DAYLIGHT
BEGIN:STANDARD
TZOFFSETFROM:+0100
TZOFFSETTO:+0000
TZNAME:GMT
DTSTART:20181028T010000
END:STANDARD
BEGIN:DAYLIGHT
TZOFFSETFROM:+0000
TZOFFSETTO:+0100
TZNAME:BST
DTSTART:20190331T010000
END:DAYLIGHT
BEGIN:STANDARD
TZOFFSETFROM:+0100
TZOFFSETTO:+0000
TZNAME:GMT
DTSTART:20191027T010000
END:STANDARD
END:VTIMEZONE
BEGIN:VEVENT
DTSTART;TZID=Europe/London:20180106T094500
DTEND;TZID=Europe/London:20180106T110000
DTSTAMP:20260420T233429
CREATED:20171115T145940Z
LAST-MODIFIED:20200303T162956Z
UID:4543-1515231900-1515236400@klsonline.org
SUMMARY:Beiteinu & Shabbatots
DESCRIPTION:Beiteinu and Shabbatots at 9.45am
URL:https://klsonline.org/event/beiteinu-shabbatots-3/
CATEGORIES:Education and Classes
END:VEVENT
BEGIN:VEVENT
DTSTART;TZID=Europe/London:20180106T111500
DTEND;TZID=Europe/London:20180106T123000
DTSTAMP:20260420T233429
CREATED:20171115T145851Z
LAST-MODIFIED:20171115T145851Z
UID:4542-1515237300-1515241800@klsonline.org
SUMMARY:Service
DESCRIPTION:Services held from 11.15am to 12.30pm. Followed by Kiddush. \nSee Services for more information on the type of services held at KLS. \nGuests are welcome to KLS but please contact the office beforehand.
URL:https://klsonline.org/event/service-15/
CATEGORIES:Regular Services
END:VEVENT
BEGIN:VEVENT
DTSTART;TZID=Europe/London:20180109T200000
DTEND;TZID=Europe/London:20180109T220000
DTSTAMP:20260420T233429
CREATED:20140508T105910Z
LAST-MODIFIED:20200303T163320Z
UID:4331-1515528000-1515535200@klsonline.org
SUMMARY:Table Tennis Club
DESCRIPTION:2nd Tuesday of the month from 8-10pm \nAll welcome to join us for a friendly game of table tennis.  We meet monthly\, usually on the second Tuesday of the month\, at the synagogue in the NFJ Hall.  All ages and all abilities.  The club recently received a new table in celebration of Robert Markless’s tutorship of 100 Bnei Mitzvah. \nWe have two tables and play singles as well as doubles. We usually end the evening with all around the table\, when people have to keep moving around and hitting alternatively\, losing a “life” every time they lose a point. After three lives\, a person falls out. This continues until two left and they then play a best of five points singles. It can be very hectic at times\, but good fun. \nWe took part in a national tournament in 2012 and won a trophy! \nPlease contact the Synagogue Office if you would like to join us \nThe new table tennis table is “christened”!!!\n. \n 
URL:https://klsonline.org/event/table-tennis-club-2018-01-09/
LOCATION:NFJ Hall
CATEGORIES:Education and Classes
END:VEVENT
BEGIN:VEVENT
DTSTART;TZID=Europe/London:20180112T200000
DTEND;TZID=Europe/London:20180112T213000
DTSTAMP:20260420T233429
CREATED:20140508T115556Z
LAST-MODIFIED:20180108T174245Z
UID:4333-1515787200-1515792600@klsonline.org
SUMMARY:Shabbat @ Home
DESCRIPTION:On the second Friday of each month a member invites us to welcome Shabbat at home with them. The service is informal and friendly\, from our siddur\, but please feel free to bring a reading or a topic for discussion.  Please bring something to share for the Kiddush. \nThe venue for this month is in Surbiton\, and will be led by Rabbi René.  Please contact the office for the address and to let us know you intend to come (but you won’t be turned away if you don’t). \nHosts needed:  If you would like to host one of these services in future months\, please contact the Synagogue Office. \n 
URL:https://klsonline.org/event/shabbat-home-2014-10-10-2015-04-10-2015-10-09-2018-01-12/
CATEGORIES:Regular Services
END:VEVENT
BEGIN:VEVENT
DTSTART;TZID=Europe/London:20180113T094500
DTEND;TZID=Europe/London:20180113T110000
DTSTAMP:20260420T233429
CREATED:20171115T150108Z
LAST-MODIFIED:20200303T162956Z
UID:4545-1515836700-1515841200@klsonline.org
SUMMARY:Beiteinu
DESCRIPTION:Beiteinu – Religion School\n\n\nThe school uses the principles of Informal Education to teach a religious knowledge and Hebrew curriculum to pupils aged between 5-16. We also have a developing early years’ programme\, Shabbatots\, which runs monthly when we have Family Services. \n  \nThe children have a short breaktime – please bring fruit for the snack.  There is a short assembly for all children each week\, and teaching in year groups.  Music\, art and Hebrew teaching feature for children in primary school. \n  \nThe 12-13 year olds prepare for B’nei Mitzvah\, then complete their Beiteinu experience in the Kabbalat Torah class. \n\nInterested in bringing your child to Beiteinu?  Please contact the office and we can arrange for you to talk to the Rabbi and the Beiteinu Head Teacher.
URL:https://klsonline.org/event/beiteinu-16/
CATEGORIES:Education and Classes
END:VEVENT
BEGIN:VEVENT
DTSTART;TZID=Europe/London:20180113T111500
DTEND;TZID=Europe/London:20180113T123000
DTSTAMP:20260420T233429
CREATED:20171115T150023Z
LAST-MODIFIED:20181211T124727Z
UID:4544-1515842100-1515846600@klsonline.org
SUMMARY:Shabbat Service
DESCRIPTION:Most services are held from 11.15am to 12.30pm\, followed by Kiddush. \nSee ‘Services’ for more information on the type of services held at KLS. \nGuests are welcome to KLS but please contact the office beforehand.
URL:https://klsonline.org/event/service-16/
CATEGORIES:Regular Services
END:VEVENT
BEGIN:VEVENT
DTSTART;TZID=Europe/London:20180119T200000
DTEND;TZID=Europe/London:20180119T210000
DTSTAMP:20260420T233429
CREATED:20140508T120052Z
LAST-MODIFIED:20180108T175103Z
UID:4335-1516392000-1516395600@klsonline.org
SUMMARY:Shabbat Service
DESCRIPTION:Shabbat Service led by Norman and Jill Hyman.  Please bring something to share for Kiddush.
URL:https://klsonline.org/event/shabbat-service-3-2015-11-20-2018-01-19/
CATEGORIES:Regular Services
END:VEVENT
BEGIN:VEVENT
DTSTART;TZID=Europe/London:20180120T111500
DTEND;TZID=Europe/London:20180120T123000
DTSTAMP:20260420T233429
CREATED:20180108T175549Z
LAST-MODIFIED:20180108T175549Z
UID:4560-1516446900-1516451400@klsonline.org
SUMMARY:Shabbat Service
DESCRIPTION:Service held from 11.15am to 12.30pm. This week is Mental Health Awareness Shabbat\, and will be led by Craig Simmons and Sara Alston.  Followed by Kiddush. \nSee Services for more information on the type of services held at KLS. \nGuests are welcome to KLS but please contact the office beforehand.
URL:https://klsonline.org/event/shabbat-service-18/
CATEGORIES:Regular Services
END:VEVENT
BEGIN:VEVENT
DTSTART;TZID=Europe/London:20180126T200000
DTEND;TZID=Europe/London:20180126T213000
DTSTAMP:20260420T233429
CREATED:20180108T180312Z
LAST-MODIFIED:20180108T210928Z
UID:4562-1516996800-1517002200@klsonline.org
SUMMARY:Choral Service with Shabbat Island Discs
DESCRIPTION:Service held with the KLS Choir. This week’s service will be led by Rabbi Janet Darley and our Director of Music\, Rebekkah Weddell.  We will be hearing the Shabbat Island Discs of Jonathan and Ezra Miller during the service.  Please bring something sweet or savoury (but must be vegetarian!) to share for Kiddush. \nSee Services for more information on the type of services held at KLS. \nGuests are welcome to KLS but please contact the office beforehand.
URL:https://klsonline.org/event/choral-service-with-shabbat-island-discs/
CATEGORIES:Regular Services
END:VEVENT
BEGIN:VEVENT
DTSTART;TZID=Europe/London:20180127T111500
DTEND;TZID=Europe/London:20180127T123000
DTSTAMP:20260420T233429
CREATED:20180108T180705Z
LAST-MODIFIED:20180108T180705Z
UID:4563-1517051700-1517056200@klsonline.org
SUMMARY:Shabbat Service
DESCRIPTION:Service held from 11.15am to 12.30pm. This week the service will be led by Rabbi Janet Darley.  Followed by Kiddush. \nSee Services for more information on the type of services held at KLS. \nGuests are welcome to KLS but please contact the office beforehand.
URL:https://klsonline.org/event/shabbat-service-19/
CATEGORIES:Regular Services
END:VEVENT
BEGIN:VEVENT
DTSTART;TZID=Europe/London:20180129T080000
DTEND;TZID=Europe/London:20180130T170000
DTSTAMP:20260420T233429
CREATED:20170313T185157Z
LAST-MODIFIED:20200303T162725Z
UID:4394-1517212800-1517331600@klsonline.org
SUMMARY:HMD Workshops
DESCRIPTION:
URL:https://klsonline.org/event/hmd-workshops/
CATEGORIES:Community Events
END:VEVENT
END:VCALENDAR