BEGIN:VCALENDAR
VERSION:2.0
PRODID:-//Kingston Liberal Synagogue - ECPv6.15.17.1//NONSGML v1.0//EN
CALSCALE:GREGORIAN
METHOD:PUBLISH
X-WR-CALNAME:Kingston Liberal Synagogue
X-ORIGINAL-URL:https://klsonline.org
X-WR-CALDESC:Events for Kingston Liberal Synagogue
REFRESH-INTERVAL;VALUE=DURATION:PT1H
X-Robots-Tag:noindex
X-PUBLISHED-TTL:PT1H
BEGIN:VTIMEZONE
TZID:Europe/London
BEGIN:DAYLIGHT
TZOFFSETFROM:+0000
TZOFFSETTO:+0100
TZNAME:BST
DTSTART:20170326T010000
END:DAYLIGHT
BEGIN:STANDARD
TZOFFSETFROM:+0100
TZOFFSETTO:+0000
TZNAME:GMT
DTSTART:20171029T010000
END:STANDARD
BEGIN:DAYLIGHT
TZOFFSETFROM:+0000
TZOFFSETTO:+0100
TZNAME:BST
DTSTART:20180325T010000
END:DAYLIGHT
BEGIN:STANDARD
TZOFFSETFROM:+0100
TZOFFSETTO:+0000
TZNAME:GMT
DTSTART:20181028T010000
END:STANDARD
BEGIN:DAYLIGHT
TZOFFSETFROM:+0000
TZOFFSETTO:+0100
TZNAME:BST
DTSTART:20190331T010000
END:DAYLIGHT
BEGIN:STANDARD
TZOFFSETFROM:+0100
TZOFFSETTO:+0000
TZNAME:GMT
DTSTART:20191027T010000
END:STANDARD
END:VTIMEZONE
BEGIN:VEVENT
DTSTART;TZID=Europe/London:20180405T190000
DTEND;TZID=Europe/London:20180405T203000
DTSTAMP:20260420T190325
CREATED:20180403T114704Z
LAST-MODIFIED:20200303T163319Z
UID:4779-1522954800-1522960200@klsonline.org
SUMMARY:Krav Mega
DESCRIPTION:Krav Maga (Self-Defence)\n\n\nWeekly 1 1/2 hour class on Thursdays 7-8.30pm\nStay sharp. Be fit. Burn 1000 calories. Look after yourself. \n\n\n\nBe aware\, confident\, safe! Burn calories and improve fitness! \nAdult self-defence classes (Urban Krav Maga) run on most Thursdays at 7pm. \nAn additional warm up takes place at 7.30pm. \nSessions last for 90 mins. \nFirst class free – but please book in advance via the office. \nKrav Maga is great for confidence\, awareness\, exercise\, stress-relief\, fitness and self defence.  You don’t have to be fit to start but your fitness will improve.  Geared to mixed ages and abilities\, beginners welcome.  cost- £10 per session\, paid directly to the external trainer.  Please contact the KLS Office for more information or if you would like to try Krav Maga.
URL:https://klsonline.org/event/krav-mega/
CATEGORIES:Education and Classes
END:VEVENT
BEGIN:VEVENT
DTSTART;TZID=Europe/London:20180410T200000
DTEND;TZID=Europe/London:20180410T220000
DTSTAMP:20260420T190325
CREATED:20140508T105910Z
LAST-MODIFIED:20200303T163319Z
UID:4407-1523390400-1523397600@klsonline.org
SUMMARY:Table Tennis Club
DESCRIPTION:2nd Tuesday of the month from 8-10pm \nAll welcome to join us for a friendly game of table tennis.  We meet monthly\, usually on the second Tuesday of the month\, at the synagogue in the NFJ Hall.  All ages and all abilities.  The club recently received a new table in celebration of Robert Markless’s tutorship of 100 Bnei Mitzvah. \nWe have two tables and play singles as well as doubles. We usually end the evening with all around the table\, when people have to keep moving around and hitting alternatively\, losing a “life” every time they lose a point. After three lives\, a person falls out. This continues until two left and they then play a best of five points singles. It can be very hectic at times\, but good fun. \nWe took part in a national tournament in 2012 and won a trophy! \nPlease contact the Synagogue Office if you would like to join us \nThe new table tennis table is “christened”!!!\n. \n 
URL:https://klsonline.org/event/table-tennis-club-2018-04-10/
LOCATION:NFJ Hall
CATEGORIES:Education and Classes
END:VEVENT
BEGIN:VEVENT
DTSTART;TZID=Europe/London:20180411T123000
DTEND;TZID=Europe/London:20180411T140000
DTSTAMP:20260420T190325
CREATED:20180403T114124Z
LAST-MODIFIED:20200303T162725Z
UID:4777-1523449800-1523455200@klsonline.org
SUMMARY:Meet & Eat
DESCRIPTION:Meet & Eat – 12:30pm \nMeet & Eat with Mike Barnato\, KLS President and a previous Chair. He is an interesting speaker who has had a diverse career – mentor\, facilitator\, story teller to name but three – and he will also be talking about how he became so involved in our community and learnt to do a handstand! \nSo come along and join us for a light lunch and an enjoyable and relaxing afternoon with fellow KLS members. Please let the office (020 8398 7400) know if you would like to come along. \nDonation £3.
URL:https://klsonline.org/event/meet-eat/
CATEGORIES:Community Events
END:VEVENT
BEGIN:VEVENT
DTSTART;TZID=Europe/London:20180411T200000
DTEND;TZID=Europe/London:20180411T213000
DTSTAMP:20260420T190325
CREATED:20180403T114253Z
LAST-MODIFIED:20180403T114253Z
UID:4778-1523476800-1523482200@klsonline.org
SUMMARY:Yom Ha Shoah Service
DESCRIPTION:8pm Yom HaShoah service – a special choral service for Holocaust Remembrance Day
URL:https://klsonline.org/event/yom-ha-shoah-service/
END:VEVENT
BEGIN:VEVENT
DTSTART;TZID=Europe/London:20180426T190000
DTEND;TZID=Europe/London:20180426T203000
DTSTAMP:20260420T190325
CREATED:20180423T084006Z
LAST-MODIFIED:20200303T163319Z
UID:4812-1524769200-1524774600@klsonline.org
SUMMARY:Krav Mega (Self-Defence)
DESCRIPTION:Weekly 90 minute class on most Thursdays 7.00-8.30pm\n\nStay sharp. Be fit. Burn 1000 calories. Look after yourself. \nBe aware\, confident\, safe!  Burn calories and improve fitness! \nAdult self-defence classes (Urban Krav Maga) run on most Thursdays at 7pm. \nFirst class free – but please book in advance via the office. \nKrav Maga is great for awareness\, confidence\, exercise\, fitness\, stress and self defence. \nYou don’t have to be fit to start but your fitness will improve. \nGeared to mixed ages and abilities\, minimum age is 18\, beginners welcome. \nCost – £10 per session\, paid directly to the external trainer. \nPlease contact the KLS Office for more information if you would like to try Krav Maga. \n 
URL:https://klsonline.org/event/krav-mega-self-defence/
CATEGORIES:Education and Classes
END:VEVENT
BEGIN:VEVENT
DTSTART;TZID=Europe/London:20180428T100000
DTEND;TZID=Europe/London:20180428T110000
DTSTAMP:20260420T190325
CREATED:20180424T094959Z
LAST-MODIFIED:20200303T163319Z
UID:4863-1524909600-1524913200@klsonline.org
SUMMARY:Bookcrashers
DESCRIPTION:Bookcrashers\n\nThe KLS book group discuss East West Street: On the Origins of “Genocide” and “Crimes Against Humanity” by Philippe Sands
URL:https://klsonline.org/event/bookcrashers-21/
CATEGORIES:Education and Classes
END:VEVENT
END:VCALENDAR