BEGIN:VCALENDAR
VERSION:2.0
PRODID:-//Kingston Liberal Synagogue - ECPv6.15.17.1//NONSGML v1.0//EN
CALSCALE:GREGORIAN
METHOD:PUBLISH
X-ORIGINAL-URL:https://klsonline.org
X-WR-CALDESC:Events for Kingston Liberal Synagogue
REFRESH-INTERVAL;VALUE=DURATION:PT1H
X-Robots-Tag:noindex
X-PUBLISHED-TTL:PT1H
BEGIN:VTIMEZONE
TZID:Europe/London
BEGIN:DAYLIGHT
TZOFFSETFROM:+0000
TZOFFSETTO:+0100
TZNAME:BST
DTSTART:20170326T010000
END:DAYLIGHT
BEGIN:STANDARD
TZOFFSETFROM:+0100
TZOFFSETTO:+0000
TZNAME:GMT
DTSTART:20171029T010000
END:STANDARD
BEGIN:DAYLIGHT
TZOFFSETFROM:+0000
TZOFFSETTO:+0100
TZNAME:BST
DTSTART:20180325T010000
END:DAYLIGHT
BEGIN:STANDARD
TZOFFSETFROM:+0100
TZOFFSETTO:+0000
TZNAME:GMT
DTSTART:20181028T010000
END:STANDARD
BEGIN:DAYLIGHT
TZOFFSETFROM:+0000
TZOFFSETTO:+0100
TZNAME:BST
DTSTART:20190331T010000
END:DAYLIGHT
BEGIN:STANDARD
TZOFFSETFROM:+0100
TZOFFSETTO:+0000
TZNAME:GMT
DTSTART:20191027T010000
END:STANDARD
END:VTIMEZONE
BEGIN:VEVENT
DTSTART;VALUE=DATE:20180603
DTEND;VALUE=DATE:20180604
DTSTAMP:20260420T160301
CREATED:20180327T134247Z
LAST-MODIFIED:20200303T162725Z
UID:4771-1527984000-1528070399@klsonline.org
SUMMARY:Summer Ramble
DESCRIPTION:Join us at 10.15am\, 1.15pm or 2pm\, or throughout! \nPlease contact the synaogue office for further details. \nThe morning walk will start promptly at 10.15am and is 8 miles which will take around 3 hours at a moderate pace. The circular walk takes us through woodland and past a very picturesque lake. We return to the car park for lunch. (Please bring a picnic.) \nThe picnic lunch is at about 1.15pm at the car park where there are wooden benches with spectacular views over the rolling Surrey hills. \nThe afternoon walk starts from the same car park at 2.00pm and is a more leisurely 4 miles across farmland\, through meadows and some more woodland areas. We shall be stopping for a well-deserved drink at a local pub before completing the smaller loop back to the start again. \nThe whole day is around 12 miles or so but you are welcome to do either or both of the loops.
URL:https://klsonline.org/event/late-spring-walk/
CATEGORIES:Community Events
END:VEVENT
BEGIN:VEVENT
DTSTART;TZID=Europe/London:20180623T113000
DTEND;TZID=Europe/London:20180623T123000
DTSTAMP:20260420T160301
CREATED:20171115T150023Z
LAST-MODIFIED:20180424T092913Z
UID:4648-1529753400-1529757000@klsonline.org
SUMMARY:Family Service
DESCRIPTION:Family service held from 11.30am to 12.30pm.  The service will be led by Rabbi René and is relevant for all ages.  The children attending Beiteinu\, and their families\, join in with the service\, \n\n\n\n\nalong with the rest of the KLS family.  The service is followed by kiddush.\nSee Services for more information on the type of services that we hold at KLS.\n\n\nGuests are welcome to KLS\, but please contact the office beforehand.\n \n\n\n\n\n\n+ GOOGLE CALENDAR+ ICAL EXPORT
URL:https://klsonline.org/event/service-16-2018-05-12/
CATEGORIES:Regular Services
END:VEVENT
BEGIN:VEVENT
DTSTART;TZID=Europe/London:20180626T180000
DTEND;TZID=Europe/London:20180626T200000
DTSTAMP:20260420T160301
CREATED:20180424T083806Z
LAST-MODIFIED:20200303T162725Z
UID:4853-1530036000-1530043200@klsonline.org
SUMMARY:Jewish Arts Evening
DESCRIPTION:Jewish Arts Evening \nPembroke Lodge in Richmond Park\n\nArt\, music and poetry from members of local synagogues including KLS.\nAll proceeds to go to Nightingale House and new Nursery at Nightingale.
URL:https://klsonline.org/event/jewish-arts-evening/
CATEGORIES:Community Events
END:VEVENT
BEGIN:VEVENT
DTSTART;TZID=Europe/London:20180628T190000
DTEND;TZID=Europe/London:20180628T203000
DTSTAMP:20260420T160301
CREATED:20180423T084006Z
LAST-MODIFIED:20200303T163319Z
UID:4819-1530212400-1530217800@klsonline.org
SUMMARY:Krav Mega *CANCELLED*
DESCRIPTION:Weekly 90 minute class on most Thursdays 7.00-8.30pm\n\nStay sharp. Be fit. Burn 1000 calories. Look after yourself. \nBe aware\, confident\, safe!  Burn calories and improve fitness! \nAdult self-defence classes (Urban Krav Maga) run on most Thursdays at 7pm. \nFirst class free – but please book in advance via the office. \nKrav Maga is great for awareness\, confidence\, exercise\, fitness\, stress and self defence. \nYou don’t have to be fit to start but your fitness will improve. \nGeared to mixed ages and abilities\, minimum age is 18\, beginners welcome. \nCost – £10 per session\, paid directly to the external trainer. \nPlease contact the KLS Office for more information if you would like to try Krav Maga. \n 
URL:https://klsonline.org/event/krav-mega-self-defence-2018-06-14/
CATEGORIES:Education and Classes
END:VEVENT
END:VCALENDAR