BEGIN:VCALENDAR
VERSION:2.0
PRODID:-//Kingston Liberal Synagogue - ECPv6.15.17.1//NONSGML v1.0//EN
CALSCALE:GREGORIAN
METHOD:PUBLISH
X-WR-CALNAME:Kingston Liberal Synagogue
X-ORIGINAL-URL:https://klsonline.org
X-WR-CALDESC:Events for Kingston Liberal Synagogue
REFRESH-INTERVAL;VALUE=DURATION:PT1H
X-Robots-Tag:noindex
X-PUBLISHED-TTL:PT1H
BEGIN:VTIMEZONE
TZID:Europe/London
BEGIN:DAYLIGHT
TZOFFSETFROM:+0000
TZOFFSETTO:+0100
TZNAME:BST
DTSTART:20170326T010000
END:DAYLIGHT
BEGIN:STANDARD
TZOFFSETFROM:+0100
TZOFFSETTO:+0000
TZNAME:GMT
DTSTART:20171029T010000
END:STANDARD
BEGIN:DAYLIGHT
TZOFFSETFROM:+0000
TZOFFSETTO:+0100
TZNAME:BST
DTSTART:20180325T010000
END:DAYLIGHT
BEGIN:STANDARD
TZOFFSETFROM:+0100
TZOFFSETTO:+0000
TZNAME:GMT
DTSTART:20181028T010000
END:STANDARD
BEGIN:DAYLIGHT
TZOFFSETFROM:+0000
TZOFFSETTO:+0100
TZNAME:BST
DTSTART:20190331T010000
END:DAYLIGHT
BEGIN:STANDARD
TZOFFSETFROM:+0100
TZOFFSETTO:+0000
TZNAME:GMT
DTSTART:20191027T010000
END:STANDARD
END:VTIMEZONE
BEGIN:VEVENT
DTSTART;TZID=Europe/London:20181004T190000
DTEND;TZID=Europe/London:20181004T203000
DTSTAMP:20260420T092729
CREATED:20180423T084006Z
LAST-MODIFIED:20200303T163319Z
UID:4835-1538679600-1538685000@klsonline.org
SUMMARY:Krav Mega. Depending on weather\, please check venue for this evening.
DESCRIPTION:Weekly 90 minute class on most Thursdays 7.00-8.30pm\n\nStay sharp. Be fit. Burn 1000 calories. Look after yourself. \nBe aware\, confident\, safe!  Burn calories and improve fitness! \nAdult self-defence classes (Urban Krav Maga) run on most Thursdays at 7pm. \nFirst class free – but please book in advance via the office. \nKrav Maga is great for awareness\, confidence\, exercise\, fitness\, stress and self defence. \nYou don’t have to be fit to start but your fitness will improve. \nGeared to mixed ages and abilities\, minimum age is 18\, beginners welcome. \nCost – £10 per session\, paid directly to the external trainer. \nPlease contact the KLS Office for more information if you would like to try Krav Maga. \n 
URL:https://klsonline.org/event/krav-mega-self-defence-2018-10-04/
CATEGORIES:Education and Classes
END:VEVENT
BEGIN:VEVENT
DTSTART;TZID=Europe/London:20181006T111500
DTEND;TZID=Europe/London:20181006T123000
DTSTAMP:20260420T092729
CREATED:20180820T110334Z
LAST-MODIFIED:20180828T112725Z
UID:4988-1538824500-1538829000@klsonline.org
SUMMARY:Family Service & Kitah Aleph
DESCRIPTION:Family service held from 11.15am to 12.30pm.  The service will be led by Rabbi René and is relevant for all ages.  The children attending Beiteinu\, Kitah Aleph and their families\, join in with the service\, \n\n\n\n\nalong with the rest of the KLS family.  The service is followed by kiddush.\nSee Services for more information on the type of services that we hold at KLS.
URL:https://klsonline.org/event/family-service-11/
CATEGORIES:Regular Services
END:VEVENT
BEGIN:VEVENT
DTSTART;TZID=Europe/London:20181012T200000
DTEND;TZID=Europe/London:20181012T213000
DTSTAMP:20260420T092729
CREATED:20140508T115556Z
LAST-MODIFIED:20171115T141058Z
UID:4508-1539374400-1539379800@klsonline.org
SUMMARY:Shabbat @ Home
DESCRIPTION:On the second Friday of each month a member invites us to welcome Shabbat at home with them. The service is informal and friendly\, from our siddur\, but please feel free to bring a reading or a topic for discussion.  Please bring something to share for the Kiddush. \nThe venue for this month is to be confirmed.  Please contact the office for the address and to let us know you intend to come (but you won’t be turned away if you don’t). \nHosts needed:  If you would like to host one of these services in future months\, please contact the Synagogue Office. \n 
URL:https://klsonline.org/event/shabbat-home-2014-10-10-2015-04-10-2015-10-09-2018-10-12/
CATEGORIES:Regular Services
END:VEVENT
BEGIN:VEVENT
DTSTART;TZID=Europe/London:20181026T200000
DTEND;TZID=Europe/London:20181026T213000
DTSTAMP:20260420T092729
CREATED:20180108T180312Z
LAST-MODIFIED:20181004T074916Z
UID:4691-1540584000-1540589400@klsonline.org
SUMMARY:Shabbat Island Discs & Choral Service
DESCRIPTION:Service held with the KLS Choir led by Rabbi René and our Director of Music\, Rebekkah Weddell.  Our members also regularly share their ‘Desert Island Discs’ during the service.  Please bring something sweet or savoury (but must be vegetarian!) to share for Kiddush. \nSee Services for more information on the type of services held at KLS. \nGuests are welcome to KLS but please contact the office beforehand.
URL:https://klsonline.org/event/choral-service-with-shabbat-island-discs-2018-02-23-2018-10-26/
CATEGORIES:Regular Services
END:VEVENT
END:VCALENDAR