BEGIN:VCALENDAR
VERSION:2.0
PRODID:-//Kingston Liberal Synagogue - ECPv6.15.17.1//NONSGML v1.0//EN
CALSCALE:GREGORIAN
METHOD:PUBLISH
X-WR-CALNAME:Kingston Liberal Synagogue
X-ORIGINAL-URL:https://klsonline.org
X-WR-CALDESC:Events for Kingston Liberal Synagogue
REFRESH-INTERVAL;VALUE=DURATION:PT1H
X-Robots-Tag:noindex
X-PUBLISHED-TTL:PT1H
BEGIN:VTIMEZONE
TZID:Europe/London
BEGIN:DAYLIGHT
TZOFFSETFROM:+0000
TZOFFSETTO:+0100
TZNAME:BST
DTSTART:20170326T010000
END:DAYLIGHT
BEGIN:STANDARD
TZOFFSETFROM:+0100
TZOFFSETTO:+0000
TZNAME:GMT
DTSTART:20171029T010000
END:STANDARD
BEGIN:DAYLIGHT
TZOFFSETFROM:+0000
TZOFFSETTO:+0100
TZNAME:BST
DTSTART:20180325T010000
END:DAYLIGHT
BEGIN:STANDARD
TZOFFSETFROM:+0100
TZOFFSETTO:+0000
TZNAME:GMT
DTSTART:20181028T010000
END:STANDARD
BEGIN:DAYLIGHT
TZOFFSETFROM:+0000
TZOFFSETTO:+0100
TZNAME:BST
DTSTART:20190331T010000
END:DAYLIGHT
BEGIN:STANDARD
TZOFFSETFROM:+0100
TZOFFSETTO:+0000
TZNAME:GMT
DTSTART:20191027T010000
END:STANDARD
END:VTIMEZONE
BEGIN:VEVENT
DTSTART;TZID=Europe/London:20181201T111500
DTEND;TZID=Europe/London:20181201T123000
DTSTAMP:20260420T060806
CREATED:20180820T110528Z
LAST-MODIFIED:20180828T112614Z
UID:4989-1543662900-1543667400@klsonline.org
SUMMARY:Family Service & Kitah Aleph
DESCRIPTION:Family service held from 11.15am to 12.30pm.  The service will be led by Rabbi René and is relevant for all ages.  The children attending Beiteinu\, Kitah Aleph and their families\, join in with the service\, \n\n\n\n\n\nalong with the rest of the KLS family.  The service is followed by kiddush.\n\nSee Services for more information on the type of services that we hold at KLS.
URL:https://klsonline.org/event/family-service-kitah-aleph-2/
CATEGORIES:Regular Services
END:VEVENT
BEGIN:VEVENT
DTSTART;TZID=Europe/London:20181202T170000
DTEND;TZID=Europe/London:20181202T180000
DTSTAMP:20260420T060806
CREATED:20180821T125653Z
LAST-MODIFIED:20180821T125653Z
UID:5004-1543770000-1543773600@klsonline.org
SUMMARY:Chanukah@KLS
DESCRIPTION:Celebrate the first night of Chanukah with Rabbi Rene and our Beiteinu children.
URL:https://klsonline.org/event/chanukahkls/
CATEGORIES:Festivals
END:VEVENT
BEGIN:VEVENT
DTSTART;TZID=Europe/London:20181203T193000
DTEND;TZID=Europe/London:20181203T210000
DTSTAMP:20260420T060806
CREATED:20180821T130047Z
LAST-MODIFIED:20180821T130047Z
UID:5005-1543865400-1543870800@klsonline.org
SUMMARY:Chanukah@Home
DESCRIPTION:Join us as we celebrate Chanukah at a member’s home.  The service is informal and friendly.  Please bring your own chanukiah and something to share for the Kiddush. \nPlease contact the office for the address and to let us know you intend to come.
URL:https://klsonline.org/event/chanukahhome/
CATEGORIES:Festivals
END:VEVENT
BEGIN:VEVENT
DTSTART;TZID=Europe/London:20181206T070000
DTEND;TZID=Europe/London:20181206T210000
DTSTAMP:20260420T060806
CREATED:20180821T130503Z
LAST-MODIFIED:20180821T130503Z
UID:5008-1544079600-1544130000@klsonline.org
SUMMARY:Interfaith Chanukah @ KLS
DESCRIPTION:Join us for a very special Chanukah Service and candle lighting with Rabbi Rene\, together with our community and guests from other faiths.
URL:https://klsonline.org/event/interfaith-chanukah-kls/
CATEGORIES:Festivals
END:VEVENT
BEGIN:VEVENT
DTSTART;TZID=Europe/London:20181207T200000
DTEND;TZID=Europe/London:20181207T213000
DTSTAMP:20260420T060806
CREATED:20180824T134555Z
LAST-MODIFIED:20180824T134555Z
UID:5013-1544212800-1544218200@klsonline.org
SUMMARY:Chanukah@Home
DESCRIPTION:A member of the community will be hosting a Chanukah celebration and candlelighting in their home. The service is informal and friendly.  Please bring something to share for the Kiddush and a chanukiah. \nThe venue for this month is to be confirmed.  Please contact the office for the address .
URL:https://klsonline.org/event/chanukahhome-2/
CATEGORIES:Festivals
END:VEVENT
BEGIN:VEVENT
DTSTART;TZID=Europe/London:20181209T160000
DTEND;TZID=Europe/London:20181209T183000
DTSTAMP:20260420T060806
CREATED:20180824T135013Z
LAST-MODIFIED:20180824T135013Z
UID:5015-1544371200-1544380200@klsonline.org
SUMMARY:Chanukah@KLS
DESCRIPTION:For the last night of Chanukah\, join us for a very special service and candle lighting with Rabbi Rene and our community.  Please contact the office if you wish to attend.
URL:https://klsonline.org/event/chanukahkls-2/
CATEGORIES:Festivals
END:VEVENT
BEGIN:VEVENT
DTSTART;TZID=Europe/London:20181210T110000
DTEND;TZID=Europe/London:20181210T123000
DTSTAMP:20260420T060806
CREATED:20181210T142347Z
LAST-MODIFIED:20181210T144915Z
UID:5221-1544439600-1544445000@klsonline.org
SUMMARY:
DESCRIPTION: 
URL:https://klsonline.org/event/family-service-kitah-alef/
CATEGORIES:Regular Services
END:VEVENT
BEGIN:VEVENT
DTSTART;TZID=Europe/London:20181210T200000
DTEND;TZID=Europe/London:20181210T213000
DTSTAMP:20260420T060806
CREATED:20181210T134535Z
LAST-MODIFIED:20181210T144654Z
UID:5194-1544472000-1544477400@klsonline.org
SUMMARY:
DESCRIPTION: 
URL:https://klsonline.org/event/erev-shabbat-service/
CATEGORIES:Regular Services
END:VEVENT
BEGIN:VEVENT
DTSTART;TZID=Europe/London:20181214T200000
DTEND;TZID=Europe/London:20181214T213000
DTSTAMP:20260420T060806
CREATED:20180824T135314Z
LAST-MODIFIED:20180824T135314Z
UID:5017-1544817600-1544823000@klsonline.org
SUMMARY:Shabbat Service
DESCRIPTION:Shabbat Service.  Please bring something to share for the Kiddush.
URL:https://klsonline.org/event/shabbat-service-22/
CATEGORIES:Regular Services
END:VEVENT
BEGIN:VEVENT
DTSTART;TZID=Europe/London:20181221T200000
DTEND;TZID=Europe/London:20181221T213000
DTSTAMP:20260420T060806
CREATED:20180824T135448Z
LAST-MODIFIED:20180824T135448Z
UID:5018-1545422400-1545427800@klsonline.org
SUMMARY:Choral Service
DESCRIPTION:Service held with the KLS Choir led by Rabbi René and our Director of Music\, Rebekkah Weddell.  Our members also regularly share their ‘Desert Island Discs’ during the service.  Please bring something sweet or savoury (but must be vegetarian!) to share for Kiddush. \nSee Services for more information on the type of services held at KLS. \nGuests are welcome to KLS but please contact the office beforehand.
URL:https://klsonline.org/event/choral-service-2/
CATEGORIES:Regular Services
END:VEVENT
BEGIN:VEVENT
DTSTART;TZID=Europe/London:20181228T200000
DTEND;TZID=Europe/London:20181228T213000
DTSTAMP:20260420T060806
CREATED:20180824T135716Z
LAST-MODIFIED:20180824T135716Z
UID:5020-1546027200-1546032600@klsonline.org
SUMMARY:Shabbat Service
DESCRIPTION:Please bring something to share for Kiddush. Guests are welcome to KLS\, but please contact the office beforehand.
URL:https://klsonline.org/event/shabbat-service-23/
CATEGORIES:Regular Services
END:VEVENT
END:VCALENDAR