BEGIN:VCALENDAR
VERSION:2.0
PRODID:-//Kingston Liberal Synagogue - ECPv6.15.17.1//NONSGML v1.0//EN
CALSCALE:GREGORIAN
METHOD:PUBLISH
X-WR-CALNAME:Kingston Liberal Synagogue
X-ORIGINAL-URL:https://klsonline.org
X-WR-CALDESC:Events for Kingston Liberal Synagogue
REFRESH-INTERVAL;VALUE=DURATION:PT1H
X-Robots-Tag:noindex
X-PUBLISHED-TTL:PT1H
BEGIN:VTIMEZONE
TZID:Europe/London
BEGIN:DAYLIGHT
TZOFFSETFROM:+0000
TZOFFSETTO:+0100
TZNAME:BST
DTSTART:20180325T010000
END:DAYLIGHT
BEGIN:STANDARD
TZOFFSETFROM:+0100
TZOFFSETTO:+0000
TZNAME:GMT
DTSTART:20181028T010000
END:STANDARD
BEGIN:DAYLIGHT
TZOFFSETFROM:+0000
TZOFFSETTO:+0100
TZNAME:BST
DTSTART:20190331T010000
END:DAYLIGHT
BEGIN:STANDARD
TZOFFSETFROM:+0100
TZOFFSETTO:+0000
TZNAME:GMT
DTSTART:20191027T010000
END:STANDARD
BEGIN:DAYLIGHT
TZOFFSETFROM:+0000
TZOFFSETTO:+0100
TZNAME:BST
DTSTART:20200329T010000
END:DAYLIGHT
BEGIN:STANDARD
TZOFFSETFROM:+0100
TZOFFSETTO:+0000
TZNAME:GMT
DTSTART:20201025T010000
END:STANDARD
END:VTIMEZONE
BEGIN:VEVENT
DTSTART;TZID=Europe/London:20190301T190000
DTEND;TZID=Europe/London:20190301T213000
DTSTAMP:20260420T004706
CREATED:20181210T140421Z
LAST-MODIFIED:20181210T140526Z
UID:5208-1551466800-1551475800@klsonline.org
SUMMARY:Chavorah Supper
DESCRIPTION:Monthly 1st Friday of  the month\nYou are warmly invited to this year’s Chavorah Suppers\, a great way to relax\, let go of the week and welcome in Shabbat with other KLS members. Using the LJ Youth Siddur\, we will be singing together\, sharing our stories from the week that has gone\, de-stressing\, and most importantly sharing food\, in an informal Friday night service and shared supper.  Please bring a plated vegetarian or fish supper and\, if possible\,  a favourite dish to share.  All ages welcome. \nGuests are welcome to services @ KLS\, but please contact the office beforehand. \n 
URL:https://klsonline.org/event/chavorah-supper/
CATEGORIES:Regular Services
END:VEVENT
BEGIN:VEVENT
DTSTART;TZID=Europe/London:20190319T200000
DTEND;TZID=Europe/London:20190319T220000
DTSTAMP:20260420T004706
CREATED:20140508T105910Z
LAST-MODIFIED:20200303T163318Z
UID:4760-1553025600-1553032800@klsonline.org
SUMMARY:Table Tennis Club
DESCRIPTION:2nd Tuesday of the month from 8-10pm \nAll welcome to join us for a friendly game of table tennis.  We meet monthly\, usually on the second Tuesday of the month\, at the synagogue in the NFJ Hall.  All ages and all abilities.  The club recently received a new table in celebration of Robert Markless’s tutorship of 100 Bnei Mitzvah. \nWe have two tables and play singles as well as doubles. We usually end the evening with all around the table\, when people have to keep moving around and hitting alternatively\, losing a “life” every time they lose a point. After three lives\, a person falls out. This continues until two left and they then play a best of five points singles. It can be very hectic at times\, but good fun. \nWe took part in a national tournament in 2012 and won a trophy! \nPlease contact the Synagogue Office if you would like to join us \nThe new table tennis table is “christened”!!!\n. \n 
URL:https://klsonline.org/event/table-tennis-club-2019-03-12/
LOCATION:NFJ Hall
CATEGORIES:Education and Classes
END:VEVENT
BEGIN:VEVENT
DTSTART;TZID=Europe/London:20190320T200000
DTEND;TZID=Europe/London:20190320T220000
DTSTAMP:20260420T004706
CREATED:20181211T104010Z
LAST-MODIFIED:20181211T104045Z
UID:5247-1553112000-1553119200@klsonline.org
SUMMARY:Erev Purim @ KLS
DESCRIPTION:ערב פורים\nJoin Rabbi René in celebrating the festival of Purim in the traditional way: The Megillah (scroll) containing the book of Esther is read to the congregation  who boo (pantomime style) whenever Haman’s name is mentioned\, making enough noise to blot out his name. \nGuests are very welcome at KLS\, but please contact the office first. \nFor more information about Purim click here.
URL:https://klsonline.org/event/erev-purim-kls/
CATEGORIES:Festivals
END:VEVENT
END:VCALENDAR