BEGIN:VCALENDAR
VERSION:2.0
PRODID:-//Kingston Liberal Synagogue - ECPv6.15.17.1//NONSGML v1.0//EN
CALSCALE:GREGORIAN
METHOD:PUBLISH
X-WR-CALNAME:Kingston Liberal Synagogue
X-ORIGINAL-URL:https://klsonline.org
X-WR-CALDESC:Events for Kingston Liberal Synagogue
REFRESH-INTERVAL;VALUE=DURATION:PT1H
X-Robots-Tag:noindex
X-PUBLISHED-TTL:PT1H
BEGIN:VTIMEZONE
TZID:Europe/London
BEGIN:DAYLIGHT
TZOFFSETFROM:+0000
TZOFFSETTO:+0100
TZNAME:BST
DTSTART:20180325T010000
END:DAYLIGHT
BEGIN:STANDARD
TZOFFSETFROM:+0100
TZOFFSETTO:+0000
TZNAME:GMT
DTSTART:20181028T010000
END:STANDARD
BEGIN:DAYLIGHT
TZOFFSETFROM:+0000
TZOFFSETTO:+0100
TZNAME:BST
DTSTART:20190331T010000
END:DAYLIGHT
BEGIN:STANDARD
TZOFFSETFROM:+0100
TZOFFSETTO:+0000
TZNAME:GMT
DTSTART:20191027T010000
END:STANDARD
BEGIN:DAYLIGHT
TZOFFSETFROM:+0000
TZOFFSETTO:+0100
TZNAME:BST
DTSTART:20200329T010000
END:DAYLIGHT
BEGIN:STANDARD
TZOFFSETFROM:+0100
TZOFFSETTO:+0000
TZNAME:GMT
DTSTART:20201025T010000
END:STANDARD
END:VTIMEZONE
BEGIN:VEVENT
DTSTART;TZID=Europe/London:20190503T190000
DTEND;TZID=Europe/London:20190503T213000
DTSTAMP:20260419T213032
CREATED:20181210T140421Z
LAST-MODIFIED:20190430T131836Z
UID:5210-1556910000-1556919000@klsonline.org
SUMMARY:Chavorah Supper with guest Rabbi Rachel Benamin
DESCRIPTION:Monthly 1st Friday of  the month\nYou are warmly invited to this year’s Chavorah Suppers\, a great way to relax\, let go of the week and welcome in Shabbat with other KLS members. Using the LJ Youth Siddur\, we will be singing together\, sharing our stories from the week that has gone\, de-stressing\, and most importantly sharing food\, in an informal Friday night service and shared supper.  Please bring a plated vegetarian or fish supper and\, if possible\,  a favourite dish to share.  All ages welcome. \nGuests are welcome to services @ KLS\, but please contact the office beforehand. \n 
URL:https://klsonline.org/event/chavorah-supper-2019-05-03/
CATEGORIES:Regular Services
END:VEVENT
BEGIN:VEVENT
DTSTART;TZID=Europe/London:20190504T110000
DTEND;TZID=Europe/London:20190504T123000
DTSTAMP:20260419T213032
CREATED:20181210T142347Z
LAST-MODIFIED:20190430T131712Z
UID:5226-1556967600-1556973000@klsonline.org
SUMMARY:Family Service & Kitah Alef with guest Rabbi Rachel Benjamin
DESCRIPTION:Family service held from 11.00am to 12.30pm.  The service will be led by Rabbi René and is relevant for all ages.  The children attending Beiteinu\, Kitah Aleph and their families\, join in with the service\, \n\n\n\n\nalong with the rest of the KLS family.  The service is followed by kiddush.\nSee Services for more information on the type of services that we hold at KLS.
URL:https://klsonline.org/event/family-service-kitah-alef-2019-01-05-2019-05-04/
CATEGORIES:Regular Services
END:VEVENT
BEGIN:VEVENT
DTSTART;TZID=Europe/London:20190511T080000
DTEND;TZID=Europe/London:20190511T170000
DTSTAMP:20260419T213032
CREATED:20190430T132433Z
LAST-MODIFIED:20200303T163318Z
UID:5740-1557561600-1557594000@klsonline.org
SUMMARY:Bookcrashers
DESCRIPTION:The Book Club of KLS!\nPlease refer to your weekly What’s On news Bulletin for current book being read or contact the synagogue office for further details.
URL:https://klsonline.org/event/bookcrashers-22/
CATEGORIES:Education and Classes
END:VEVENT
BEGIN:VEVENT
DTSTART;TZID=Europe/London:20190515T193000
DTEND;TZID=Europe/London:20190515T213000
DTSTAMP:20260419T213032
CREATED:20190413T075936Z
LAST-MODIFIED:20190413T075936Z
UID:5710-1557948600-1557955800@klsonline.org
SUMMARY:Author Talk: Tamar Hodes\, The Water and the Wine
DESCRIPTION:£5 DONATION at the door. ENTRY BY TICKET ONLY.\n\nSet on the Greek island of Hydra in the sixties\, the book is a fictionalised account\, based on research\, of the lives of the artists and writers who lived there. The main focus is on Leonard Cohen – his poetry\, his music\, his love for Marianne and his Judaism. Tamar and her family also lived on Hydra at that time. \nTamar will be happy to sign copies of her book. \n\nLight refreshments will be served.\n\nTickets available: \nhttps://www.eventbrite.co.uk/e/author-talk-tamar-hodes-tickets-60302917650?aff=ebdssbdestsearch
URL:https://klsonline.org/event/author-talk-tamar-hodes-the-water-and-the-wine/
END:VEVENT
BEGIN:VEVENT
DTSTART;TZID=Europe/London:20190523T070000
DTEND;TZID=Europe/London:20190523T220000
DTSTAMP:20260419T213032
CREATED:20190423T112106Z
LAST-MODIFIED:20200303T162724Z
UID:5729-1558594800-1558648800@klsonline.org
SUMMARY:Polling Station (if European elections are held)
DESCRIPTION:
URL:https://klsonline.org/event/polling-station-if-european-elections-are-held/
CATEGORIES:Community Events
END:VEVENT
END:VCALENDAR