BEGIN:VCALENDAR
VERSION:2.0
PRODID:-//Kingston Liberal Synagogue - ECPv6.15.17.1//NONSGML v1.0//EN
CALSCALE:GREGORIAN
METHOD:PUBLISH
X-WR-CALNAME:Kingston Liberal Synagogue
X-ORIGINAL-URL:https://klsonline.org
X-WR-CALDESC:Events for Kingston Liberal Synagogue
REFRESH-INTERVAL;VALUE=DURATION:PT1H
X-Robots-Tag:noindex
X-PUBLISHED-TTL:PT1H
BEGIN:VTIMEZONE
TZID:Europe/London
BEGIN:DAYLIGHT
TZOFFSETFROM:+0000
TZOFFSETTO:+0100
TZNAME:BST
DTSTART:20180325T010000
END:DAYLIGHT
BEGIN:STANDARD
TZOFFSETFROM:+0100
TZOFFSETTO:+0000
TZNAME:GMT
DTSTART:20181028T010000
END:STANDARD
BEGIN:DAYLIGHT
TZOFFSETFROM:+0000
TZOFFSETTO:+0100
TZNAME:BST
DTSTART:20190331T010000
END:DAYLIGHT
BEGIN:STANDARD
TZOFFSETFROM:+0100
TZOFFSETTO:+0000
TZNAME:GMT
DTSTART:20191027T010000
END:STANDARD
BEGIN:DAYLIGHT
TZOFFSETFROM:+0000
TZOFFSETTO:+0100
TZNAME:BST
DTSTART:20200329T010000
END:DAYLIGHT
BEGIN:STANDARD
TZOFFSETFROM:+0100
TZOFFSETTO:+0000
TZNAME:GMT
DTSTART:20201025T010000
END:STANDARD
END:VTIMEZONE
BEGIN:VEVENT
DTSTART;TZID=Europe/London:20190602T110000
DTEND;TZID=Europe/London:20190602T130000
DTSTAMP:20260419T200147
CREATED:20190507T132652Z
LAST-MODIFIED:20200303T162724Z
UID:5758-1559473200-1559480400@klsonline.org
SUMMARY:AGM and Members' Lunch
DESCRIPTION:
URL:https://klsonline.org/event/agm-and-members-lunch/
CATEGORIES:Community Events
END:VEVENT
BEGIN:VEVENT
DTSTART;TZID=Europe/London:20190608T190000
DTEND;TZID=Europe/London:20190608T210000
DTSTAMP:20260419T200147
CREATED:20181211T121531Z
LAST-MODIFIED:20190430T132546Z
UID:5351-1560020400-1560027600@klsonline.org
SUMMARY:Erev Shavuot Evening Chavorah
DESCRIPTION:7pm  Erev Shavuot Service led by Rabbi Rene when we shall celebrate the giving of the Torah. \nPlease bring something vegetarian to share for our shared evening meal.
URL:https://klsonline.org/event/erev-shavuot-chavorah/
CATEGORIES:Festivals
END:VEVENT
BEGIN:VEVENT
DTSTART;TZID=Europe/London:20190630T150000
DTEND;TZID=Europe/London:20190630T170000
DTSTAMP:20260419T200147
CREATED:20190507T134325Z
LAST-MODIFIED:20200303T162724Z
UID:5759-1561906800-1561914000@klsonline.org
SUMMARY:KLS Garden Party
DESCRIPTION:Please contact the office for further information or to confirm your attendance. \nTIMES TO BE CONFIRMED
URL:https://klsonline.org/event/kls-garden-party/
CATEGORIES:Community Events
END:VEVENT
END:VCALENDAR