BEGIN:VCALENDAR
VERSION:2.0
PRODID:-//Kingston Liberal Synagogue - ECPv6.15.17.1//NONSGML v1.0//EN
CALSCALE:GREGORIAN
METHOD:PUBLISH
X-WR-CALNAME:Kingston Liberal Synagogue
X-ORIGINAL-URL:https://klsonline.org
X-WR-CALDESC:Events for Kingston Liberal Synagogue
REFRESH-INTERVAL;VALUE=DURATION:PT1H
X-Robots-Tag:noindex
X-PUBLISHED-TTL:PT1H
BEGIN:VTIMEZONE
TZID:Europe/London
BEGIN:DAYLIGHT
TZOFFSETFROM:+0000
TZOFFSETTO:+0100
TZNAME:BST
DTSTART:20180325T010000
END:DAYLIGHT
BEGIN:STANDARD
TZOFFSETFROM:+0100
TZOFFSETTO:+0000
TZNAME:GMT
DTSTART:20181028T010000
END:STANDARD
BEGIN:DAYLIGHT
TZOFFSETFROM:+0000
TZOFFSETTO:+0100
TZNAME:BST
DTSTART:20190331T010000
END:DAYLIGHT
BEGIN:STANDARD
TZOFFSETFROM:+0100
TZOFFSETTO:+0000
TZNAME:GMT
DTSTART:20191027T010000
END:STANDARD
BEGIN:DAYLIGHT
TZOFFSETFROM:+0000
TZOFFSETTO:+0100
TZNAME:BST
DTSTART:20200329T010000
END:DAYLIGHT
BEGIN:STANDARD
TZOFFSETFROM:+0100
TZOFFSETTO:+0000
TZNAME:GMT
DTSTART:20201025T010000
END:STANDARD
END:VTIMEZONE
BEGIN:VEVENT
DTSTART;TZID=Europe/London:20190901T123000
DTEND;TZID=Europe/London:20190901T170000
DTSTAMP:20260417T221829
CREATED:20190827T114605Z
LAST-MODIFIED:20200303T162724Z
UID:6029-1567341000-1567357200@klsonline.org
SUMMARY:Picnic in the Park
DESCRIPTION:Join us for our annual picnic and rounders match with fun games for all ages.\nIf you are feeling energetic\, you can take part in the annual rounders match in which Team Rabbi takes on Team Chair.\nBring a blanket\, food\, drink\, any outdoor games and trainers. For ultimate comfort\, bring a chair!\nFriends and extended family welcome. \nPlease contact the office for venue details. \nWe look forward to seeing you!
URL:https://klsonline.org/event/picnic-in-the-park-2/
CATEGORIES:Community Events
END:VEVENT
BEGIN:VEVENT
DTSTART;TZID=Europe/London:20190910T200000
DTEND;TZID=Europe/London:20190910T220000
DTSTAMP:20260417T221829
CREATED:20190719T080024Z
LAST-MODIFIED:20200303T163318Z
UID:5949-1568145600-1568152800@klsonline.org
SUMMARY:Table Tennis
DESCRIPTION:2nd Tuesday of the month from 8-10pm \nAll welcome to join us for a friendly game of table tennis.  We meet monthly\, usually on the second Tuesday of the month\, at the synagogue in the NFJ Hall.  All ages and all abilities.  The club recently received a new table in celebration of Robert Markless’s tutorship of 100 Bnei Mitzvah. \nWe have two tables and play singles as well as doubles. We usually end the evening with all around the table\, when people have to keep moving around and hitting alternatively\, losing a “life” every time they lose a point. After three lives\, a person falls out. This continues until two left and they then play a best of five points singles. It can be very hectic at times\, but good fun. \nWe took part in a national tournament in 2012 and won a trophy! \nPlease contact the Synagogue Office if you would like to join us \n \n. \n 
URL:https://klsonline.org/event/table-tennis/
CATEGORIES:Education and Classes
END:VEVENT
BEGIN:VEVENT
DTSTART;VALUE=DATE:20190915
DTEND;VALUE=DATE:20190916
DTSTAMP:20260417T221829
CREATED:20190705T111341Z
LAST-MODIFIED:20200303T162724Z
UID:5905-1568505600-1568591999@klsonline.org
SUMMARY:Late Summer Walk
DESCRIPTION:Please see the Bulletin for further details\, or contact the Synagogue Office.
URL:https://klsonline.org/event/late-summer-walk/
CATEGORIES:Community Events
END:VEVENT
BEGIN:VEVENT
DTSTART;TZID=Europe/London:20190921T200000
DTEND;TZID=Europe/London:20190921T200000
DTSTAMP:20260417T221829
CREATED:20190711T104400Z
LAST-MODIFIED:20190711T104400Z
UID:5917-1569096000-1569096000@klsonline.org
SUMMARY:Selichot
DESCRIPTION:Do join us for this special Choral Service.  Please contact the office if you wish to attend.
URL:https://klsonline.org/event/selichot-4/
CATEGORIES:Festivals
END:VEVENT
BEGIN:VEVENT
DTSTART;TZID=Europe/London:20190927T200000
DTEND;TZID=Europe/London:20190927T213000
DTSTAMP:20260417T221829
CREATED:20180108T180312Z
LAST-MODIFIED:20190722T112213Z
UID:5043-1569614400-1569619800@klsonline.org
SUMMARY:Musical Shabbat
DESCRIPTION:Service held with Rabbi René and Robert Simmons and his guitar. \nPlease bring something sweet (vegetarian!) to share for Kiddush. \nGuests are welcome to KLS but please contact the office beforehand.
URL:https://klsonline.org/event/choral-service-with-shabbat-island-discs-2018-02-23-2019-09-27/
CATEGORIES:Regular Services
END:VEVENT
BEGIN:VEVENT
DTSTART;TZID=Europe/London:20190929T190000
DTEND;TZID=Europe/London:20190929T210000
DTSTAMP:20260417T221829
CREATED:20190711T104852Z
LAST-MODIFIED:20190711T104852Z
UID:5918-1569783600-1569790800@klsonline.org
SUMMARY:Erev Rosh Hashanah
DESCRIPTION:Join us for a Musical Service & Seder Shel Rosh Hashanah Chavorah. \nIf you are not a member of KLS\, please purchase tickets for any of the High Holy Day services by contacting the synagogue office on: office@klsonline.org.
URL:https://klsonline.org/event/erev-rosh-hashanah-4/
CATEGORIES:Festivals
END:VEVENT
BEGIN:VEVENT
DTSTART;TZID=Europe/London:20190930T103000
DTEND;TZID=Europe/London:20190930T130000
DTSTAMP:20260417T221829
CREATED:20190711T104950Z
LAST-MODIFIED:20190711T104950Z
UID:5919-1569839400-1569848400@klsonline.org
SUMMARY:Rosh Hashanah
DESCRIPTION:If you are not a member of KLS\, please purchase tickets for any of the High Holy Day services by contacting the synagogue office on: office@klsonline.org.
URL:https://klsonline.org/event/rosh-hashanah-4/
CATEGORIES:Festivals
END:VEVENT
END:VCALENDAR